Rgraphviz 2.20.0 Kasper Daniel Hansen
 | Snapshot Date: 2017-08-15 17:17:57 -0400 (Tue, 15 Aug 2017) |  | URL: https://hedgehog.fhcrc.org/bioconductor/branches/RELEASE_3_5/madman/Rpacks/Rgraphviz |  | Last Changed Rev: 129126 / Revision: 131943 |  | Last Changed Date: 2017-04-24 15:25:24 -0400 (Mon, 24 Apr 2017) |  
  | malbec2  | Linux (Ubuntu 16.04.1 LTS) / x86_64  |  OK  |  OK  |  OK  |  |   | 
| tokay2  | Windows Server 2012 R2 Standard / x64  |  OK  |  OK  |  OK  | [ OK ] |   | 
| veracruz2  | OS X 10.11.6 El Capitan / x86_64  |  OK  |  OK  |  OK  |  OK  |   | 
##############################################################################
##############################################################################
###
### Running command:
###
###   cd Rgraphviz.buildbin-libdir/Rgraphviz && zip -r ../../Rgraphviz_2.20.0.zip . & cd ../..
###
##############################################################################
##############################################################################
  adding: DESCRIPTION (264 bytes security) (deflated 52%)
  adding: doc/ (304 bytes security) (stored 0%)
  adding: doc/index.html (264 bytes security) (deflated 68%)
  adding: doc/newRgraphvizInterface.pdf (264 bytes security) (deflated 27%)
  adding: doc/newRgraphvizInterface.R (264 bytes security) (deflated 79%)
  adding: doc/newRgraphvizInterface.Rnw (264 bytes security) (deflated 67%)
  adding: doc/Rgraphviz.pdf (264 bytes security) (deflated 23%)
  adding: doc/Rgraphviz.R (264 bytes security) (deflated 79%)
  adding: doc/Rgraphviz.Rnw (264 bytes security) (deflated 67%)
  adding: help/ (304 bytes security) (stored 0%)
  adding: help/aliases.rds (264 bytes security) (stored 0%)
  adding: help/AnIndex (264 bytes security) (deflated 83%)
  adding: help/paths.rds (264 bytes security) (stored 0%)
  adding: help/Rgraphviz.rdb (264 bytes security) (deflated 1%)
  adding: help/Rgraphviz.rdx (264 bytes security) (stored 0%)
  adding: html/ (304 bytes security) (stored 0%)
  adding: html/00Index.html (264 bytes security) (deflated 91%)
  adding: html/R.css (264 bytes security) (deflated 75%)
  adding: INDEX (264 bytes security) (deflated 69%)
  adding: libs/ (304 bytes security) (stored 0%)
  adding: libs/i386/ (304 bytes security) (stored 0%)
  adding: libs/i386/Rgraphviz.dll (264 bytes security) (deflated 52%)
  adding: libs/x64/ (304 bytes security) (stored 0%)
  adding: libs/x64/Rgraphviz.dll (264 bytes security) (deflated 51%)
  adding: MD5 (264 bytes security) (deflated 48%)
  adding: Meta/ (304 bytes security) (stored 0%)
  adding: Meta/features.rds (264 bytes security) (stored 0%)
  adding: Meta/hsearch.rds (264 bytes security) (stored 0%)
  adding: Meta/links.rds (264 bytes security) (stored 0%)
  adding: Meta/nsInfo.rds (264 bytes security) (stored 0%)
  adding: Meta/package.rds (264 bytes security) (stored 0%)
  adding: Meta/Rd.rds (264 bytes security) (stored 0%)
  adding: Meta/vignette.rds (264 bytes security) (stored 0%)
  adding: NAMESPACE (264 bytes security) (deflated 74%)
  adding: NEWS.Rd (264 bytes security) (deflated 54%)
  adding: prepare/ (304 bytes security) (stored 0%)
  adding: prepare/build_graphviz_mingw.sh (264 bytes security) (deflated 66%)
  adding: prepare/find_includes.sh (264 bytes security) (deflated 54%)
  adding: prepare/patches_2.28.0/ (304 bytes security) (stored 0%)
  adding: prepare/patches_2.28.0/aclocal.m4-patch (264 bytes security) (deflated 61%)
  adding: prepare/patches_2.28.0/graphviz-2.28.0-bugs.patch (264 bytes security) (deflated 66%)
  adding: prepare/patches_2.28.0/graphviz-2.28.0-configure.patch (264 bytes security) (deflated 46%)
  adding: prepare/patches_2.28.0/graphviz-2.28.0-slim.patch (264 bytes security) (deflated 71%)
  adding: prepare/patches_2.28.0/libltdl-aclocal.m4-patch (264 bytes security) (deflated 60%)
  adding: prepare/patches_2.28.0/ortho.c-patch (264 bytes security) (deflated 47%)
  adding: prepare/README (264 bytes security) (deflated 57%)
  adding: prepare/slim_graphviz_2.28.0.sh (264 bytes security) (deflated 58%)
  adding: prepare/THANKS (264 bytes security) (deflated 39%)
  adding: R/ (304 bytes security) (stored 0%)
  adding: R/Rgraphviz (264 bytes security) (deflated 41%)
  adding: R/Rgraphviz.rdb (264 bytes security) (deflated 35%)
  adding: R/Rgraphviz.rdx (264 bytes security) (deflated 3%)
  adding: unitTests/ (304 bytes security) (stored 0%)
  adding: unitTests/test_layout.R (264 bytes security) (deflated 59%)
  adding: unitTests/test_toFile.R (264 bytes security) (deflated 77%)
  adding: usecases/ (304 bytes security) (stored 0%)
  adding: usecases/droso_ppi.html (264 bytes security) (deflated 89%)
  adding: usecases/droso_ppi.png (264 bytes security) (deflated 3%)
  adding: usecases/droso_ppi.R (264 bytes security) (deflated 52%)
  adding: usecases/droso_ppi.rda (264 bytes security) (stored 0%)
  adding: usecases/droso_ppi_prepare.R (264 bytes security) (deflated 53%)