MSnbase 2.2.0 Laurent Gatto
 | Snapshot Date: 2017-08-15 17:17:57 -0400 (Tue, 15 Aug 2017) |  | URL: https://hedgehog.fhcrc.org/bioconductor/branches/RELEASE_3_5/madman/Rpacks/MSnbase |  | Last Changed Rev: 129126 / Revision: 131943 |  | Last Changed Date: 2017-04-24 15:25:24 -0400 (Mon, 24 Apr 2017) |  
  | malbec2  | Linux (Ubuntu 16.04.1 LTS) / x86_64  |  OK  |  OK  |  OK  |  |   | 
| tokay2  | Windows Server 2012 R2 Standard / x64  |  OK  |  OK  |  OK  | [ OK ] |   | 
| veracruz2  | OS X 10.11.6 El Capitan / x86_64  |  OK  |  OK  |  ERROR  |  OK  |  | 
##############################################################################
##############################################################################
###
### Running command:
###
###   cd MSnbase.buildbin-libdir/MSnbase && zip -r ../../MSnbase_2.2.0.zip . & cd ../..
###
##############################################################################
##############################################################################
  adding: CITATION (264 bytes security) (deflated 55%)
  adding: data/ (304 bytes security) (stored 0%)
  adding: data/Rdata.rdb (264 bytes security) (deflated 0%)
  adding: data/Rdata.rds (264 bytes security) (stored 0%)
  adding: data/Rdata.rdx (264 bytes security) (stored 0%)
  adding: DESCRIPTION (264 bytes security) (deflated 58%)
  adding: doc/ (304 bytes security) (stored 0%)
  adding: doc/benchmarking.html (264 bytes security) (deflated 68%)
  adding: doc/benchmarking.R (264 bytes security) (deflated 73%)
  adding: doc/benchmarking.Rmd (264 bytes security) (deflated 60%)
  adding: doc/index.html (264 bytes security) (deflated 76%)
  adding: doc/MSnbase-demo/ (304 bytes security) (stored 0%)
  adding: doc/MSnbase-demo.pdf (264 bytes security) (deflated 15%)
  adding: doc/MSnbase-demo.R (264 bytes security) (deflated 75%)
  adding: doc/MSnbase-demo.Rnw (264 bytes security) (deflated 69%)
  adding: doc/MSnbase-development/ (304 bytes security) (stored 0%)
  adding: doc/MSnbase-development.html (264 bytes security) (deflated 69%)
  adding: doc/MSnbase-development.R (264 bytes security) (deflated 80%)
  adding: doc/MSnbase-development.Rmd (264 bytes security) (deflated 60%)
  adding: doc/MSnbase-io/ (304 bytes security) (stored 0%)
  adding: doc/MSnbase-io.html (264 bytes security) (deflated 67%)
  adding: doc/MSnbase-io.R (264 bytes security) (deflated 74%)
  adding: doc/MSnbase-io.Rmd (264 bytes security) (deflated 62%)
  adding: extdata/ (304 bytes security) (stored 0%)
  adding: extdata/dummyiTRAQ.mzid (264 bytes security) (deflated 79%)
  adding: extdata/dummyiTRAQ.mzXML (264 bytes security) (deflated 68%)
  adding: extdata/ipqfres.rda (264 bytes security) (deflated 2%)
  adding: extdata/iTRAQ4plexPurityCorrections.csv (264 bytes security) (deflated 35%)
  adding: extdata/iTRAQ8plexPurityCorrections.csv (264 bytes security) (deflated 68%)
  adding: extdata/M.rda (264 bytes security) (deflated 3%)
  adding: extdata/M2.rda (264 bytes security) (deflated 6%)
  adding: extdata/msx.rda (264 bytes security) (deflated 0%)
  adding: extdata/msx0.rda (264 bytes security) (deflated 0%)
  adding: extdata/test.mgf (264 bytes security) (deflated 49%)
  adding: extdata/TMT6plexPurityCorrections.csv (264 bytes security) (deflated 46%)
  adding: help/ (304 bytes security) (stored 0%)
  adding: help/aliases.rds (264 bytes security) (stored 0%)
  adding: help/AnIndex (264 bytes security) (deflated 85%)
  adding: help/MSnbase.rdb (264 bytes security) (deflated 1%)
  adding: help/MSnbase.rdx (264 bytes security) (deflated 1%)
  adding: help/paths.rds (264 bytes security) (stored 0%)
  adding: html/ (304 bytes security) (stored 0%)
  adding: html/00Index.html (264 bytes security) (deflated 92%)
  adding: html/R.css (264 bytes security) (deflated 75%)
  adding: INDEX (264 bytes security) (deflated 68%)
  adding: libs/ (304 bytes security) (stored 0%)
  adding: libs/i386/ (304 bytes security) (stored 0%)
  adding: libs/i386/MSnbase.dll (264 bytes security) (deflated 66%)
  adding: libs/x64/ (304 bytes security) (stored 0%)
  adding: libs/x64/MSnbase.dll (264 bytes security) (deflated 67%)
  adding: MD5 (264 bytes security) (deflated 47%)
  adding: Meta/ (304 bytes security) (stored 0%)
  adding: Meta/data.rds (264 bytes security) (stored 0%)
  adding: Meta/features.rds (264 bytes security) (stored 0%)
  adding: Meta/hsearch.rds (264 bytes security) (deflated 1%)
  adding: Meta/links.rds (264 bytes security) (stored 0%)
  adding: Meta/nsInfo.rds (264 bytes security) (stored 0%)
  adding: Meta/package.rds (264 bytes security) (stored 0%)
  adding: Meta/Rd.rds (264 bytes security) (stored 0%)
  adding: Meta/vignette.rds (264 bytes security) (stored 0%)
  adding: NAMESPACE (264 bytes security) (deflated 69%)
  adding: NEWS (264 bytes security) (deflated 72%)
  adding: R/ (304 bytes security) (stored 0%)
  adding: R/MSnbase (264 bytes security) (deflated 41%)
  adding: R/MSnbase.rdb (264 bytes security) (deflated 34%)
  adding: R/MSnbase.rdx (264 bytes security) (deflated 6%)
  adding: scripts/ (304 bytes security) (stored 0%)
  adding: scripts/benchmarking.R (264 bytes security) (deflated 66%)
  adding: scripts/make_msx.R (264 bytes security) (deflated 47%)
  adding: scripts/naset.R (264 bytes security) (deflated 52%)
  adding: scripts/torture.R (264 bytes security) (deflated 57%)
  adding: tests/ (304 bytes security) (stored 0%)