HTSFilter 1.16.0 Andrea Rau
 | Snapshot Date: 2017-08-15 17:17:57 -0400 (Tue, 15 Aug 2017) |  | URL: https://hedgehog.fhcrc.org/bioconductor/branches/RELEASE_3_5/madman/Rpacks/HTSFilter |  | Last Changed Rev: 129126 / Revision: 131943 |  | Last Changed Date: 2017-04-24 15:25:24 -0400 (Mon, 24 Apr 2017) |  
  | malbec2  | Linux (Ubuntu 16.04.1 LTS) / x86_64  |  OK  |  OK  |  OK  |  |   | 
| tokay2  | Windows Server 2012 R2 Standard / x64  |  OK  |  OK  |  OK  | [ OK ] |   | 
| veracruz2  | OS X 10.11.6 El Capitan / x86_64  |  OK  |  OK  |  OK  |  OK  |   | 
##############################################################################
##############################################################################
###
### Running command:
###
###   cd HTSFilter.buildbin-libdir/HTSFilter && zip -r ../../HTSFilter_1.16.0.zip . & cd ../..
###
##############################################################################
##############################################################################
  adding: CITATION (264 bytes security) (deflated 52%)
  adding: data/ (304 bytes security) (stored 0%)
  adding: data/sultan.RData (264 bytes security) (deflated 0%)
  adding: DESCRIPTION (264 bytes security) (deflated 39%)
  adding: doc/ (304 bytes security) (stored 0%)
  adding: doc/HTSFilter.pdf (264 bytes security) (deflated 15%)
  adding: doc/HTSFilter.R (264 bytes security) (deflated 75%)
  adding: doc/HTSFilter.Rnw (264 bytes security) (deflated 69%)
  adding: doc/index.html (264 bytes security) (deflated 59%)
  adding: examples/ (304 bytes security) (stored 0%)
  adding: examples/HTSBasicFilter.R (264 bytes security) (deflated 69%)
  adding: examples/HTSFilter-package.R (264 bytes security) (deflated 70%)
  adding: help/ (304 bytes security) (stored 0%)
  adding: help/aliases.rds (264 bytes security) (stored 0%)
  adding: help/AnIndex (264 bytes security) (deflated 78%)
  adding: help/HTSFilter.rdb (264 bytes security) (deflated 0%)
  adding: help/HTSFilter.rdx (264 bytes security) (stored 0%)
  adding: help/paths.rds (264 bytes security) (stored 0%)
  adding: html/ (304 bytes security) (stored 0%)
  adding: html/00Index.html (264 bytes security) (deflated 72%)
  adding: html/R.css (264 bytes security) (deflated 75%)
  adding: INDEX (264 bytes security) (deflated 60%)
  adding: MD5 (264 bytes security) (deflated 43%)
  adding: Meta/ (304 bytes security) (stored 0%)
  adding: Meta/data.rds (264 bytes security) (stored 0%)
  adding: Meta/features.rds (264 bytes security) (stored 0%)
  adding: Meta/hsearch.rds (264 bytes security) (stored 0%)
  adding: Meta/links.rds (264 bytes security) (stored 0%)
  adding: Meta/nsInfo.rds (264 bytes security) (stored 0%)
  adding: Meta/package.rds (264 bytes security) (stored 0%)
  adding: Meta/Rd.rds (264 bytes security) (stored 0%)
  adding: Meta/vignette.rds (264 bytes security) (stored 0%)
  adding: NAMESPACE (264 bytes security) (deflated 64%)
  adding: NEWS (264 bytes security) (deflated 59%)
  adding: R/ (304 bytes security) (stored 0%)
  adding: R/HTSFilter (264 bytes security) (deflated 41%)
  adding: R/HTSFilter.rdb (264 bytes security) (deflated 41%)
  adding: R/HTSFilter.rdx (264 bytes security) (stored 0%)