HDF5Array 1.4.8 Hervé Pagès
 | Snapshot Date: 2017-08-15 17:17:57 -0400 (Tue, 15 Aug 2017) |  | URL: https://hedgehog.fhcrc.org/bioconductor/branches/RELEASE_3_5/madman/Rpacks/HDF5Array |  | Last Changed Rev: 129939 / Revision: 131943 |  | Last Changed Date: 2017-05-28 00:51:12 -0400 (Sun, 28 May 2017) |  
  | malbec2  | Linux (Ubuntu 16.04.1 LTS) / x86_64  |  OK  |  OK  |  OK  |  |   | 
| tokay2  | Windows Server 2012 R2 Standard / x64  |  OK  |  OK  |  OK  | [ OK ] |   | 
| veracruz2  | OS X 10.11.6 El Capitan / x86_64  |  OK  |  OK  |  OK  |  OK  |   | 
##############################################################################
##############################################################################
###
### Running command:
###
###   cd HDF5Array.buildbin-libdir/HDF5Array && zip -r ../../HDF5Array_1.4.8.zip . & cd ../..
###
##############################################################################
##############################################################################
  adding: DESCRIPTION (264 bytes security) (deflated 37%)
  adding: extdata/ (304 bytes security) (stored 0%)
  adding: extdata/toy.h5 (264 bytes security) (deflated 1%)
  adding: help/ (304 bytes security) (stored 0%)
  adding: help/aliases.rds (264 bytes security) (stored 0%)
  adding: help/AnIndex (264 bytes security) (deflated 80%)
  adding: help/HDF5Array.rdb (264 bytes security) (deflated 0%)
  adding: help/HDF5Array.rdx (264 bytes security) (stored 0%)
  adding: help/paths.rds (264 bytes security) (stored 0%)
  adding: html/ (304 bytes security) (stored 0%)
  adding: html/00Index.html (264 bytes security) (deflated 85%)
  adding: html/R.css (264 bytes security) (deflated 75%)
  adding: INDEX (264 bytes security) (deflated 37%)
  adding: MD5 (264 bytes security) (deflated 40%)
  adding: Meta/ (304 bytes security) (stored 0%)
  adding: Meta/features.rds (264 bytes security) (stored 0%)
  adding: Meta/hsearch.rds (264 bytes security) (stored 0%)
  adding: Meta/links.rds (264 bytes security) (stored 0%)
  adding: Meta/nsInfo.rds (264 bytes security) (stored 0%)
  adding: Meta/package.rds (264 bytes security) (stored 0%)
  adding: Meta/Rd.rds (264 bytes security) (stored 0%)
  adding: NAMESPACE (264 bytes security) (deflated 67%)
  adding: R/ (304 bytes security) (stored 0%)
  adding: R/HDF5Array (264 bytes security) (deflated 41%)
  adding: R/HDF5Array.rdb (264 bytes security) (deflated 35%)
  adding: R/HDF5Array.rdx (264 bytes security) (deflated 0%)
  adding: unitTests/ (304 bytes security) (stored 0%)
  adding: unitTests/test_HDF5Array-class.R (264 bytes security) (stored 0%)