GenomicFiles 1.11.4 Bioconductor Package Maintainer
 | Snapshot Date: 2017-03-21 17:53:03 -0400 (Tue, 21 Mar 2017) |  | URL: https://hedgehog.fhcrc.org/bioconductor/trunk/madman/Rpacks/GenomicFiles |  | Last Changed Rev: 127273 / Revision: 127597 |  | Last Changed Date: 2017-03-09 11:13:44 -0500 (Thu, 09 Mar 2017) |  
  | malbec2  | Linux (Ubuntu 16.04.1 LTS) / x86_64  |  OK  |  OK  |  OK  |  |   | 
| tokay2  | Windows Server 2012 R2 Standard / x64  |  OK  |  OK  |  OK  |  OK  |   | 
| toluca2  | Mac OS X Mavericks (10.9.5) / x86_64  |  OK  |  OK  |  OK  |  OK  |   | 
| veracruz2  | OS X 10.11.6 El Capitan / x86_64  |  OK  |  OK  |  OK  | [ OK ] |  | 
##############################################################################
##############################################################################
###
### Running command:
###
###   rm -rf GenomicFiles.buildbin-libdir && mkdir GenomicFiles.buildbin-libdir && /Users/biocbuild/BBS/utils/build-universal.sh GenomicFiles_1.11.4.tar.gz /Library/Frameworks/R.framework/Versions/Current/Resources/bin/R GenomicFiles.buildbin-libdir
###
##############################################################################
##############################################################################
>>>>>>> 
>>>>>>> INSTALLATION WITH 'R CMD INSTALL --preclean --no-multiarch --library=GenomicFiles.buildbin-libdir GenomicFiles_1.11.4.tar.gz'
>>>>>>> 
* installing *source* package ‘GenomicFiles’ ...
** R
** inst
** preparing package for lazy loading
** help
*** installing help indices
** building package indices
** installing vignettes
** testing if installed package can be loaded
* DONE (GenomicFiles)