GenomicFeatures 1.28.4 Bioconductor Package Maintainer
 | Snapshot Date: 2017-08-15 17:17:57 -0400 (Tue, 15 Aug 2017) |  | URL: https://hedgehog.fhcrc.org/bioconductor/branches/RELEASE_3_5/madman/Rpacks/GenomicFeatures |  | Last Changed Rev: 130795 / Revision: 131943 |  | Last Changed Date: 2017-06-30 04:30:46 -0400 (Fri, 30 Jun 2017) |  
  | malbec2  | Linux (Ubuntu 16.04.1 LTS) / x86_64  |  OK  |  OK  |  WARNINGS  |  |   | 
| tokay2  | Windows Server 2012 R2 Standard / x64  | [ OK ] |  OK  |  WARNINGS  |  OK  |   | 
| veracruz2  | OS X 10.11.6 El Capitan / x86_64  |  OK  |  OK  |  WARNINGS  |  OK  |   | 
##############################################################################
##############################################################################
###
### Running command:
###
###   rm -rf GenomicFeatures.buildbin-libdir && mkdir GenomicFeatures.buildbin-libdir  && C:\cygwin\bin\curl.exe -O http://172.29.0.4/BBS/3.5/bioc/src/contrib/GenomicFeatures_1.28.4.tar.gz && C:\Users\biocbuild\bbs-3.5-bioc\R\bin\R.exe CMD INSTALL --build --library=GenomicFeatures.buildbin-libdir --merge-multiarch GenomicFeatures_1.28.4.tar.gz && C:\Users\biocbuild\bbs-3.5-bioc\R\bin\R.exe CMD INSTALL GenomicFeatures_1.28.4.zip  && rm GenomicFeatures_1.28.4.tar.gz GenomicFeatures_1.28.4.zip
###
##############################################################################
##############################################################################
  % Total    % Received % Xferd  Average Speed   Time    Time     Time  Current
                                 Dload  Upload   Total   Spent    Left  Speed
  0     0    0     0    0     0      0      0 --:--:-- --:--:-- --:--:--     0
100  652k  100  652k    0     0  4497k      0 --:--:-- --:--:-- --:--:-- 4532k
install for i386
* installing *source* package 'GenomicFeatures' ...
** R
** inst
** preparing package for lazy loading
** help
*** installing help indices
** building package indices
** installing vignettes
** testing if installed package can be loaded
install for x64
* installing *source* package 'GenomicFeatures' ...
** testing if installed package can be loaded
* MD5 sums
packaged installation of 'GenomicFeatures' as GenomicFeatures_1.28.4.zip
* DONE (GenomicFeatures)
* installing to library 'C:/Users/biocbuild/bbs-3.5-bioc/R/library'
package 'GenomicFeatures' successfully unpacked and MD5 sums checked