GeneSelectMMD 2.20.1 Weiliang Qiu
 | Snapshot Date: 2017-08-15 17:17:57 -0400 (Tue, 15 Aug 2017) |  | URL: https://hedgehog.fhcrc.org/bioconductor/branches/RELEASE_3_5/madman/Rpacks/GeneSelectMMD |  | Last Changed Rev: 129423 / Revision: 131943 |  | Last Changed Date: 2017-05-05 15:32:27 -0400 (Fri, 05 May 2017) |  
  | malbec2  | Linux (Ubuntu 16.04.1 LTS) / x86_64  |  OK  |  OK  |  OK  |  |   | 
| tokay2  | Windows Server 2012 R2 Standard / x64  |  OK  |  OK  |  OK  |  OK  |   | 
| veracruz2  | OS X 10.11.6 El Capitan / x86_64  |  OK  |  OK  |  OK  | [ OK ] |   | 
##############################################################################
##############################################################################
###
### Running command:
###
###   rm -rf GeneSelectMMD.buildbin-libdir && mkdir GeneSelectMMD.buildbin-libdir && /Users/biocbuild/BBS/utils/build-universal.sh GeneSelectMMD_2.20.1.tar.gz /Library/Frameworks/R.framework/Versions/Current/Resources/bin/R GeneSelectMMD.buildbin-libdir
###
##############################################################################
##############################################################################
>>>>>>> 
>>>>>>> INSTALLATION WITH 'R CMD INSTALL --preclean --no-multiarch --library=GeneSelectMMD.buildbin-libdir GeneSelectMMD_2.20.1.tar.gz'
>>>>>>> 
* installing *source* package ‘GeneSelectMMD’ ...
** libs
gfortran   -fPIC  -g -O2  -c Qfunc.f -o Qfunc.o
gfortran   -fPIC  -g -O2  -c blas.f -o blas.o
clang -I/Library/Frameworks/R.framework/Resources/include -DNDEBUG   -I/usr/local/include   -fPIC  -Wall -g -O2  -c isnan.c -o isnan.o
gfortran   -fPIC  -g -O2  -c lbfgsb.f -o lbfgsb.o
gfortran   -fPIC  -g -O2  -c lbfgsbDriver.f -o lbfgsbDriver.o
gfortran   -fPIC  -g -O2  -c linpack.f -o linpack.o
gfortran   -fPIC  -g -O2  -c llkhFun.f -o llkhFun.o
gfortran   -fPIC  -g -O2  -c myTtest.f -o myTtest.o
gfortran   -fPIC  -g -O2  -c paraEstLoop.f -o paraEstLoop.o
clang -I/Library/Frameworks/R.framework/Resources/include -DNDEBUG   -I/usr/local/include   -fPIC  -Wall -g -O2  -c pt.c -o pt.o
gfortran   -fPIC  -g -O2  -c timer.f -o timer.o
gfortran   -fPIC  -g -O2  -c wiFun.f -o wiFun.o
clang -dynamiclib -Wl,-headerpad_max_install_names -undefined dynamic_lookup -single_module -multiply_defined suppress -L/Library/Frameworks/R.framework/Resources/lib -L/usr/local/lib -o GeneSelectMMD.so Qfunc.o blas.o isnan.o lbfgsb.o lbfgsbDriver.o linpack.o llkhFun.o myTtest.o paraEstLoop.o pt.o timer.o wiFun.o -L/usr/local/gfortran/lib/gcc/x86_64-apple-darwin15/6.1.0 -L/usr/local/gfortran/lib -lgfortran -lquadmath -lm -F/Library/Frameworks/R.framework/.. -framework R -Wl,-framework -Wl,CoreFoundation
ld: warning: could not create compact unwind for _lbfgsbdriver_: stack subq instruction is too different from dwarf stack size
installing to /Users/biocbuild/bbs-3.5-bioc/meat/GeneSelectMMD.buildbin-libdir/GeneSelectMMD/libs
** R
** inst
** preparing package for lazy loading
** help
*** installing help indices
** building package indices
** installing vignettes
** testing if installed package can be loaded
* DONE (GeneSelectMMD)
>>>>>>> 
>>>>>>> FIXING LINKS FOR GeneSelectMMD.buildbin-libdir/GeneSelectMMD/libs//GeneSelectMMD.so
>>>>>>> 
install_name_tool -change "/usr/local/lib/libgcc_s.1.dylib" "/Library/Frameworks/R.framework/Versions/3.4/Resources/lib/libgcc_s.1.dylib" "GeneSelectMMD.buildbin-libdir/GeneSelectMMD/libs//GeneSelectMMD.so"
install_name_tool -change "/usr/local/lib/libgfortran.3.dylib" "/Library/Frameworks/R.framework/Versions/3.4/Resources/lib/libgfortran.3.dylib" "GeneSelectMMD.buildbin-libdir/GeneSelectMMD/libs//GeneSelectMMD.so"
install_name_tool -change "/usr/local/lib/libreadline.5.2.dylib" "/Library/Frameworks/R.framework/Versions/3.4/Resources/lib/libreadline.5.2.dylib" "GeneSelectMMD.buildbin-libdir/GeneSelectMMD/libs//GeneSelectMMD.so"
install_name_tool -change "/usr/local/lib/libreadline.dylib" "/Library/Frameworks/R.framework/Versions/3.4/Resources/lib/libreadline.dylib" "GeneSelectMMD.buildbin-libdir/GeneSelectMMD/libs//GeneSelectMMD.so"
install_name_tool -change "/usr/local/lib/libquadmath.0.dylib" "/Library/Frameworks/R.framework/Versions/3.4/Resources/lib/libquadmath.0.dylib" "GeneSelectMMD.buildbin-libdir/GeneSelectMMD/libs//GeneSelectMMD.so"
install_name_tool -change "/usr/local/gfortran/lib/libgfortran.3.dylib" "/Library/Frameworks/R.framework/Versions/3.4/Resources/lib/libgfortran.3.dylib" "GeneSelectMMD.buildbin-libdir/GeneSelectMMD/libs//GeneSelectMMD.so"
install_name_tool -change "/usr/local/gfortran/lib/libquadmath.0.dylib" "/Library/Frameworks/R.framework/Versions/3.4/Resources/lib/libquadmath.0.dylib" "GeneSelectMMD.buildbin-libdir/GeneSelectMMD/libs//GeneSelectMMD.so"