EBImage 4.17.45 Andrzej OleÅ›
 | Snapshot Date: 2017-04-22 17:18:01 -0400 (Sat, 22 Apr 2017) |  | URL: https://hedgehog.fhcrc.org/bioconductor/trunk/madman/Rpacks/EBImage |  | Last Changed Rev: 129035 / Revision: 129046 |  | Last Changed Date: 2017-04-21 19:40:40 -0400 (Fri, 21 Apr 2017) |  
  | malbec2  | Linux (Ubuntu 16.04.1 LTS) / x86_64  |  OK  |  OK  |  OK  |  |   | 
| tokay2  | Windows Server 2012 R2 Standard / x64  |  OK  |  OK  |  OK  |  OK  |   | 
| toluca2  | Mac OS X Mavericks (10.9.5) / x86_64  |  OK  | [ OK ] |  OK  |  OK  |  | 
| veracruz2  | OS X 10.11.6 El Capitan / x86_64  |  OK  |  OK  |  OK  |  OK  |   | 
##############################################################################
##############################################################################
###
### Running command:
###
###   /Library/Frameworks/R.framework/Versions/Current/Resources/bin/R CMD build --keep-empty-dirs --no-resave-data EBImage
###
##############################################################################
##############################################################################
* checking for file ‘EBImage/DESCRIPTION’ ... OK
* preparing ‘EBImage’:
* checking DESCRIPTION meta-information ... OK
* cleaning src
* installing the package to build vignettes
* creating vignettes ... OK
* cleaning src
* checking for LF line-endings in source and make files
* checking for empty or unneeded directories
* building ‘EBImage_4.17.45.tar.gz’