DelayedArray 0.2.7 Hervé Pagès
 | Snapshot Date: 2017-08-15 17:17:57 -0400 (Tue, 15 Aug 2017) |  | URL: https://hedgehog.fhcrc.org/bioconductor/branches/RELEASE_3_5/madman/Rpacks/DelayedArray |  | Last Changed Rev: 130088 / Revision: 131943 |  | Last Changed Date: 2017-06-02 17:02:42 -0400 (Fri, 02 Jun 2017) |  
  | malbec2  | Linux (Ubuntu 16.04.1 LTS) / x86_64  |  OK  |  OK  |  WARNINGS  |  |   | 
| tokay2  | Windows Server 2012 R2 Standard / x64  |  OK  |  OK  |  WARNINGS  |  OK  |   | 
| veracruz2  | OS X 10.11.6 El Capitan / x86_64  | [ OK ] |  OK  |  WARNINGS  |  OK  |   | 
##############################################################################
##############################################################################
###
### Running command:
###
###   /Library/Frameworks/R.framework/Versions/Current/Resources/bin/R CMD INSTALL DelayedArray
###
##############################################################################
##############################################################################
* installing to library ‘/Library/Frameworks/R.framework/Versions/3.4/Resources/library’
* installing *source* package ‘DelayedArray’ ...
** R
** inst
** preparing package for lazy loading
in method for ‘coerce’ with signature ‘"DelayedMatrix","dgCMatrix"’: no definition for class “dgCMatrix”
in method for ‘coerce’ with signature ‘"DelayedMatrix","sparseMatrix"’: no definition for class “sparseMatrix”
Creating a new generic function for ‘apply’ in package ‘DelayedArray’
Creating a generic function for ‘dlogis’ from package ‘stats’ in package ‘DelayedArray’
Creating a generic function for ‘plogis’ from package ‘stats’ in package ‘DelayedArray’
Creating a generic function for ‘qlogis’ from package ‘stats’ in package ‘DelayedArray’
Creating a new generic function for ‘rowMaxs’ in package ‘DelayedArray’
Creating a new generic function for ‘colMaxs’ in package ‘DelayedArray’
Creating a new generic function for ‘rowMins’ in package ‘DelayedArray’
Creating a new generic function for ‘colMins’ in package ‘DelayedArray’
Creating a new generic function for ‘rowRanges’ in package ‘DelayedArray’
Creating a new generic function for ‘colRanges’ in package ‘DelayedArray’
** help
*** installing help indices
** building package indices
** testing if installed package can be loaded
* DONE (DelayedArray)