DMRcate 1.12.1 Tim Peters
 | Snapshot Date: 2017-08-15 17:17:57 -0400 (Tue, 15 Aug 2017) |  | URL: https://hedgehog.fhcrc.org/bioconductor/branches/RELEASE_3_5/madman/Rpacks/DMRcate |  | Last Changed Rev: 130040 / Revision: 131943 |  | Last Changed Date: 2017-05-31 23:10:29 -0400 (Wed, 31 May 2017) |  
  | malbec2  | Linux (Ubuntu 16.04.1 LTS) / x86_64  |  OK  |  OK  |  WARNINGS  |  |   | 
| tokay2  | Windows Server 2012 R2 Standard / x64  |  OK  |  OK  |  WARNINGS  | [ OK ] |   | 
| veracruz2  | OS X 10.11.6 El Capitan / x86_64  |  OK  |  OK  |  WARNINGS  |  OK  |   | 
##############################################################################
##############################################################################
###
### Running command:
###
###   cd DMRcate.buildbin-libdir/DMRcate && zip -r ../../DMRcate_1.12.1.zip . & cd ../..
###
##############################################################################
##############################################################################
  adding: CITATION (264 bytes security) (deflated 52%)
  adding: DESCRIPTION (264 bytes security) (deflated 47%)
  adding: doc/ (304 bytes security) (stored 0%)
  adding: doc/DMRcate.pdf (264 bytes security) (deflated 9%)
  adding: doc/DMRcate.R (264 bytes security) (deflated 70%)
  adding: doc/DMRcate.Rnw (264 bytes security) (deflated 58%)
  adding: doc/index.html (264 bytes security) (deflated 58%)
  adding: help/ (304 bytes security) (stored 0%)
  adding: help/aliases.rds (264 bytes security) (stored 0%)
  adding: help/AnIndex (264 bytes security) (deflated 61%)
  adding: help/DMRcate.rdb (264 bytes security) (deflated 0%)
  adding: help/DMRcate.rdx (264 bytes security) (stored 0%)
  adding: help/paths.rds (264 bytes security) (stored 0%)
  adding: html/ (304 bytes security) (stored 0%)
  adding: html/00Index.html (264 bytes security) (deflated 62%)
  adding: html/R.css (264 bytes security) (deflated 75%)
  adding: INDEX (264 bytes security) (deflated 46%)
  adding: LICENSE (264 bytes security) (deflated 53%)
  adding: MD5 (264 bytes security) (deflated 41%)
  adding: Meta/ (304 bytes security) (stored 0%)
  adding: Meta/features.rds (264 bytes security) (stored 0%)
  adding: Meta/hsearch.rds (264 bytes security) (stored 0%)
  adding: Meta/links.rds (264 bytes security) (stored 0%)
  adding: Meta/nsInfo.rds (264 bytes security) (stored 0%)
  adding: Meta/package.rds (264 bytes security) (stored 0%)
  adding: Meta/Rd.rds (264 bytes security) (stored 0%)
  adding: Meta/vignette.rds (264 bytes security) (stored 0%)
  adding: NAMESPACE (264 bytes security) (deflated 45%)
  adding: NEWS (264 bytes security) (deflated 49%)
  adding: R/ (304 bytes security) (stored 0%)
  adding: R/DMRcate (264 bytes security) (deflated 41%)
  adding: R/DMRcate.rdb (264 bytes security) (deflated 1%)
  adding: R/DMRcate.rdx (264 bytes security) (stored 0%)
  adding: unitTests/ (304 bytes security) (stored 0%)
  adding: unitTests/test_pipeline.R (264 bytes security) (deflated 79%)