ChemmineOB 1.14.0 Thomas Girke
 | Snapshot Date: 2017-08-15 17:17:57 -0400 (Tue, 15 Aug 2017) |  | URL: https://hedgehog.fhcrc.org/bioconductor/branches/RELEASE_3_5/madman/Rpacks/ChemmineOB |  | Last Changed Rev: 129126 / Revision: 131943 |  | Last Changed Date: 2017-04-24 15:25:24 -0400 (Mon, 24 Apr 2017) |  
  | malbec2  | Linux (Ubuntu 16.04.1 LTS) / x86_64  |  OK  |  OK  |  WARNINGS  |  |   | 
| tokay2  | Windows Server 2012 R2 Standard / x64  |  OK  |  OK  |  WARNINGS  | [ OK ] |   | 
| veracruz2  | OS X 10.11.6 El Capitan / x86_64  |  OK  |  OK  |  WARNINGS  |  OK  |   | 
##############################################################################
##############################################################################
###
### Running command:
###
###   cd ChemmineOB.buildbin-libdir/ChemmineOB && zip -r ../../ChemmineOB_1.14.0.zip . & cd ../..
###
##############################################################################
##############################################################################
  adding: DESCRIPTION (264 bytes security) (deflated 44%)
  adding: doc/ (304 bytes security) (stored 0%)
  adding: doc/ChemmineOB.html (264 bytes security) (deflated 61%)
  adding: doc/ChemmineOB.R (264 bytes security) (deflated 62%)
  adding: doc/ChemmineOB.Rmd (264 bytes security) (deflated 52%)
  adding: doc/index.html (264 bytes security) (deflated 59%)
  adding: help/ (304 bytes security) (stored 0%)
  adding: help/aliases.rds (264 bytes security) (stored 0%)
  adding: help/AnIndex (264 bytes security) (deflated 88%)
  adding: help/ChemmineOB.rdb (264 bytes security) (deflated 1%)
  adding: help/ChemmineOB.rdx (264 bytes security) (stored 0%)
  adding: help/paths.rds (264 bytes security) (stored 0%)
  adding: html/ (304 bytes security) (stored 0%)
  adding: html/00Index.html (264 bytes security) (deflated 69%)
  adding: html/R.css (264 bytes security) (deflated 75%)
  adding: INDEX (264 bytes security) (deflated 52%)
  adding: libs/ (304 bytes security) (stored 0%)
  adding: libs/i386/ (304 bytes security) (stored 0%)
  adding: libs/i386/ChemmineOB.dll (264 bytes security) (deflated 65%)
  adding: libs/x64/ (304 bytes security) (stored 0%)
  adding: libs/x64/ChemmineOB.dll (264 bytes security) (deflated 65%)
  adding: LICENSE (264 bytes security) (deflated 41%)
  adding: MD5 (264 bytes security) (deflated 51%)
  adding: Meta/ (304 bytes security) (stored 0%)
  adding: Meta/features.rds (264 bytes security) (stored 0%)
  adding: Meta/hsearch.rds (264 bytes security) (stored 0%)
  adding: Meta/links.rds (264 bytes security) (stored 0%)
  adding: Meta/nsInfo.rds (264 bytes security) (stored 0%)
  adding: Meta/package.rds (264 bytes security) (stored 0%)
  adding: Meta/Rd.rds (264 bytes security) (stored 0%)
  adding: Meta/vignette.rds (264 bytes security) (stored 0%)
  adding: NAMESPACE (264 bytes security) (deflated 27%)
  adding: NEWS.Rd (264 bytes security) (deflated 52%)
  adding: openbabel_data/ (304 bytes security) (stored 0%)
  adding: openbabel_data/aromatic.txt (264 bytes security) (deflated 63%)
  adding: openbabel_data/atomtyp.txt (264 bytes security) (deflated 75%)
  adding: openbabel_data/babel_povray3.inc (264 bytes security) (deflated 86%)
  adding: openbabel_data/bin2hex.pl (264 bytes security) (deflated 65%)
  adding: openbabel_data/bondtyp.txt (264 bytes security) (deflated 70%)
  adding: openbabel_data/CMakeLists.txt (264 bytes security) (deflated 57%)
  adding: openbabel_data/element.txt (264 bytes security) (deflated 60%)
  adding: openbabel_data/fragments.txt (264 bytes security) (deflated 68%)
  adding: openbabel_data/gaff.dat (264 bytes security) (deflated 80%)
  adding: openbabel_data/gaff.prm (264 bytes security) (deflated 78%)
  adding: openbabel_data/genheaders.sh (264 bytes security) (deflated 57%)
  adding: openbabel_data/ghemical.prm (264 bytes security) (deflated 80%)
  adding: openbabel_data/isotope-small.txt (264 bytes security) (deflated 65%)
  adding: openbabel_data/isotope.txt (264 bytes security) (deflated 70%)
  adding: openbabel_data/logp.txt (264 bytes security) (deflated 64%)
  adding: openbabel_data/MACCS.txt (264 bytes security) (deflated 65%)
  adding: openbabel_data/mm2.prm (264 bytes security) (deflated 88%)
  adding: openbabel_data/mmff94.ff (264 bytes security) (deflated 55%)
  adding: openbabel_data/mmff94s.ff (264 bytes security) (deflated 54%)
  adding: openbabel_data/mmffang.par (264 bytes security) (deflated 77%)
  adding: openbabel_data/mmffbndk.par (264 bytes security) (deflated 69%)
  adding: openbabel_data/mmffbond.par (264 bytes security) (deflated 76%)
  adding: openbabel_data/mmffchg.par (264 bytes security) (deflated 78%)
  adding: openbabel_data/mmffdef.par (264 bytes security) (deflated 77%)
  adding: openbabel_data/mmffdfsb.par (264 bytes security) (deflated 78%)
  adding: openbabel_data/mmffoop.par (264 bytes security) (deflated 78%)
  adding: openbabel_data/mmffpbci.par (264 bytes security) (deflated 83%)
  adding: openbabel_data/mmffprop.par (264 bytes security) (deflated 85%)
  adding: openbabel_data/mmffstbn.par (264 bytes security) (deflated 78%)
  adding: openbabel_data/mmffs_oop.par (264 bytes security) (deflated 78%)
  adding: openbabel_data/mmffs_tor.par (264 bytes security) (deflated 84%)
  adding: openbabel_data/mmfftor.par (264 bytes security) (deflated 84%)
  adding: openbabel_data/mmffvdw.par (264 bytes security) (deflated 81%)
  adding: openbabel_data/mpC.txt (264 bytes security) (deflated 59%)
  adding: openbabel_data/mr.txt (264 bytes security) (deflated 64%)
  adding: openbabel_data/patterns.txt (264 bytes security) (deflated 65%)
  adding: openbabel_data/phmodel.txt (264 bytes security) (deflated 72%)
  adding: openbabel_data/plugindefines.txt (264 bytes security) (deflated 54%)
  adding: openbabel_data/psa.txt (264 bytes security) (deflated 61%)
  adding: openbabel_data/qeq.txt (264 bytes security) (deflated 52%)
  adding: openbabel_data/resdata.txt (264 bytes security) (deflated 85%)
  adding: openbabel_data/ringtyp.txt (264 bytes security) (deflated 78%)
  adding: openbabel_data/SMARTS_InteLigand.txt (264 bytes security) (deflated 75%)
  adding: openbabel_data/space-groups.txt (264 bytes security) (deflated 86%)
  adding: openbabel_data/space-groups.xsl (264 bytes security) (deflated 68%)
  adding: openbabel_data/splash.png (264 bytes security) (deflated 0%)
  adding: openbabel_data/superatom.txt (264 bytes security) (deflated 61%)
  adding: openbabel_data/svgformat.script (264 bytes security) (deflated 64%)
  adding: openbabel_data/templates.sdf (264 bytes security) (deflated 79%)
  adding: openbabel_data/torlib.txt (264 bytes security) (deflated 74%)
  adding: openbabel_data/types.txt (264 bytes security) (deflated 67%)
  adding: openbabel_data/UFF.prm (264 bytes security) (deflated 66%)
  adding: R/ (304 bytes security) (stored 0%)
  adding: R/ChemmineOB (264 bytes security) (deflated 41%)
  adding: R/ChemmineOB.rdb (264 bytes security) (deflated 12%)
  adding: R/ChemmineOB.rdx (264 bytes security) (deflated 0%)
  adding: unitTests/ (304 bytes security) (stored 0%)
  adding: unitTests/test_conversions.R (264 bytes security) (deflated 43%)
  adding: unitTests/test_main.R (264 bytes security) (deflated 53%)