Category 2.42.1 Bioconductor Package Maintainer
 | Snapshot Date: 2017-08-15 17:17:57 -0400 (Tue, 15 Aug 2017) |  | URL: https://hedgehog.fhcrc.org/bioconductor/branches/RELEASE_3_5/madman/Rpacks/Category |  | Last Changed Rev: 130648 / Revision: 131943 |  | Last Changed Date: 2017-06-23 15:37:57 -0400 (Fri, 23 Jun 2017) |  
  | malbec2  | Linux (Ubuntu 16.04.1 LTS) / x86_64  |  OK  |  OK  |  OK  |  |   | 
| tokay2  | Windows Server 2012 R2 Standard / x64  |  OK  | [ OK ] |  OK  |  OK  |   | 
| veracruz2  | OS X 10.11.6 El Capitan / x86_64  |  OK  |  OK  |  OK  |  OK  |   | 
##############################################################################
##############################################################################
###
### Running command:
###
###   chmod a+r Category -R && C:\Users\biocbuild\bbs-3.5-bioc\R\bin\R.exe CMD build --keep-empty-dirs --no-resave-data Category
###
##############################################################################
##############################################################################
* checking for file 'Category/DESCRIPTION' ... OK
* preparing 'Category':
* checking DESCRIPTION meta-information ... OK
* installing the package to build vignettes
* creating vignettes ... OK
* checking for LF line-endings in source and make files
* checking for empty or unneeded directories
* building 'Category_2.42.1.tar.gz'