BiocParallel 1.10.1 Bioconductor Package Maintainer
 | Snapshot Date: 2017-08-15 17:17:57 -0400 (Tue, 15 Aug 2017) |  | URL: https://hedgehog.fhcrc.org/bioconductor/branches/RELEASE_3_5/madman/Rpacks/BiocParallel |  | Last Changed Rev: 129340 / Revision: 131943 |  | Last Changed Date: 2017-05-02 05:26:22 -0400 (Tue, 02 May 2017) |  
  | malbec2  | Linux (Ubuntu 16.04.1 LTS) / x86_64  |  OK  |  OK  |  OK  |  |   | 
| tokay2  | Windows Server 2012 R2 Standard / x64  |  OK  | [ OK ] |  OK  |  OK  |   | 
| veracruz2  | OS X 10.11.6 El Capitan / x86_64  |  OK  |  OK  |  OK  |  OK  |   | 
##############################################################################
##############################################################################
###
### Running command:
###
###   chmod a+r BiocParallel -R && C:\Users\biocbuild\bbs-3.5-bioc\R\bin\R.exe CMD build --keep-empty-dirs --no-resave-data BiocParallel
###
##############################################################################
##############################################################################
* checking for file 'BiocParallel/DESCRIPTION' ... OK
* preparing 'BiocParallel':
* checking DESCRIPTION meta-information ... OK
* installing the package to process help pages
* building the PDF package manual
Hmm ... looks like a package
Converting Rd files to LaTeX .
Creating pdf output from LaTeX ...
Saving output to 'C:/Users/biocbuild/bbs-3.5-bioc/tmpdir/Rtmpaundyy/Rbuild10f43241277a/BiocParallel/build/BiocParallel.pdf' ...
Done
* creating vignettes ... OK
* checking for LF line-endings in source and make files
* checking for empty or unneeded directories
* building 'BiocParallel_1.10.1.tar.gz'