Biobase 2.35.1 Bioconductor Package Maintainer
 | Snapshot Date: 2017-03-03 17:15:47 -0500 (Fri, 03 Mar 2017) |  | URL: https://hedgehog.fhcrc.org/bioconductor/trunk/madman/Rpacks/Biobase |  | Last Changed Rev: 126854 / Revision: 127142 |  | Last Changed Date: 2017-02-21 14:26:43 -0500 (Tue, 21 Feb 2017) |  
  | malbec2  | Linux (Ubuntu 16.04.1 LTS) / x86_64  |  OK  |  OK  |  OK  |  |   | 
| tokay2  | Windows Server 2012 R2 Standard / x64  |  OK  |  OK  |  OK  |  OK  |   | 
| toluca2  | Mac OS X Mavericks (10.9.5) / x86_64  |  OK  |  OK  |  OK  |  OK  |   | 
| oaxaca  | Mac OS X Mavericks (10.9.5) / x86_64  | [ OK ] |  OK  |  OK  |  OK  |  | 
##############################################################################
##############################################################################
###
### Running command:
###
###   /Library/Frameworks/R.framework/Versions/Current/Resources/bin/R CMD INSTALL Biobase
###
##############################################################################
##############################################################################
* installing to library ‘/Library/Frameworks/R.framework/Versions/3.4/Resources/library’
* installing *source* package ‘Biobase’ ...
** libs
clang -I/Library/Frameworks/R.framework/Resources/include -DNDEBUG   -I/usr/local/include -I/usr/local/include/freetype2 -I/opt/X11/include   -fPIC  -Wall -mtune=core2 -g -O2  -c Rinit.c -o Rinit.o
clang -I/Library/Frameworks/R.framework/Resources/include -DNDEBUG   -I/usr/local/include -I/usr/local/include/freetype2 -I/opt/X11/include   -fPIC  -Wall -mtune=core2 -g -O2  -c anyMissing.c -o anyMissing.o
clang -I/Library/Frameworks/R.framework/Resources/include -DNDEBUG   -I/usr/local/include -I/usr/local/include/freetype2 -I/opt/X11/include   -fPIC  -Wall -mtune=core2 -g -O2  -c envir.c -o envir.o
clang -I/Library/Frameworks/R.framework/Resources/include -DNDEBUG   -I/usr/local/include -I/usr/local/include/freetype2 -I/opt/X11/include   -fPIC  -Wall -mtune=core2 -g -O2  -c matchpt.c -o matchpt.o
clang -I/Library/Frameworks/R.framework/Resources/include -DNDEBUG   -I/usr/local/include -I/usr/local/include/freetype2 -I/opt/X11/include   -fPIC  -Wall -mtune=core2 -g -O2  -c rowMedians.c -o rowMedians.o
clang -I/Library/Frameworks/R.framework/Resources/include -DNDEBUG   -I/usr/local/include -I/usr/local/include/freetype2 -I/opt/X11/include   -fPIC  -Wall -mtune=core2 -g -O2  -c sublist_extract.c -o sublist_extract.o
clang -dynamiclib -Wl,-headerpad_max_install_names -undefined dynamic_lookup -single_module -multiply_defined suppress -L/Library/Frameworks/R.framework/Resources/lib -L/usr/local/lib -o Biobase.so Rinit.o anyMissing.o envir.o matchpt.o rowMedians.o sublist_extract.o -F/Library/Frameworks/R.framework/.. -framework R -Wl,-framework -Wl,CoreFoundation
installing to /Library/Frameworks/R.framework/Versions/3.4/Resources/library/Biobase/libs
** R
** data
** inst
** preparing package for lazy loading
** help
*** installing help indices
** building package indices
** installing vignettes
** testing if installed package can be loaded
* DONE (Biobase)