ArrayTV 1.14.0 Eitan Halper-Stromberg
 | Snapshot Date: 2017-08-15 17:17:57 -0400 (Tue, 15 Aug 2017) |  | URL: https://hedgehog.fhcrc.org/bioconductor/branches/RELEASE_3_5/madman/Rpacks/ArrayTV |  | Last Changed Rev: 129126 / Revision: 131943 |  | Last Changed Date: 2017-04-24 15:25:24 -0400 (Mon, 24 Apr 2017) |  
  | malbec2  | Linux (Ubuntu 16.04.1 LTS) / x86_64  |  OK  |  OK  |  OK  |  |   | 
| tokay2  | Windows Server 2012 R2 Standard / x64  |  OK  |  OK  |  OK  | [ OK ] |   | 
| veracruz2  | OS X 10.11.6 El Capitan / x86_64  |  OK  |  OK  |  OK  |  OK  |   | 
##############################################################################
##############################################################################
###
### Running command:
###
###   cd ArrayTV.buildbin-libdir/ArrayTV && zip -r ../../ArrayTV_1.14.0.zip . & cd ../..
###
##############################################################################
##############################################################################
  adding: DESCRIPTION (264 bytes security) (deflated 41%)
  adding: doc/ (304 bytes security) (stored 0%)
  adding: doc/ArrayTV.pdf (264 bytes security) (deflated 2%)
  adding: doc/ArrayTV.R (264 bytes security) (deflated 73%)
  adding: doc/ArrayTV.Rnw (264 bytes security) (deflated 65%)
  adding: doc/index.html (264 bytes security) (deflated 58%)
  adding: extdata/ (304 bytes security) (stored 0%)
  adding: extdata/afcM1List.rda (264 bytes security) (deflated 0%)
  adding: extdata/array_logratios.rda (264 bytes security) (deflated 0%)
  adding: extdata/cbs_out.rda (264 bytes security) (deflated 2%)
  adding: extdata/nimcM1List.rda (264 bytes security) (deflated 0%)
  adding: help/ (304 bytes security) (stored 0%)
  adding: help/aliases.rds (264 bytes security) (stored 0%)
  adding: help/AnIndex (264 bytes security) (deflated 71%)
  adding: help/ArrayTV.rdb (264 bytes security) (stored 0%)
  adding: help/ArrayTV.rdx (264 bytes security) (stored 0%)
  adding: help/paths.rds (264 bytes security) (stored 0%)
  adding: html/ (304 bytes security) (stored 0%)
  adding: html/00Index.html (264 bytes security) (deflated 68%)
  adding: html/R.css (264 bytes security) (deflated 75%)
  adding: INDEX (264 bytes security) (deflated 48%)
  adding: MD5 (264 bytes security) (deflated 42%)
  adding: Meta/ (304 bytes security) (stored 0%)
  adding: Meta/features.rds (264 bytes security) (stored 0%)
  adding: Meta/hsearch.rds (264 bytes security) (stored 0%)
  adding: Meta/links.rds (264 bytes security) (stored 0%)
  adding: Meta/nsInfo.rds (264 bytes security) (stored 0%)
  adding: Meta/package.rds (264 bytes security) (stored 0%)
  adding: Meta/Rd.rds (264 bytes security) (stored 0%)
  adding: Meta/vignette.rds (264 bytes security) (stored 0%)
  adding: NAMESPACE (264 bytes security) (deflated 25%)
  adding: R/ (304 bytes security) (stored 0%)
  adding: R/ArrayTV (264 bytes security) (deflated 41%)
  adding: R/ArrayTV.rdb (264 bytes security) (deflated 11%)
  adding: R/ArrayTV.rdx (264 bytes security) (stored 0%)
  adding: unitTests/ (304 bytes security) (stored 0%)
  adding: unitTests/test_gcCorrectMain.R (264 bytes security) (deflated 52%)