AnnotationHubData 1.6.1 Bioconductor Package Maintainer
 | Snapshot Date: 2017-08-15 17:17:57 -0400 (Tue, 15 Aug 2017) |  | URL: https://hedgehog.fhcrc.org/bioconductor/branches/RELEASE_3_5/madman/Rpacks/AnnotationHubData |  | Last Changed Rev: 130646 / Revision: 131943 |  | Last Changed Date: 2017-06-23 15:01:09 -0400 (Fri, 23 Jun 2017) |  
  | malbec2  | Linux (Ubuntu 16.04.1 LTS) / x86_64  |  OK  |  OK  |  WARNINGS  |  |   | 
| tokay2  | Windows Server 2012 R2 Standard / x64  | [ OK ] |  OK  |  WARNINGS  |  OK  |   | 
| veracruz2  | OS X 10.11.6 El Capitan / x86_64  |  OK  |  OK  |  WARNINGS  |  OK  |   | 
##############################################################################
##############################################################################
###
### Running command:
###
###   rm -rf AnnotationHubData.buildbin-libdir && mkdir AnnotationHubData.buildbin-libdir  && C:\cygwin\bin\curl.exe -O http://172.29.0.4/BBS/3.5/bioc/src/contrib/AnnotationHubData_1.6.1.tar.gz && C:\Users\biocbuild\bbs-3.5-bioc\R\bin\R.exe CMD INSTALL --build --library=AnnotationHubData.buildbin-libdir --merge-multiarch AnnotationHubData_1.6.1.tar.gz && C:\Users\biocbuild\bbs-3.5-bioc\R\bin\R.exe CMD INSTALL AnnotationHubData_1.6.1.zip  && rm AnnotationHubData_1.6.1.tar.gz AnnotationHubData_1.6.1.zip
###
##############################################################################
##############################################################################
  % Total    % Received % Xferd  Average Speed   Time    Time     Time  Current
                                 Dload  Upload   Total   Spent    Left  Speed
  0     0    0     0    0     0      0      0 --:--:-- --:--:-- --:--:--     0
100  179k  100  179k    0     0  8976k      0 --:--:-- --:--:-- --:--:-- 9949k
install for i386
* installing *source* package 'AnnotationHubData' ...
** R
** inst
** preparing package for lazy loading
No methods found in "RSQLite" for requests: dbGetQuery
** help
*** installing help indices
** building package indices
** installing vignettes
** testing if installed package can be loaded
No methods found in "RSQLite" for requests: dbGetQuery
install for x64
* installing *source* package 'AnnotationHubData' ...
** testing if installed package can be loaded
No methods found in "RSQLite" for requests: dbGetQuery
* MD5 sums
packaged installation of 'AnnotationHubData' as AnnotationHubData_1.6.1.zip
* DONE (AnnotationHubData)
* installing to library 'C:/Users/biocbuild/bbs-3.5-bioc/R/library'
package 'AnnotationHubData' successfully unpacked and MD5 sums checked