| dsQTL 0.11.0 VJ Carey
 
 | Snapshot Date: 2016-09-17 09:20:18 -0700 (Sat, 17 Sep 2016) |  | URL: https://hedgehog.fhcrc.org/bioc-data/trunk/experiment/pkgs/dsQTL |  | Last Changed Rev: 3763 / Revision: 3889 |  | Last Changed Date: 2016-05-03 14:48:02 -0700 (Tue, 03 May 2016) | 
 | zin1 | Linux (Ubuntu 16.04 LTS) / x86_64 | [ OK ] | OK | OK |  |  | 
##############################################################################
##############################################################################
###
### Running command:
###
###   /home/biocbuild/bbs-3.4-bioc/R/bin/R CMD INSTALL dsQTL
###
##############################################################################
##############################################################################
* installing to library ‘/home/biocbuild/bbs-3.4-bioc/R/library’
* installing *source* package ‘dsQTL’ ...
** R
** data
** inst
** preparing package for lazy loading
Warning: replacing previous import ‘IRanges::which’ by ‘Matrix::which’ when loading ‘GGBase’
** help
*** installing help indices
** building package indices
** installing vignettes
** testing if installed package can be loaded
Warning: replacing previous import ‘IRanges::which’ by ‘Matrix::which’ when loading ‘GGBase’
* DONE (dsQTL)