pasilla 1.0.2 Alejandro Reyes
 | Snapshot Date: 2016-09-17 09:20:18 -0700 (Sat, 17 Sep 2016) |  | URL: https://hedgehog.fhcrc.org/bioc-data/trunk/experiment/pkgs/pasilla |  | Last Changed Rev: 3866 / Revision: 3889 |  | Last Changed Date: 2016-08-23 06:08:58 -0700 (Tue, 23 Aug 2016) |  
  | zin1  | Linux (Ubuntu 16.04 LTS) / x86_64  | [ OK ] |  OK  |  OK  |  |   | 
##############################################################################
##############################################################################
###
### Running command:
###
###   /home/biocbuild/bbs-3.4-bioc/R/bin/R CMD INSTALL pasilla
###
##############################################################################
##############################################################################
* installing to library ‘/home/biocbuild/bbs-3.4-bioc/R/library’
* installing *source* package ‘pasilla’ ...
** data
** inst
** help
*** installing help indices
** building package indices
** installing vignettes
** testing if installed package can be loaded
* DONE (pasilla)