Fletcher2013a 1.9.0 Mauro Castro
 | Snapshot Date: 2016-05-28 09:20:19 -0700 (Sat, 28 May 2016) |  | URL: https://hedgehog.fhcrc.org/bioc-data/trunk/experiment/pkgs/Fletcher2013a |  | Last Changed Rev: 3763 / Revision: 3781 |  | Last Changed Date: 2016-05-03 14:48:02 -0700 (Tue, 03 May 2016) |  
  | zin1  | Linux (Ubuntu 16.04 LTS) / x86_64  |  OK  |  OK  |  OK  |  |   | 
| moscato1  | Windows Server 2008 R2 Standard (64-bit) / x64  | [ OK ] |  OK  |  OK  |  OK  |  | 
##############################################################################
##############################################################################
###
### Running command:
###
###   D:\biocbld\bbs-3.4-bioc\R\bin\R.exe --arch i386 CMD INSTALL --no-multiarch Fletcher2013a
###
##############################################################################
##############################################################################
* installing to library 'D:/biocbld/bbs-3.4-bioc/R/library'
* installing *source* package 'Fletcher2013a' ...
** R
** data
** inst
** preparing package for lazy loading
** help
*** installing help indices
** building package indices
** installing vignettes
** testing if installed package can be loaded
* DONE (Fletcher2013a)