| globaltest 5.28.0 Jelle Goeman
 
 | Snapshot Date: 2017-04-14 17:17:13 -0400 (Fri, 14 Apr 2017) |  | URL: https://hedgehog.fhcrc.org/bioconductor/branches/RELEASE_3_4/madman/Rpacks/globaltest |  | Last Changed Rev: 122710 / Revision: 128728 |  | Last Changed Date: 2016-10-17 14:45:06 -0400 (Mon, 17 Oct 2016) | 
 | malbec1 | Linux (Ubuntu 16.04.1 LTS) / x86_64 | OK | OK | OK |  |  | 
| tokay1 | Windows Server 2012 R2 Standard / x64 | [ OK ] | OK | OK | OK |  | 
| morelia | Mac OS X Mavericks (10.9.5) / x86_64 | OK | OK | OK | OK |  | 
##############################################################################
##############################################################################
###
### Running command:
###
###   rm -rf globaltest.buildbin-libdir && mkdir globaltest.buildbin-libdir  && C:\cygwin\bin\curl.exe -O http://172.29.0.3/BBS/3.4/bioc/src/contrib/globaltest_5.28.0.tar.gz && C:\Users\biocbuild\bbs-3.4-bioc\R\bin\R.exe CMD INSTALL --build --library=globaltest.buildbin-libdir --merge-multiarch globaltest_5.28.0.tar.gz && C:\Users\biocbuild\bbs-3.4-bioc\R\bin\R.exe CMD INSTALL globaltest_5.28.0.zip  && rm globaltest_5.28.0.tar.gz globaltest_5.28.0.zip
###
##############################################################################
##############################################################################
  % Total    % Received % Xferd  Average Speed   Time    Time     Time  Current
                                 Dload  Upload   Total   Spent    Left  Speed
  0     0    0     0    0     0      0      0 --:--:-- --:--:-- --:--:--     0
100 96744  100 96744    0     0  2859k      0 --:--:-- --:--:-- --:--:-- 2952k
install for i386
* installing *source* package 'globaltest' ...
** R
** inst
** preparing package for lazy loading
** help
*** installing help indices
** building package indices
** installing vignettes
** testing if installed package can be loaded
install for x64
* installing *source* package 'globaltest' ...
** testing if installed package can be loaded
* MD5 sums
packaged installation of 'globaltest' as globaltest_5.28.0.zip
* DONE (globaltest)
* installing to library 'C:/Users/biocbuild/bbs-3.4-bioc/R/library'
package 'globaltest' successfully unpacked and MD5 sums checked