| flowClust 3.12.2 Greg Finak , Mike Jiang
 
 | Snapshot Date: 2017-04-14 17:17:13 -0400 (Fri, 14 Apr 2017) |  | URL: https://hedgehog.fhcrc.org/bioconductor/branches/RELEASE_3_4/madman/Rpacks/flowClust |  | Last Changed Rev: 125756 / Revision: 128728 |  | Last Changed Date: 2017-01-06 17:01:13 -0500 (Fri, 06 Jan 2017) | 
 | malbec1 | Linux (Ubuntu 16.04.1 LTS) / x86_64 | OK | OK | OK |  |  | 
| tokay1 | Windows Server 2012 R2 Standard / x64 | [ OK ] | OK | OK | OK |  | 
| morelia | Mac OS X Mavericks (10.9.5) / x86_64 | OK | OK | OK | OK |  | 
##############################################################################
##############################################################################
###
### Running command:
###
###   rm -rf flowClust.buildbin-libdir && mkdir flowClust.buildbin-libdir  && C:\cygwin\bin\curl.exe -O http://172.29.0.3/BBS/3.4/bioc/src/contrib/flowClust_3.12.2.tar.gz && C:\Users\biocbuild\bbs-3.4-bioc\R\bin\R.exe CMD INSTALL --build --library=flowClust.buildbin-libdir --merge-multiarch flowClust_3.12.2.tar.gz && C:\Users\biocbuild\bbs-3.4-bioc\R\bin\R.exe CMD INSTALL flowClust_3.12.2.zip  && rm flowClust_3.12.2.tar.gz flowClust_3.12.2.zip
###
##############################################################################
##############################################################################
  % Total    % Received % Xferd  Average Speed   Time    Time     Time  Current
                                 Dload  Upload   Total   Spent    Left  Speed
  0     0    0     0    0     0      0      0 --:--:-- --:--:-- --:--:--     0
 53 1607k   53  863k    0     0  11.6M      0 --:--:-- --:--:-- --:--:-- 11.7M
100 1607k  100 1607k    0     0  9364k      0 --:--:-- --:--:-- --:--:-- 9347k
install for i386
* installing *source* package 'flowClust' ...
   **********************************************
   WARNING: this package has a configure script
         It probably needs manual configuration
   **********************************************
** libs
C:/Rtools/mingw_32/bin/gcc  -I"C:/Users/BIOCBU˜1/BBS-3˜1.4-B/R/include" -DNDEBUG -I/src/include -I/i386/include    -I"C:/local323/include"     -O3 -Wall  -std=gnu99 -mtune=core2 -c BoxCox.c -o BoxCox.o
C:/Rtools/mingw_32/bin/gcc  -I"C:/Users/BIOCBU˜1/BBS-3˜1.4-B/R/include" -DNDEBUG -I/src/include -I/i386/include    -I"C:/local323/include"     -O3 -Wall  -std=gnu99 -mtune=core2 -c BoxCoxPriors.c -o BoxCoxPriors.o
BoxCoxPriors.c: In function 'BoxCoxGradientPriors':
BoxCoxPriors.c:57:16: warning: unused variable 'rowZ' [-Wunused-variable]
  rowPrecision, rowZ, rowLambda0;
                ^
BoxCoxPriors.c:33:24: warning: unused variable 'kappa0' [-Wunused-variable]
  double *nu0 = p->nu0, kappa0 = p->kappa0;
                        ^
BoxCoxPriors.c:32:7: warning: unused variable 'itersolve' [-Wunused-variable]
  int *itersolve = p->itersolve;
       ^
BoxCoxPriors.c:31:6: warning: unused variable 'iter' [-Wunused-variable]
  int iter = p->iter;
      ^
BoxCoxPriors.c:28:6: warning: unused variable 'model' [-Wunused-variable]
  int model = *p->model;
      ^
BoxCoxPriors.c:23:14: warning: unused variable 'SumZlogY' [-Wunused-variable]
  gsl_vector *SumZlogY = p->SumZlogY;
              ^
BoxCoxPriors.c:15:14: warning: unused variable 'Precision' [-Wunused-variable]
  gsl_matrix *Precision = p->Precision; // will be updated
              ^
C:/Rtools/mingw_32/bin/gcc  -I"C:/Users/BIOCBU˜1/BBS-3˜1.4-B/R/include" -DNDEBUG -I/src/include -I/i386/include    -I"C:/local323/include"     -O3 -Wall  -std=gnu99 -mtune=core2 -c Nu.c -o Nu.o
C:/Rtools/mingw_32/bin/gcc  -I"C:/Users/BIOCBU˜1/BBS-3˜1.4-B/R/include" -DNDEBUG -I/src/include -I/i386/include    -I"C:/local323/include"     -O3 -Wall  -std=gnu99 -mtune=core2 -c flowClust.c -o flowClust.o
flowClust.c: In function 'flowClust':
flowClust.c:48:2: warning: unused variable 'matrixZUY2' [-Wunused-variable]
  matrixZUY2;
  ^
flowClust.c:46:48: warning: unused variable 'subRowZUY2' [-Wunused-variable]
  rowYTransS, rowZUY, subRowZUY, rowZ, rowZUY2, subRowZUY2;
                                                ^
flowClust.c:46:39: warning: unused variable 'rowZUY2' [-Wunused-variable]
  rowYTransS, rowZUY, subRowZUY, rowZ, rowZUY2, subRowZUY2;
                                       ^
flowClust.c: In function 'ECMUpdateSigmaG2':
flowClust.c:1111:6: warning: unused variable 'i' [-Wunused-variable]
  int i=0;
      ^
flowClust.c: In function 'flowClust':
flowClust.c:383:13: warning: 's' may be used uninitialized in this function [-Wmaybe-uninitialized]
        x_hi = gsl_root_fsolver_x_upper(s);
             ^
flowClust.c:713:12: warning: 's3' may be used uninitialized in this function [-Wmaybe-uninitialized]
      nu_hi = gsl_min_fminimizer_x_upper(s3);
            ^
flowClust.c:675:14: warning: 's2' may be used uninitialized in this function [-Wmaybe-uninitialized]
        nu_hi = gsl_root_fsolver_x_upper(s2);
              ^
C:/Rtools/mingw_32/bin/gcc  -I"C:/Users/BIOCBU˜1/BBS-3˜1.4-B/R/include" -DNDEBUG -I/src/include -I/i386/include    -I"C:/local323/include"     -O3 -Wall  -std=gnu99 -mtune=core2 -c flowClustGaussian.c -o flowClustGaussian.o
flowClustGaussian.c: In function 'flowClustGaussian':
flowClustGaussian.c:242:13: warning: 's' may be used uninitialized in this function [-Wmaybe-uninitialized]
        x_hi = gsl_root_fsolver_x_upper(s);
             ^
C:/Rtools/mingw_32/bin/gcc  -I"C:/Users/BIOCBU˜1/BBS-3˜1.4-B/R/include" -DNDEBUG -I/src/include -I/i386/include    -I"C:/local323/include"     -O3 -Wall  -std=gnu99 -mtune=core2 -c ranMVNT.c -o ranMVNT.o
C:/Rtools/mingw_32/bin/gcc -shared -s -static-libgcc -o flowClust.dll tmp.def BoxCox.o BoxCoxPriors.o Nu.o flowClust.o flowClustGaussian.o ranMVNT.o -L/i386/lib -lgsl -lgslcblas -lm -LC:/local323/lib/i386 -LC:/local323/lib -LC:/Users/BIOCBU˜1/BBS-3˜1.4-B/R/bin/i386 -lR
installing to C:/Users/biocbuild/bbs-3.4-bioc/meat/flowClust.buildbin-libdir/flowClust/libs/i386
** R
** data
** inst
** preparing package for lazy loading
** help
*** installing help indices
** building package indices
** installing vignettes
** testing if installed package can be loaded
install for x64
* installing *source* package 'flowClust' ...
   **********************************************
   WARNING: this package has a configure script
         It probably needs manual configuration
   **********************************************
** libs
C:/Rtools/mingw_64/bin/gcc  -I"C:/Users/BIOCBU˜1/BBS-3˜1.4-B/R/include" -DNDEBUG -I/src/include -I/x64/include    -I"C:/local323/include"     -O2 -Wall  -std=gnu99 -mtune=core2 -c BoxCox.c -o BoxCox.o
C:/Rtools/mingw_64/bin/gcc  -I"C:/Users/BIOCBU˜1/BBS-3˜1.4-B/R/include" -DNDEBUG -I/src/include -I/x64/include    -I"C:/local323/include"     -O2 -Wall  -std=gnu99 -mtune=core2 -c BoxCoxPriors.c -o BoxCoxPriors.o
BoxCoxPriors.c: In function 'BoxCoxGradientPriors':
BoxCoxPriors.c:57:16: warning: unused variable 'rowZ' [-Wunused-variable]
  rowPrecision, rowZ, rowLambda0;
                ^
BoxCoxPriors.c:33:24: warning: unused variable 'kappa0' [-Wunused-variable]
  double *nu0 = p->nu0, kappa0 = p->kappa0;
                        ^
BoxCoxPriors.c:32:7: warning: unused variable 'itersolve' [-Wunused-variable]
  int *itersolve = p->itersolve;
       ^
BoxCoxPriors.c:31:6: warning: unused variable 'iter' [-Wunused-variable]
  int iter = p->iter;
      ^
BoxCoxPriors.c:28:6: warning: unused variable 'model' [-Wunused-variable]
  int model = *p->model;
      ^
BoxCoxPriors.c:23:14: warning: unused variable 'SumZlogY' [-Wunused-variable]
  gsl_vector *SumZlogY = p->SumZlogY;
              ^
BoxCoxPriors.c:15:14: warning: unused variable 'Precision' [-Wunused-variable]
  gsl_matrix *Precision = p->Precision; // will be updated
              ^
C:/Rtools/mingw_64/bin/gcc  -I"C:/Users/BIOCBU˜1/BBS-3˜1.4-B/R/include" -DNDEBUG -I/src/include -I/x64/include    -I"C:/local323/include"     -O2 -Wall  -std=gnu99 -mtune=core2 -c Nu.c -o Nu.o
C:/Rtools/mingw_64/bin/gcc  -I"C:/Users/BIOCBU˜1/BBS-3˜1.4-B/R/include" -DNDEBUG -I/src/include -I/x64/include    -I"C:/local323/include"     -O2 -Wall  -std=gnu99 -mtune=core2 -c flowClust.c -o flowClust.o
flowClust.c: In function 'flowClust':
flowClust.c:48:2: warning: unused variable 'matrixZUY2' [-Wunused-variable]
  matrixZUY2;
  ^
flowClust.c:46:48: warning: unused variable 'subRowZUY2' [-Wunused-variable]
  rowYTransS, rowZUY, subRowZUY, rowZ, rowZUY2, subRowZUY2;
                                                ^
flowClust.c:46:39: warning: unused variable 'rowZUY2' [-Wunused-variable]
  rowYTransS, rowZUY, subRowZUY, rowZ, rowZUY2, subRowZUY2;
                                       ^
flowClust.c: In function 'ECMUpdateSigmaG2':
flowClust.c:1111:6: warning: unused variable 'i' [-Wunused-variable]
  int i=0;
      ^
flowClust.c: In function 'flowClust':
flowClust.c:383:13: warning: 's' may be used uninitialized in this function [-Wmaybe-uninitialized]
        x_hi = gsl_root_fsolver_x_upper(s);
             ^
flowClust.c:713:12: warning: 's3' may be used uninitialized in this function [-Wmaybe-uninitialized]
      nu_hi = gsl_min_fminimizer_x_upper(s3);
            ^
flowClust.c:675:14: warning: 's2' may be used uninitialized in this function [-Wmaybe-uninitialized]
        nu_hi = gsl_root_fsolver_x_upper(s2);
              ^
C:/Rtools/mingw_64/bin/gcc  -I"C:/Users/BIOCBU˜1/BBS-3˜1.4-B/R/include" -DNDEBUG -I/src/include -I/x64/include    -I"C:/local323/include"     -O2 -Wall  -std=gnu99 -mtune=core2 -c flowClustGaussian.c -o flowClustGaussian.o
flowClustGaussian.c: In function 'flowClustGaussian':
flowClustGaussian.c:242:13: warning: 's' may be used uninitialized in this function [-Wmaybe-uninitialized]
        x_hi = gsl_root_fsolver_x_upper(s);
             ^
C:/Rtools/mingw_64/bin/gcc  -I"C:/Users/BIOCBU˜1/BBS-3˜1.4-B/R/include" -DNDEBUG -I/src/include -I/x64/include    -I"C:/local323/include"     -O2 -Wall  -std=gnu99 -mtune=core2 -c ranMVNT.c -o ranMVNT.o
C:/Rtools/mingw_64/bin/gcc -shared -s -static-libgcc -o flowClust.dll tmp.def BoxCox.o BoxCoxPriors.o Nu.o flowClust.o flowClustGaussian.o ranMVNT.o -L/x64/lib -lgsl -lgslcblas -lm -LC:/local323/lib/x64 -LC:/local323/lib -LC:/Users/BIOCBU˜1/BBS-3˜1.4-B/R/bin/x64 -lR
installing to C:/Users/biocbuild/bbs-3.4-bioc/meat/flowClust.buildbin-libdir/flowClust/libs/x64
** testing if installed package can be loaded
* MD5 sums
packaged installation of 'flowClust' as flowClust_3.12.2.zip
* DONE (flowClust)
* installing to library 'C:/Users/biocbuild/bbs-3.4-bioc/R/library'
package 'flowClust' successfully unpacked and MD5 sums checked