ROTS 1.1.4 Fatemeh Seyednasrollah
 | Snapshot Date: 2016-09-19 19:15:14 -0700 (Mon, 19 Sep 2016) |  | URL: https://hedgehog.fhcrc.org/bioconductor/trunk/madman/Rpacks/ROTS |  | Last Changed Rev: 120927 / Revision: 121152 |  | Last Changed Date: 2016-09-14 01:22:43 -0700 (Wed, 14 Sep 2016) |  
  | zin1  | Linux (Ubuntu 16.04 LTS) / x86_64  | [ OK ] |  OK  |  OK  |  |   | 
| moscato1  | Windows Server 2008 R2 Standard (64-bit) / x64  |  OK  |  OK  |  OK  |  OK  |   | 
| morelia  | Mac OS X Mavericks (10.9.5) / x86_64  |  OK  |  OK  |  OK  |  OK  |   | 
##############################################################################
##############################################################################
###
### Running command:
###
###   /home/biocbuild/bbs-3.4-bioc/R/bin/R CMD INSTALL ROTS
###
##############################################################################
##############################################################################
* installing to library ‘/home/biocbuild/bbs-3.4-bioc/R/library’
* installing *source* package ‘ROTS’ ...
** libs
g++ -I/home/biocbuild/bbs-3.4-bioc/R/include -DNDEBUG  -I/usr/local/include -I"/home/biocbuild/bbs-3.4-bioc/R/library/Rcpp/include"   -fpic  -g -O2  -Wall -c NeedForSpeed1.cpp -o NeedForSpeed1.o
g++ -I/home/biocbuild/bbs-3.4-bioc/R/include -DNDEBUG  -I/usr/local/include -I"/home/biocbuild/bbs-3.4-bioc/R/library/Rcpp/include"   -fpic  -g -O2  -Wall -c NeedForSpeed2.cpp -o NeedForSpeed2.o
g++ -I/home/biocbuild/bbs-3.4-bioc/R/include -DNDEBUG  -I/usr/local/include -I"/home/biocbuild/bbs-3.4-bioc/R/library/Rcpp/include"   -fpic  -g -O2  -Wall -c RcppExports.cpp -o RcppExports.o
g++ -I/home/biocbuild/bbs-3.4-bioc/R/include -DNDEBUG  -I/usr/local/include -I"/home/biocbuild/bbs-3.4-bioc/R/library/Rcpp/include"   -fpic  -g -O2  -Wall -c pvalue.cpp -o pvalue.o
g++ -shared -L/home/biocbuild/bbs-3.4-bioc/R/lib -L/usr/local/lib -o ROTS.so NeedForSpeed1.o NeedForSpeed2.o RcppExports.o pvalue.o -L/home/biocbuild/bbs-3.4-bioc/R/lib -lR
installing to /home/biocbuild/bbs-3.4-bioc/R/library/ROTS/libs
** R
** data
*** moving datasets to lazyload DB
** preparing package for lazy loading
** help
*** installing help indices
** building package indices
** installing vignettes
** testing if installed package can be loaded
* DONE (ROTS)