topGO 2.26.0 Adrian Alexa
 | Snapshot Date: 2017-04-14 17:17:13 -0400 (Fri, 14 Apr 2017) |  | URL: https://hedgehog.fhcrc.org/bioconductor/branches/RELEASE_3_4/madman/Rpacks/topGO |  | Last Changed Rev: 122710 / Revision: 128728 |  | Last Changed Date: 2016-10-17 14:45:06 -0400 (Mon, 17 Oct 2016) |  
  | malbec1  | Linux (Ubuntu 16.04.1 LTS) / x86_64  |  OK  |  OK  |  OK  |  |   | 
| tokay1  | Windows Server 2012 R2 Standard / x64  | [ OK ] |  OK  |  OK  |  OK  |   | 
| morelia  | Mac OS X Mavericks (10.9.5) / x86_64  |  OK  |  OK  |  OK  |  OK  |   | 
##############################################################################
##############################################################################
###
### Running command:
###
###   rm -rf topGO.buildbin-libdir && mkdir topGO.buildbin-libdir  && C:\cygwin\bin\curl.exe -O http://172.29.0.3/BBS/3.4/bioc/src/contrib/topGO_2.26.0.tar.gz && C:\Users\biocbuild\bbs-3.4-bioc\R\bin\R.exe CMD INSTALL --build --library=topGO.buildbin-libdir --merge-multiarch topGO_2.26.0.tar.gz && C:\Users\biocbuild\bbs-3.4-bioc\R\bin\R.exe CMD INSTALL topGO_2.26.0.zip  && rm topGO_2.26.0.tar.gz topGO_2.26.0.zip
###
##############################################################################
##############################################################################
  % Total    % Received % Xferd  Average Speed   Time    Time     Time  Current
                                 Dload  Upload   Total   Spent    Left  Speed
  0     0    0     0    0     0      0      0 --:--:-- --:--:-- --:--:--     0
100  427k  100  427k    0     0  5891k      0 --:--:-- --:--:-- --:--:-- 5944k
install for i386
* installing *source* package 'topGO' ...
** R
** data
** inst
** preparing package for lazy loading
** help
*** installing help indices
** building package indices
** installing vignettes
** testing if installed package can be loaded
groupGOTerms: 	GOBPTerm, GOMFTerm, GOCCTerm environments built.
install for x64
* installing *source* package 'topGO' ...
** testing if installed package can be loaded
groupGOTerms: 	GOBPTerm, GOMFTerm, GOCCTerm environments built.
* MD5 sums
packaged installation of 'topGO' as topGO_2.26.0.zip
* DONE (topGO)
* installing to library 'C:/Users/biocbuild/bbs-3.4-bioc/R/library'
package 'topGO' successfully unpacked and MD5 sums checked