| roar 1.10.0 Elena Grassi
 
 | Snapshot Date: 2017-04-14 17:17:13 -0400 (Fri, 14 Apr 2017) |  | URL: https://hedgehog.fhcrc.org/bioconductor/branches/RELEASE_3_4/madman/Rpacks/roar |  | Last Changed Rev: 122710 / Revision: 128728 |  | Last Changed Date: 2016-10-17 14:45:06 -0400 (Mon, 17 Oct 2016) | 
 | malbec1 | Linux (Ubuntu 16.04.1 LTS) / x86_64 | OK | OK | OK |  |  | 
| tokay1 | Windows Server 2012 R2 Standard / x64 | OK | OK | OK | [ OK ] |  | 
| morelia | Mac OS X Mavericks (10.9.5) / x86_64 | OK | OK | OK | OK |  | 
##############################################################################
##############################################################################
###
### Running command:
###
###   cd roar.buildbin-libdir/roar && zip -r ../../roar_1.10.0.zip . & cd ../..
###
##############################################################################
##############################################################################
  adding: DESCRIPTION (284 bytes security) (deflated 38%)
  adding: doc/ (324 bytes security) (stored 0%)
  adding: doc/index.html (284 bytes security) (deflated 56%)
  adding: doc/roar.pdf (284 bytes security) (deflated 9%)
  adding: doc/roar.R (284 bytes security) (deflated 72%)
  adding: doc/roar.Rnw (284 bytes security) (deflated 64%)
  adding: examples/ (324 bytes security) (stored 0%)
  adding: examples/apa.gtf (284 bytes security) (deflated 80%)
  adding: examples/roarWrapper.R (284 bytes security) (deflated 55%)
  adding: examples/roarWrapper_chrBychr.R (284 bytes security) (deflated 59%)
  adding: examples/roarWrapper_multipleAPA.R (284 bytes security) (deflated 54%)
  adding: examples/roarWrapper_multipleAPA_bf.R (284 bytes security) (deflated 67%)
  adding: examples/roarWrapper_multipleAPA_chrBychr.R (284 bytes security) (deflated 60%)
  adding: examples/roarWrapper_paired_chrBychr.R (284 bytes security) (deflated 62%)
  adding: help/ (324 bytes security) (stored 0%)
  adding: help/aliases.rds (284 bytes security) (stored 0%)
  adding: help/AnIndex (284 bytes security) (deflated 86%)
  adding: help/paths.rds (284 bytes security) (stored 0%)
  adding: help/roar.rdb (284 bytes security) (deflated 1%)
  adding: help/roar.rdx (284 bytes security) (stored 0%)
  adding: html/ (324 bytes security) (stored 0%)
  adding: html/00Index.html (284 bytes security) (deflated 88%)
  adding: html/R.css (284 bytes security) (deflated 75%)
  adding: INDEX (284 bytes security) (deflated 78%)
  adding: MD5 (284 bytes security) (deflated 45%)
  adding: Meta/ (324 bytes security) (stored 0%)
  adding: Meta/hsearch.rds (284 bytes security) (stored 0%)
  adding: Meta/links.rds (284 bytes security) (stored 0%)
  adding: Meta/nsInfo.rds (284 bytes security) (stored 0%)
  adding: Meta/package.rds (284 bytes security) (stored 0%)
  adding: Meta/Rd.rds (284 bytes security) (stored 0%)
  adding: Meta/vignette.rds (284 bytes security) (stored 0%)
  adding: NAMESPACE (284 bytes security) (deflated 51%)
  adding: NEWS (284 bytes security) (deflated 58%)
  adding: R/ (324 bytes security) (stored 0%)
  adding: R/roar (284 bytes security) (deflated 41%)
  adding: R/roar.rdb (284 bytes security) (deflated 32%)
  adding: R/roar.rdx (284 bytes security) (deflated 1%)