| plier 1.44.0 Crispin Miller
 
 | Snapshot Date: 2017-04-14 17:17:13 -0400 (Fri, 14 Apr 2017) |  | URL: https://hedgehog.fhcrc.org/bioconductor/branches/RELEASE_3_4/madman/Rpacks/plier |  | Last Changed Rev: 122710 / Revision: 128728 |  | Last Changed Date: 2016-10-17 14:45:06 -0400 (Mon, 17 Oct 2016) | 
 | malbec1 | Linux (Ubuntu 16.04.1 LTS) / x86_64 | OK | OK | WARNINGS |  |  | 
| tokay1 | Windows Server 2012 R2 Standard / x64 | [ OK ] | OK | OK | OK |  | 
| morelia | Mac OS X Mavericks (10.9.5) / x86_64 | OK | OK | WARNINGS | OK |  | 
##############################################################################
##############################################################################
###
### Running command:
###
###   rm -rf plier.buildbin-libdir && mkdir plier.buildbin-libdir  && C:\cygwin\bin\curl.exe -O http://172.29.0.3/BBS/3.4/bioc/src/contrib/plier_1.44.0.tar.gz && C:\Users\biocbuild\bbs-3.4-bioc\R\bin\R.exe CMD INSTALL --build --library=plier.buildbin-libdir --merge-multiarch plier_1.44.0.tar.gz && C:\Users\biocbuild\bbs-3.4-bioc\R\bin\R.exe CMD INSTALL plier_1.44.0.zip  && rm plier_1.44.0.tar.gz plier_1.44.0.zip
###
##############################################################################
##############################################################################
  % Total    % Received % Xferd  Average Speed   Time    Time     Time  Current
                                 Dload  Upload   Total   Spent    Left  Speed
  0     0    0     0    0     0      0      0 --:--:-- --:--:-- --:--:--     0
100 20443  100 20443    0     0  1459k      0 --:--:-- --:--:-- --:--:-- 1535k
install for i386
* installing *source* package 'plier' ...
** libs
C:/Rtools/mingw_32/bin/g++  -I"C:/Users/BIOCBU˜1/BBS-3˜1.4-B/R/include" -DNDEBUG     -I"C:/local323/include"     -O2 -Wall  -mtune=core2 -c affyplier.cpp -o affyplier.o
C:/Rtools/mingw_32/bin/g++  -I"C:/Users/BIOCBU˜1/BBS-3˜1.4-B/R/include" -DNDEBUG     -I"C:/local323/include"     -O2 -Wall  -mtune=core2 -c plier_impl.cpp -o plier_impl.o
C:/Rtools/mingw_32/bin/g++  -I"C:/Users/BIOCBU˜1/BBS-3˜1.4-B/R/include" -DNDEBUG     -I"C:/local323/include"     -O2 -Wall  -mtune=core2 -c plieralg.cpp -o plieralg.o
plieralg.cpp: In function 'long int NewtonPlier(plier_data*, double&)':
plieralg.cpp:905:14: warning: variable 'icount' set but not used [-Wunused-but-set-variable]
  long count, icount;
              ^
plieralg.cpp:1257:24: warning: 'LogLikelihood' may be used uninitialized in this function [-Wmaybe-uninitialized]
  output = LogLikelihood/nSize;
                        ^
plieralg.cpp: At global scope:
plieralg.cpp:49:12: warning: 'g_ErrorCode' defined but not used [-Wunused-variable]
 static int g_ErrorCode=NoError;
            ^
C:/Rtools/mingw_32/bin/g++  -I"C:/Users/BIOCBU˜1/BBS-3˜1.4-B/R/include" -DNDEBUG     -I"C:/local323/include"     -O2 -Wall  -mtune=core2 -c rwrapper.cpp -o rwrapper.o
C:/Rtools/mingw_32/bin/g++ -shared -s -static-libgcc -o plier.dll tmp.def affyplier.o plier_impl.o plieralg.o rwrapper.o -LC:/local323/lib/i386 -LC:/local323/lib -LC:/Users/BIOCBU˜1/BBS-3˜1.4-B/R/bin/i386 -lR
installing to C:/Users/biocbuild/bbs-3.4-bioc/meat/plier.buildbin-libdir/plier/libs/i386
** R
** preparing package for lazy loading
** help
*** installing help indices
** building package indices
** testing if installed package can be loaded
install for x64
* installing *source* package 'plier' ...
** libs
C:/Rtools/mingw_64/bin/g++  -I"C:/Users/BIOCBU˜1/BBS-3˜1.4-B/R/include" -DNDEBUG     -I"C:/local323/include"     -O2 -Wall  -mtune=core2 -c affyplier.cpp -o affyplier.o
C:/Rtools/mingw_64/bin/g++  -I"C:/Users/BIOCBU˜1/BBS-3˜1.4-B/R/include" -DNDEBUG     -I"C:/local323/include"     -O2 -Wall  -mtune=core2 -c plier_impl.cpp -o plier_impl.o
C:/Rtools/mingw_64/bin/g++  -I"C:/Users/BIOCBU˜1/BBS-3˜1.4-B/R/include" -DNDEBUG     -I"C:/local323/include"     -O2 -Wall  -mtune=core2 -c plieralg.cpp -o plieralg.o
plieralg.cpp: In function 'long int NewtonPlier(plier_data*, double&)':
plieralg.cpp:905:14: warning: variable 'icount' set but not used [-Wunused-but-set-variable]
  long count, icount;
              ^
plieralg.cpp:1257:24: warning: 'LogLikelihood' may be used uninitialized in this function [-Wmaybe-uninitialized]
  output = LogLikelihood/nSize;
                        ^
plieralg.cpp: At global scope:
plieralg.cpp:49:12: warning: 'g_ErrorCode' defined but not used [-Wunused-variable]
 static int g_ErrorCode=NoError;
            ^
C:/Rtools/mingw_64/bin/g++  -I"C:/Users/BIOCBU˜1/BBS-3˜1.4-B/R/include" -DNDEBUG     -I"C:/local323/include"     -O2 -Wall  -mtune=core2 -c rwrapper.cpp -o rwrapper.o
C:/Rtools/mingw_64/bin/g++ -shared -s -static-libgcc -o plier.dll tmp.def affyplier.o plier_impl.o plieralg.o rwrapper.o -LC:/local323/lib/x64 -LC:/local323/lib -LC:/Users/BIOCBU˜1/BBS-3˜1.4-B/R/bin/x64 -lR
installing to C:/Users/biocbuild/bbs-3.4-bioc/meat/plier.buildbin-libdir/plier/libs/x64
** testing if installed package can be loaded
* MD5 sums
packaged installation of 'plier' as plier_1.44.0.zip
* DONE (plier)
* installing to library 'C:/Users/biocbuild/bbs-3.4-bioc/R/library'
package 'plier' successfully unpacked and MD5 sums checked