| piano 1.13.10 Leif Varemo
 
 | Snapshot Date: 2016-09-19 19:15:14 -0700 (Mon, 19 Sep 2016) |  | URL: https://hedgehog.fhcrc.org/bioconductor/trunk/madman/Rpacks/piano |  | Last Changed Rev: 120241 / Revision: 121152 |  | Last Changed Date: 2016-08-18 01:30:59 -0700 (Thu, 18 Aug 2016) | 
 | zin1 | Linux (Ubuntu 16.04 LTS) / x86_64 | OK | OK | OK |  |  | 
| moscato1 | Windows Server 2008 R2 Standard (64-bit) / x64 | OK | OK | OK | [ OK ] |  | 
| morelia | Mac OS X Mavericks (10.9.5) / x86_64 | OK | OK | OK | OK |  | 
##############################################################################
##############################################################################
###
### Running command:
###
###   cd piano.buildbin-libdir/piano && zip -r ../../piano_1.13.10.zip . & cd ../..
###
##############################################################################
##############################################################################
  adding: CITATION (188 bytes security) (deflated 54%)
  adding: data/ (208 bytes security) (stored 0%)
  adding: data/gsa_input.RData (188 bytes security) (stored 0%)
  adding: data/gsa_results.RData (188 bytes security) (deflated 0%)
  adding: DESCRIPTION (188 bytes security) (deflated 45%)
  adding: doc/ (208 bytes security) (stored 0%)
  adding: doc/index.html (188 bytes security) (deflated 57%)
  adding: doc/piano-vignette.pdf (188 bytes security) (deflated 14%)
  adding: doc/piano-vignette.R (188 bytes security) (deflated 79%)
  adding: doc/piano-vignette.Rnw (188 bytes security) (deflated 69%)
  adding: extdata/ (208 bytes security) (stored 0%)
  adding: extdata/norm_data.txt.gz (188 bytes security) (deflated 0%)
  adding: extdata/probe2metabolites_iIN800.txt.gz (188 bytes security) (stored 0%)
  adding: extdata/probe2metabolites_iTO977.txt.gz (188 bytes security) (deflated 0%)
  adding: extdata/setup.txt (188 bytes security) (deflated 68%)
  adding: help/ (208 bytes security) (stored 0%)
  adding: help/aliases.rds (188 bytes security) (stored 0%)
  adding: help/AnIndex (188 bytes security) (deflated 55%)
  adding: help/paths.rds (188 bytes security) (stored 0%)
  adding: help/piano.rdb (188 bytes security) (deflated 1%)
  adding: help/piano.rdx (188 bytes security) (stored 0%)
  adding: html/ (208 bytes security) (stored 0%)
  adding: html/00Index.html (188 bytes security) (deflated 70%)
  adding: html/R.css (188 bytes security) (deflated 75%)
  adding: INDEX (188 bytes security) (deflated 58%)
  adding: MD5 (188 bytes security) (deflated 42%)
  adding: Meta/ (208 bytes security) (stored 0%)
  adding: Meta/data.rds (188 bytes security) (stored 0%)
  adding: Meta/hsearch.rds (188 bytes security) (stored 0%)
  adding: Meta/links.rds (188 bytes security) (stored 0%)
  adding: Meta/nsInfo.rds (188 bytes security) (stored 0%)
  adding: Meta/package.rds (188 bytes security) (stored 0%)
  adding: Meta/Rd.rds (188 bytes security) (stored 0%)
  adding: Meta/vignette.rds (188 bytes security) (stored 0%)
  adding: NAMESPACE (188 bytes security) (deflated 51%)
  adding: NEWS (188 bytes security) (deflated 69%)
  adding: R/ (208 bytes security) (stored 0%)
  adding: R/piano (188 bytes security) (deflated 41%)
  adding: R/piano.rdb (188 bytes security) (deflated 0%)
  adding: R/piano.rdx (188 bytes security) (stored 0%)