| monocle 1.7.2 Cole Trapnell
 
 | Snapshot Date: 2016-09-19 19:15:14 -0700 (Mon, 19 Sep 2016) |  | URL: https://hedgehog.fhcrc.org/bioconductor/trunk/madman/Rpacks/monocle |  | Last Changed Rev: 117512 / Revision: 121152 |  | Last Changed Date: 2016-05-15 13:14:22 -0700 (Sun, 15 May 2016) | 
 | zin1 | Linux (Ubuntu 16.04 LTS) / x86_64 | OK | OK | OK |  |  | 
| moscato1 | Windows Server 2008 R2 Standard (64-bit) / x64 | [ OK ] | OK | OK | OK |  | 
| morelia | Mac OS X Mavericks (10.9.5) / x86_64 | OK | OK | OK | OK |  | 
##############################################################################
##############################################################################
###
### Running command:
###
###   rm -rf monocle.buildbin-libdir && mkdir monocle.buildbin-libdir  && C:\cygwin\bin\curl.exe -O http://zin1/BBS/3.4/bioc/src/contrib/monocle_1.7.2.tar.gz && D:\biocbld\bbs-3.4-bioc\R\bin\R.exe CMD INSTALL --build --library=monocle.buildbin-libdir --merge-multiarch monocle_1.7.2.tar.gz && D:\biocbld\bbs-3.4-bioc\R\bin\R.exe CMD INSTALL monocle_1.7.2.zip  && rm monocle_1.7.2.tar.gz monocle_1.7.2.zip
###
##############################################################################
##############################################################################
  % Total    % Received % Xferd  Average Speed   Time    Time     Time  Current
                                 Dload  Upload   Total   Spent    Left  Speed
  0     0    0     0    0     0      0      0 --:--:-- --:--:-- --:--:--     0
  0     0    0     0    0     0      0      0 --:--:--  0:00:01 --:--:--     0
 27 52112   27 14359    0     0   7228      0  0:00:07  0:00:01  0:00:06  7237
100 52112  100 52112    0     0  26224      0  0:00:01  0:00:01 --:--:-- 26266
install for i386
* installing *source* package 'monocle' ...
** R
** inst
** preparing package for lazy loading
No methods found in "BiocGenerics" for requests: as.vector, unlist
** help
*** installing help indices
** building package indices
** installing vignettes
** testing if installed package can be loaded
No methods found in "BiocGenerics" for requests: as.vector, unlist
install for x64
* installing *source* package 'monocle' ...
** testing if installed package can be loaded
No methods found in "BiocGenerics" for requests: as.vector, unlist
* MD5 sums
packaged installation of 'monocle' as monocle_1.7.2.zip
* DONE (monocle)
* installing to library 'D:/biocbld/bbs-3.4-bioc/R/library'
package 'monocle' successfully unpacked and MD5 sums checked