| hpar 1.15.3 Laurent Gatto
 
 | Snapshot Date: 2016-09-19 19:15:14 -0700 (Mon, 19 Sep 2016) |  | URL: https://hedgehog.fhcrc.org/bioconductor/trunk/madman/Rpacks/hpar |  | Last Changed Rev: 120973 / Revision: 121152 |  | Last Changed Date: 2016-09-14 23:20:20 -0700 (Wed, 14 Sep 2016) | 
 | zin1 | Linux (Ubuntu 16.04 LTS) / x86_64 | OK | OK | OK |  |  | 
| moscato1 | Windows Server 2008 R2 Standard (64-bit) / x64 | OK | OK | OK | [ OK ] |  | 
| morelia | Mac OS X Mavericks (10.9.5) / x86_64 | OK | OK | OK | OK |  | 
##############################################################################
##############################################################################
###
### Running command:
###
###   cd hpar.buildbin-libdir/hpar && zip -r ../../hpar_1.15.3.zip . & cd ../..
###
##############################################################################
##############################################################################
  adding: data/ (208 bytes security) (stored 0%)
  adding: data/datalist (188 bytes security) (deflated 32%)
  adding: data/hpaCancer.rda (188 bytes security) (deflated 0%)
  adding: data/hpaNormalTissue.rda (188 bytes security) (deflated 0%)
  adding: data/hpaSubcellularLoc.rda (188 bytes security) (deflated 0%)
  adding: data/hpaSubcellularLoc14.rda (188 bytes security) (stored 0%)
  adding: data/rnaGeneCellLine.rda (188 bytes security) (deflated 0%)
  adding: data/rnaGeneTissue.rda (188 bytes security) (deflated 0%)
  adding: DESCRIPTION (188 bytes security) (deflated 34%)
  adding: doc/ (208 bytes security) (stored 0%)
  adding: doc/hpar.pdf (188 bytes security) (deflated 6%)
  adding: doc/hpar.R (188 bytes security) (deflated 67%)
  adding: doc/hpar.Rnw (188 bytes security) (deflated 64%)
  adding: doc/index.html (188 bytes security) (deflated 57%)
  adding: extdata/ (208 bytes security) (stored 0%)
  adding: extdata/hpaRelease.rda (188 bytes security) (stored 0%)
  adding: help/ (208 bytes security) (stored 0%)
  adding: help/aliases.rds (188 bytes security) (stored 0%)
  adding: help/AnIndex (188 bytes security) (deflated 58%)
  adding: help/hpar.rdb (188 bytes security) (deflated 1%)
  adding: help/hpar.rdx (188 bytes security) (stored 0%)
  adding: help/paths.rds (188 bytes security) (stored 0%)
  adding: html/ (208 bytes security) (stored 0%)
  adding: html/00Index.html (188 bytes security) (deflated 71%)
  adding: html/R.css (188 bytes security) (deflated 75%)
  adding: INDEX (188 bytes security) (deflated 47%)
  adding: MD5 (188 bytes security) (deflated 43%)
  adding: Meta/ (208 bytes security) (stored 0%)
  adding: Meta/data.rds (188 bytes security) (stored 0%)
  adding: Meta/hsearch.rds (188 bytes security) (stored 0%)
  adding: Meta/links.rds (188 bytes security) (stored 0%)
  adding: Meta/nsInfo.rds (188 bytes security) (stored 0%)
  adding: Meta/package.rds (188 bytes security) (stored 0%)
  adding: Meta/Rd.rds (188 bytes security) (stored 0%)
  adding: Meta/vignette.rds (188 bytes security) (stored 0%)
  adding: NAMESPACE (188 bytes security) (deflated 32%)
  adding: NEWS (188 bytes security) (deflated 65%)
  adding: R/ (208 bytes security) (stored 0%)
  adding: R/hpar (188 bytes security) (deflated 41%)
  adding: R/hpar.rdb (188 bytes security) (deflated 18%)
  adding: R/hpar.rdx (188 bytes security) (stored 0%)
  adding: scripts/ (208 bytes security) (stored 0%)
  adding: scripts/getHpaData.R (188 bytes security) (deflated 66%)