hopach 2.34.0 Katherine S. Pollard
 | Snapshot Date: 2017-04-14 17:17:13 -0400 (Fri, 14 Apr 2017) |  | URL: https://hedgehog.fhcrc.org/bioconductor/branches/RELEASE_3_4/madman/Rpacks/hopach |  | Last Changed Rev: 122710 / Revision: 128728 |  | Last Changed Date: 2016-10-17 14:45:06 -0400 (Mon, 17 Oct 2016) |  
  | malbec1  | Linux (Ubuntu 16.04.1 LTS) / x86_64  |  OK  |  OK  |  OK  |  |   | 
| tokay1  | Windows Server 2012 R2 Standard / x64  |  OK  |  OK  |  OK  | [ OK ] |   | 
| morelia  | Mac OS X Mavericks (10.9.5) / x86_64  |  OK  |  OK  |  OK  |  OK  |   | 
##############################################################################
##############################################################################
###
### Running command:
###
###   cd hopach.buildbin-libdir/hopach && zip -r ../../hopach_2.34.0.zip . & cd ../..
###
##############################################################################
##############################################################################
  adding: CITATION (284 bytes security) (deflated 46%)
  adding: data/ (324 bytes security) (stored 0%)
  adding: data/golub.RData (284 bytes security) (deflated 0%)
  adding: DESCRIPTION (284 bytes security) (deflated 43%)
  adding: doc/ (324 bytes security) (stored 0%)
  adding: doc/hopach.pdf (284 bytes security) (deflated 84%)
  adding: doc/hopach.R (284 bytes security) (deflated 78%)
  adding: doc/hopach.Rnw (284 bytes security) (deflated 65%)
  adding: doc/index.html (284 bytes security) (deflated 58%)
  adding: help/ (324 bytes security) (stored 0%)
  adding: help/aliases.rds (284 bytes security) (stored 0%)
  adding: help/AnIndex (284 bytes security) (deflated 76%)
  adding: help/hopach.rdb (284 bytes security) (deflated 0%)
  adding: help/hopach.rdx (284 bytes security) (stored 0%)
  adding: help/paths.rds (284 bytes security) (stored 0%)
  adding: html/ (324 bytes security) (stored 0%)
  adding: html/00Index.html (284 bytes security) (deflated 81%)
  adding: html/R.css (284 bytes security) (deflated 75%)
  adding: INDEX (284 bytes security) (deflated 69%)
  adding: libs/ (324 bytes security) (stored 0%)
  adding: libs/i386/ (324 bytes security) (stored 0%)
  adding: libs/i386/hopach.dll (284 bytes security) (deflated 59%)
  adding: libs/x64/ (324 bytes security) (stored 0%)
  adding: libs/x64/hopach.dll (284 bytes security) (deflated 58%)
  adding: MD5 (284 bytes security) (deflated 42%)
  adding: Meta/ (324 bytes security) (stored 0%)
  adding: Meta/data.rds (284 bytes security) (stored 0%)
  adding: Meta/hsearch.rds (284 bytes security) (stored 0%)
  adding: Meta/links.rds (284 bytes security) (stored 0%)
  adding: Meta/nsInfo.rds (284 bytes security) (stored 0%)
  adding: Meta/package.rds (284 bytes security) (stored 0%)
  adding: Meta/Rd.rds (284 bytes security) (stored 0%)
  adding: Meta/vignette.rds (284 bytes security) (stored 0%)
  adding: NAMESPACE (284 bytes security) (deflated 55%)
  adding: R/ (324 bytes security) (stored 0%)
  adding: R/hopach (284 bytes security) (deflated 41%)
  adding: R/hopach.rdb (284 bytes security) (deflated 20%)
  adding: R/hopach.rdx (284 bytes security) (stored 0%)