| epivizrServer 1.2.0 Hector Corrada Bravo
 
 | Snapshot Date: 2017-04-14 17:17:13 -0400 (Fri, 14 Apr 2017) |  | URL: https://hedgehog.fhcrc.org/bioconductor/branches/RELEASE_3_4/madman/Rpacks/epivizrServer |  | Last Changed Rev: 122710 / Revision: 128728 |  | Last Changed Date: 2016-10-17 14:45:06 -0400 (Mon, 17 Oct 2016) | 
 | malbec1 | Linux (Ubuntu 16.04.1 LTS) / x86_64 | OK | OK | OK |  |  | 
| tokay1 | Windows Server 2012 R2 Standard / x64 | [ OK ] | OK | OK | OK |  | 
| morelia | Mac OS X Mavericks (10.9.5) / x86_64 | OK | OK | OK | OK |  | 
##############################################################################
##############################################################################
###
### Running command:
###
###   rm -rf epivizrServer.buildbin-libdir && mkdir epivizrServer.buildbin-libdir  && C:\cygwin\bin\curl.exe -O http://172.29.0.3/BBS/3.4/bioc/src/contrib/epivizrServer_1.2.0.tar.gz && C:\Users\biocbuild\bbs-3.4-bioc\R\bin\R.exe CMD INSTALL --build --library=epivizrServer.buildbin-libdir --merge-multiarch epivizrServer_1.2.0.tar.gz && C:\Users\biocbuild\bbs-3.4-bioc\R\bin\R.exe CMD INSTALL epivizrServer_1.2.0.zip  && rm epivizrServer_1.2.0.tar.gz epivizrServer_1.2.0.zip
###
##############################################################################
##############################################################################
  % Total    % Received % Xferd  Average Speed   Time    Time     Time  Current
                                 Dload  Upload   Total   Spent    Left  Speed
  0     0    0     0    0     0      0      0 --:--:-- --:--:-- --:--:--     0
100 18969  100 18969    0     0  1083k      0 --:--:-- --:--:-- --:--:-- 1157k
install for i386
* installing *source* package 'epivizrServer' ...
** R
** inst
** preparing package for lazy loading
** help
*** installing help indices
** building package indices
** installing vignettes
** testing if installed package can be loaded
install for x64
* installing *source* package 'epivizrServer' ...
** testing if installed package can be loaded
* MD5 sums
packaged installation of 'epivizrServer' as epivizrServer_1.2.0.zip
* DONE (epivizrServer)
* installing to library 'C:/Users/biocbuild/bbs-3.4-bioc/R/library'
package 'epivizrServer' successfully unpacked and MD5 sums checked