| deepSNV 1.20.0 Moritz Gerstung
 
 | Snapshot Date: 2017-04-14 17:17:13 -0400 (Fri, 14 Apr 2017) |  | URL: https://hedgehog.fhcrc.org/bioconductor/branches/RELEASE_3_4/madman/Rpacks/deepSNV |  | Last Changed Rev: 122710 / Revision: 128728 |  | Last Changed Date: 2016-10-17 14:45:06 -0400 (Mon, 17 Oct 2016) | 
 | malbec1 | Linux (Ubuntu 16.04.1 LTS) / x86_64 | OK | OK | WARNINGS |  |  | 
| tokay1 | Windows Server 2012 R2 Standard / x64 | [ OK ] | OK | WARNINGS | OK |  | 
| morelia | Mac OS X Mavericks (10.9.5) / x86_64 | OK | OK | WARNINGS | OK |  | 
##############################################################################
##############################################################################
###
### Running command:
###
###   rm -rf deepSNV.buildbin-libdir && mkdir deepSNV.buildbin-libdir  && C:\cygwin\bin\curl.exe -O http://172.29.0.3/BBS/3.4/bioc/src/contrib/deepSNV_1.20.0.tar.gz && C:\Users\biocbuild\bbs-3.4-bioc\R\bin\R.exe CMD INSTALL --build --library=deepSNV.buildbin-libdir --merge-multiarch deepSNV_1.20.0.tar.gz && C:\Users\biocbuild\bbs-3.4-bioc\R\bin\R.exe CMD INSTALL deepSNV_1.20.0.zip  && rm deepSNV_1.20.0.tar.gz deepSNV_1.20.0.zip
###
##############################################################################
##############################################################################
  % Total    % Received % Xferd  Average Speed   Time    Time     Time  Current
                                 Dload  Upload   Total   Spent    Left  Speed
  0     0    0     0    0     0      0      0 --:--:-- --:--:-- --:--:--     0
100 1274k  100 1274k    0     0  10.9M      0 --:--:-- --:--:-- --:--:-- 11.0M
install for i386
* installing *source* package 'deepSNV' ...
   **********************************************
   WARNING: this package has a configure script
         It probably needs manual configuration
   **********************************************
** libs
C:/Rtools/mingw_32/bin/g++  -I"C:/Users/BIOCBU˜1/BBS-3˜1.4-B/R/include" -DNDEBUG    -I"C:/Users/biocbuild/bbs-3.4-bioc/R/library/Rhtslib/include" -I"C:/local323/include"     -O2 -Wall  -mtune=core2 -c bam2R.cpp -o bam2R.o
bam2R.cpp: In function 'int bam2R(char**, char**, int*, int*, int*, int*, int*, int*, int*, int*)':
bam2R.cpp:43:13: warning: unused variable 'iter' [-Wunused-variable]
  hts_itr_t *iter = NULL;
             ^
bam2R.cpp:46:6: warning: unused variable 'c' [-Wunused-variable]
  int c = 0;
      ^
C:/Rtools/mingw_32/bin/gcc  -I"C:/Users/BIOCBU˜1/BBS-3˜1.4-B/R/include" -DNDEBUG    -I"C:/Users/biocbuild/bbs-3.4-bioc/R/library/Rhtslib/include" -I"C:/local323/include"     -O3 -Wall  -std=gnu99 -mtune=core2 -c betabinom.c -o betabinom.o
betabinom.c: In function 'pbb':
betabinom.c:27:9: warning: unused variable 'log' [-Wunused-variable]
  int i, log=0;
         ^
C:/Rtools/mingw_32/bin/g++ -shared -s -static-libgcc -o deepSNV.dll tmp.def bam2R.o betabinom.o -LC:/Users/biocbuild/bbs-3.4-bioc/R/library/Rhtslib/lib/i386 -lhts -lz -pthread -lws2_32 -LC:/local323/lib/i386 -LC:/local323/lib -LC:/Users/BIOCBU˜1/BBS-3˜1.4-B/R/bin/i386 -lR
installing to C:/Users/biocbuild/bbs-3.4-bioc/meat/deepSNV.buildbin-libdir/deepSNV/libs/i386
** R
** data
** inst
** preparing package for lazy loading
** help
*** installing help indices
** building package indices
** installing vignettes
** testing if installed package can be loaded
install for x64
* installing *source* package 'deepSNV' ...
   **********************************************
   WARNING: this package has a configure script
         It probably needs manual configuration
   **********************************************
** libs
C:/Rtools/mingw_64/bin/g++  -I"C:/Users/BIOCBU˜1/BBS-3˜1.4-B/R/include" -DNDEBUG    -I"C:/Users/biocbuild/bbs-3.4-bioc/R/library/Rhtslib/include" -I"C:/local323/include"     -O2 -Wall  -mtune=core2 -c bam2R.cpp -o bam2R.o
bam2R.cpp: In function 'int bam2R(char**, char**, int*, int*, int*, int*, int*, int*, int*, int*)':
bam2R.cpp:43:13: warning: unused variable 'iter' [-Wunused-variable]
  hts_itr_t *iter = NULL;
             ^
bam2R.cpp:46:6: warning: unused variable 'c' [-Wunused-variable]
  int c = 0;
      ^
C:/Rtools/mingw_64/bin/gcc  -I"C:/Users/BIOCBU˜1/BBS-3˜1.4-B/R/include" -DNDEBUG    -I"C:/Users/biocbuild/bbs-3.4-bioc/R/library/Rhtslib/include" -I"C:/local323/include"     -O2 -Wall  -std=gnu99 -mtune=core2 -c betabinom.c -o betabinom.o
betabinom.c: In function 'pbb':
betabinom.c:27:9: warning: unused variable 'log' [-Wunused-variable]
  int i, log=0;
         ^
C:/Rtools/mingw_64/bin/g++ -shared -s -static-libgcc -o deepSNV.dll tmp.def bam2R.o betabinom.o -LC:/Users/biocbuild/bbs-3.4-bioc/R/library/Rhtslib/lib/x64 -lhts -lz -pthread -lws2_32 -LC:/local323/lib/x64 -LC:/local323/lib -LC:/Users/BIOCBU˜1/BBS-3˜1.4-B/R/bin/x64 -lR
installing to C:/Users/biocbuild/bbs-3.4-bioc/meat/deepSNV.buildbin-libdir/deepSNV/libs/x64
** testing if installed package can be loaded
* MD5 sums
packaged installation of 'deepSNV' as deepSNV_1.20.0.zip
* DONE (deepSNV)
* installing to library 'C:/Users/biocbuild/bbs-3.4-bioc/R/library'
package 'deepSNV' successfully unpacked and MD5 sums checked