| ROTS 1.2.0 Fatemeh Seyednasrollah
 
 | Snapshot Date: 2017-04-14 17:17:13 -0400 (Fri, 14 Apr 2017) |  | URL: https://hedgehog.fhcrc.org/bioconductor/branches/RELEASE_3_4/madman/Rpacks/ROTS |  | Last Changed Rev: 122710 / Revision: 128728 |  | Last Changed Date: 2016-10-17 14:45:06 -0400 (Mon, 17 Oct 2016) | 
 | malbec1 | Linux (Ubuntu 16.04.1 LTS) / x86_64 | OK | OK | OK |  |  | 
| tokay1 | Windows Server 2012 R2 Standard / x64 | [ OK ] | OK | OK | OK |  | 
| morelia | Mac OS X Mavericks (10.9.5) / x86_64 | OK | OK | OK | OK |  | 
##############################################################################
##############################################################################
###
### Running command:
###
###   rm -rf ROTS.buildbin-libdir && mkdir ROTS.buildbin-libdir  && C:\cygwin\bin\curl.exe -O http://172.29.0.3/BBS/3.4/bioc/src/contrib/ROTS_1.2.0.tar.gz && C:\Users\biocbuild\bbs-3.4-bioc\R\bin\R.exe CMD INSTALL --build --library=ROTS.buildbin-libdir --merge-multiarch ROTS_1.2.0.tar.gz && C:\Users\biocbuild\bbs-3.4-bioc\R\bin\R.exe CMD INSTALL ROTS_1.2.0.zip  && rm ROTS_1.2.0.tar.gz ROTS_1.2.0.zip
###
##############################################################################
##############################################################################
  % Total    % Received % Xferd  Average Speed   Time    Time     Time  Current
                                 Dload  Upload   Total   Spent    Left  Speed
  0     0    0     0    0     0      0      0 --:--:-- --:--:-- --:--:--     0
100  133k  100  133k    0     0  5049k      0 --:--:-- --:--:-- --:--:-- 5325k
install for i386
* installing *source* package 'ROTS' ...
** libs
C:/Rtools/mingw_32/bin/g++  -I"C:/Users/BIOCBU˜1/BBS-3˜1.4-B/R/include" -DNDEBUG    -I"C:/Users/biocbuild/bbs-3.4-bioc/R/library/Rcpp/include" -I"C:/local323/include"     -O2 -Wall  -mtune=core2 -c NeedForSpeed1.cpp -o NeedForSpeed1.o
C:/Rtools/mingw_32/bin/g++  -I"C:/Users/BIOCBU˜1/BBS-3˜1.4-B/R/include" -DNDEBUG    -I"C:/Users/biocbuild/bbs-3.4-bioc/R/library/Rcpp/include" -I"C:/local323/include"     -O2 -Wall  -mtune=core2 -c NeedForSpeed2.cpp -o NeedForSpeed2.o
C:/Rtools/mingw_32/bin/g++  -I"C:/Users/BIOCBU˜1/BBS-3˜1.4-B/R/include" -DNDEBUG    -I"C:/Users/biocbuild/bbs-3.4-bioc/R/library/Rcpp/include" -I"C:/local323/include"     -O2 -Wall  -mtune=core2 -c RcppExports.cpp -o RcppExports.o
C:/Rtools/mingw_32/bin/g++  -I"C:/Users/BIOCBU˜1/BBS-3˜1.4-B/R/include" -DNDEBUG    -I"C:/Users/biocbuild/bbs-3.4-bioc/R/library/Rcpp/include" -I"C:/local323/include"     -O2 -Wall  -mtune=core2 -c pvalue.cpp -o pvalue.o
C:/Rtools/mingw_32/bin/g++ -shared -s -static-libgcc -o ROTS.dll tmp.def NeedForSpeed1.o NeedForSpeed2.o RcppExports.o pvalue.o -LC:/local323/lib/i386 -LC:/local323/lib -LC:/Users/BIOCBU˜1/BBS-3˜1.4-B/R/bin/i386 -lR
installing to C:/Users/biocbuild/bbs-3.4-bioc/meat/ROTS.buildbin-libdir/ROTS/libs/i386
** R
** data
*** moving datasets to lazyload DB
** preparing package for lazy loading
** help
*** installing help indices
** building package indices
** installing vignettes
** testing if installed package can be loaded
install for x64
* installing *source* package 'ROTS' ...
** libs
C:/Rtools/mingw_64/bin/g++  -I"C:/Users/BIOCBU˜1/BBS-3˜1.4-B/R/include" -DNDEBUG    -I"C:/Users/biocbuild/bbs-3.4-bioc/R/library/Rcpp/include" -I"C:/local323/include"     -O2 -Wall  -mtune=core2 -c NeedForSpeed1.cpp -o NeedForSpeed1.o
C:/Rtools/mingw_64/bin/g++  -I"C:/Users/BIOCBU˜1/BBS-3˜1.4-B/R/include" -DNDEBUG    -I"C:/Users/biocbuild/bbs-3.4-bioc/R/library/Rcpp/include" -I"C:/local323/include"     -O2 -Wall  -mtune=core2 -c NeedForSpeed2.cpp -o NeedForSpeed2.o
C:/Rtools/mingw_64/bin/g++  -I"C:/Users/BIOCBU˜1/BBS-3˜1.4-B/R/include" -DNDEBUG    -I"C:/Users/biocbuild/bbs-3.4-bioc/R/library/Rcpp/include" -I"C:/local323/include"     -O2 -Wall  -mtune=core2 -c RcppExports.cpp -o RcppExports.o
C:/Rtools/mingw_64/bin/g++  -I"C:/Users/BIOCBU˜1/BBS-3˜1.4-B/R/include" -DNDEBUG    -I"C:/Users/biocbuild/bbs-3.4-bioc/R/library/Rcpp/include" -I"C:/local323/include"     -O2 -Wall  -mtune=core2 -c pvalue.cpp -o pvalue.o
C:/Rtools/mingw_64/bin/g++ -shared -s -static-libgcc -o ROTS.dll tmp.def NeedForSpeed1.o NeedForSpeed2.o RcppExports.o pvalue.o -LC:/local323/lib/x64 -LC:/local323/lib -LC:/Users/BIOCBU˜1/BBS-3˜1.4-B/R/bin/x64 -lR
installing to C:/Users/biocbuild/bbs-3.4-bioc/meat/ROTS.buildbin-libdir/ROTS/libs/x64
** testing if installed package can be loaded
* MD5 sums
packaged installation of 'ROTS' as ROTS_1.2.0.zip
* DONE (ROTS)
* installing to library 'C:/Users/biocbuild/bbs-3.4-bioc/R/library'
package 'ROTS' successfully unpacked and MD5 sums checked