| CNEr 1.9.39 Ge Tan
 
 | Snapshot Date: 2016-09-19 19:15:14 -0700 (Mon, 19 Sep 2016) |  | URL: https://hedgehog.fhcrc.org/bioconductor/trunk/madman/Rpacks/CNEr |  | Last Changed Rev: 120860 / Revision: 121152 |  | Last Changed Date: 2016-09-12 07:04:22 -0700 (Mon, 12 Sep 2016) | 
 | zin1 | Linux (Ubuntu 16.04 LTS) / x86_64 | OK | OK | WARNINGS |  |  | 
| moscato1 | Windows Server 2008 R2 Standard (64-bit) / x64 | OK | OK | WARNINGS | [ OK ] |  | 
| morelia | Mac OS X Mavericks (10.9.5) / x86_64 | OK | OK | WARNINGS | OK |  | 
##############################################################################
##############################################################################
###
### Running command:
###
###   cd CNEr.buildbin-libdir/CNEr && zip -r ../../CNEr_1.9.39.zip . & cd ../..
###
##############################################################################
##############################################################################
  adding: data/ (208 bytes security) (stored 0%)
  adding: data/axisTrack.rda (188 bytes security) (stored 0%)
  adding: data/CNEDanRer10Hg38.rda (188 bytes security) (stored 0%)
  adding: data/cneFinalListDanRer10Hg38.rda (188 bytes security) (stored 0%)
  adding: data/CNEHg38DanRer10.rda (188 bytes security) (stored 0%)
  adding: data/cpgIslands.rda (188 bytes security) (stored 0%)
  adding: data/grangesPairsForDotplot.rda (188 bytes security) (stored 0%)
  adding: data/refGenes.rda (188 bytes security) (stored 0%)
  adding: DESCRIPTION (188 bytes security) (deflated 48%)
  adding: doc/ (208 bytes security) (stored 0%)
  adding: doc/CNEr.html (188 bytes security) (deflated 48%)
  adding: doc/CNEr.R (188 bytes security) (deflated 78%)
  adding: doc/CNEr.Rmd (188 bytes security) (deflated 69%)
  adding: doc/index.html (188 bytes security) (deflated 67%)
  adding: doc/PairwiseWholeGenomeAlignment.html (188 bytes security) (deflated 63%)
  adding: doc/PairwiseWholeGenomeAlignment.R (188 bytes security) (deflated 79%)
  adding: doc/PairwiseWholeGenomeAlignment.Rmd (188 bytes security) (deflated 67%)
  adding: extdata/ (208 bytes security) (stored 0%)
  adding: extdata/chr4.hg19.galGal3.net.axt.gz (188 bytes security) (deflated 0%)
  adding: extdata/cne2wBf_AstMex102_danRer10_48_50 (188 bytes security) (deflated 71%)
  adding: extdata/cne2wBf_cteIde1_danRer10_100_100 (188 bytes security) (deflated 73%)
  adding: extdata/cne2wBf_cypCar1_danRer10_100_100 (188 bytes security) (deflated 71%)
  adding: extdata/cne2wBf_danRer10_hg38_45_50 (188 bytes security) (deflated 58%)
  adding: extdata/danRer10.hg38.net.axt (188 bytes security) (deflated 70%)
  adding: extdata/danRer10CNE.sqlite (188 bytes security) (deflated 57%)
  adding: extdata/filter_regions.danRer10.bed (188 bytes security) (deflated 76%)
  adding: extdata/filter_regions.hg38.bed (188 bytes security) (deflated 75%)
  adding: extdata/hg38.danRer10.net.axt (188 bytes security) (deflated 68%)
  adding: help/ (208 bytes security) (stored 0%)
  adding: help/aliases.rds (188 bytes security) (stored 0%)
  adding: help/AnIndex (188 bytes security) (deflated 76%)
  adding: help/CNEr.rdb (188 bytes security) (deflated 1%)
  adding: help/CNEr.rdx (188 bytes security) (stored 0%)
  adding: help/paths.rds (188 bytes security) (stored 0%)
  adding: html/ (208 bytes security) (stored 0%)
  adding: html/00Index.html (188 bytes security) (deflated 84%)
  adding: html/R.css (188 bytes security) (deflated 75%)
  adding: INDEX (188 bytes security) (deflated 64%)
  adding: libs/ (208 bytes security) (stored 0%)
  adding: libs/i386/ (208 bytes security) (stored 0%)
  adding: libs/i386/CNEr.dll (188 bytes security) (deflated 59%)
  adding: libs/x64/ (208 bytes security) (stored 0%)
  adding: libs/x64/CNEr.dll (188 bytes security) (deflated 55%)
  adding: LICENSE (188 bytes security) (deflated 44%)
  adding: MD5 (188 bytes security) (deflated 46%)
  adding: Meta/ (208 bytes security) (stored 0%)
  adding: Meta/data.rds (188 bytes security) (stored 0%)
  adding: Meta/hsearch.rds (188 bytes security) (stored 0%)
  adding: Meta/links.rds (188 bytes security) (stored 0%)
  adding: Meta/nsInfo.rds (188 bytes security) (stored 0%)
  adding: Meta/package.rds (188 bytes security) (stored 0%)
  adding: Meta/Rd.rds (188 bytes security) (stored 0%)
  adding: Meta/vignette.rds (188 bytes security) (stored 0%)
  adding: NAMESPACE (188 bytes security) (deflated 65%)
  adding: NEWS (188 bytes security) (deflated 53%)
  adding: obsolete/ (208 bytes security) (stored 0%)
  adding: obsolete/ceScan.r (188 bytes security) (deflated 67%)
  adding: obsolete/ceScanR.r (188 bytes security) (deflated 69%)
  adding: obsolete/class.r (188 bytes security) (deflated 74%)
  adding: obsolete/CNEr.Rnw (188 bytes security) (deflated 69%)
  adding: obsolete/src/ (208 bytes security) (stored 0%)
  adding: obsolete/src/ceScan.c (188 bytes security) (deflated 68%)
  adding: obsolete/src/ceScanBranch1.c (188 bytes security) (deflated 73%)
  adding: obsolete/src/ceScanBranch2.c (188 bytes security) (deflated 72%)
  adding: obsolete/src/compile (188 bytes security) (deflated 92%)
  adding: R/ (208 bytes security) (stored 0%)
  adding: R/CNEr (188 bytes security) (deflated 41%)
  adding: R/CNEr.rdb (188 bytes security) (deflated 23%)
  adding: R/CNEr.rdx (188 bytes security) (deflated 3%)
  adding: scripts/ (208 bytes security) (stored 0%)
  adding: scripts/danRer10Pipeline.R (188 bytes security) (deflated 64%)
  adding: scripts/prepareData.R (188 bytes security) (deflated 73%)