| CAGEr 1.16.0 Vanja Haberle
 
 | Snapshot Date: 2017-04-14 17:17:13 -0400 (Fri, 14 Apr 2017) |  | URL: https://hedgehog.fhcrc.org/bioconductor/branches/RELEASE_3_4/madman/Rpacks/CAGEr |  | Last Changed Rev: 122710 / Revision: 128728 |  | Last Changed Date: 2016-10-17 14:45:06 -0400 (Mon, 17 Oct 2016) | 
 | malbec1 | Linux (Ubuntu 16.04.1 LTS) / x86_64 | OK | ERROR | skipped |  |  | 
| tokay1 | Windows Server 2012 R2 Standard / x64 | [ OK ] | ERROR | skipped | skipped |  | 
| morelia | Mac OS X Mavericks (10.9.5) / x86_64 | OK | ERROR | skipped | skipped |  | 
##############################################################################
##############################################################################
###
### Running command:
###
###   rm -rf CAGEr.buildbin-libdir && mkdir CAGEr.buildbin-libdir  && C:\cygwin\bin\curl.exe -O http://172.29.0.3/BBS/3.4/bioc/src/contrib/CAGEr_1.16.0.tar.gz && C:\Users\biocbuild\bbs-3.4-bioc\R\bin\R.exe CMD INSTALL --build --library=CAGEr.buildbin-libdir --merge-multiarch CAGEr_1.16.0.tar.gz && C:\Users\biocbuild\bbs-3.4-bioc\R\bin\R.exe CMD INSTALL CAGEr_1.16.0.zip  && rm CAGEr_1.16.0.tar.gz CAGEr_1.16.0.zip
###
##############################################################################
##############################################################################
  % Total    % Received % Xferd  Average Speed   Time    Time     Time  Current
                                 Dload  Upload   Total   Spent    Left  Speed
  0     0    0     0    0     0      0      0 --:--:-- --:--:-- --:--:--     0
100 1149k  100 1149k    0     0  21.8M      0 --:--:-- --:--:-- --:--:-- 22.4M
install for i386
* installing *source* package 'CAGEr' ...
** R
** data
** inst
** preparing package for lazy loading
** help
*** installing help indices
** building package indices
** installing vignettes
** testing if installed package can be loaded
install for x64
* installing *source* package 'CAGEr' ...
** testing if installed package can be loaded
* MD5 sums
packaged installation of 'CAGEr' as CAGEr_1.16.0.zip
* DONE (CAGEr)
* installing to library 'C:/Users/biocbuild/bbs-3.4-bioc/R/library'
package 'CAGEr' successfully unpacked and MD5 sums checked