| sigaR 1.20.0 Wessel N. van Wieringen
 
 | Snapshot Date: 2016-09-19 19:15:14 -0700 (Mon, 19 Sep 2016) |  | URL: https://hedgehog.fhcrc.org/bioconductor/trunk/madman/Rpacks/sigaR |  | Last Changed Rev: 117267 / Revision: 121152 |  | Last Changed Date: 2016-05-10 01:02:00 -0700 (Tue, 10 May 2016) | 
 | zin1 | Linux (Ubuntu 16.04 LTS) / x86_64 | OK | ERROR | skipped |  |  | 
| moscato1 | Windows Server 2008 R2 Standard (64-bit) / x64 | OK | ERROR | skipped | skipped |  | 
| morelia | Mac OS X Mavericks (10.9.5) / x86_64 | [ OK ] | ERROR | skipped | skipped |  | 
##############################################################################
##############################################################################
###
### Running command:
###
###   /Library/Frameworks/R.framework/Versions/Current/Resources/bin/R CMD INSTALL sigaR
###
##############################################################################
##############################################################################
* installing to library ‘/Library/Frameworks/R.framework/Versions/3.3/Resources/library’
* installing *source* package ‘sigaR’ ...
** R
** data
** inst
** preparing package for lazy loading
** help
*** installing help indices
** building package indices
** installing vignettes
** testing if installed package can be loaded
* DONE (sigaR)