| oligo 1.37.2 Benilton Carvalho
 
 | Snapshot Date: 2016-09-19 19:15:14 -0700 (Mon, 19 Sep 2016) |  | URL: https://hedgehog.fhcrc.org/bioconductor/trunk/madman/Rpacks/oligo |  | Last Changed Rev: 117512 / Revision: 121152 |  | Last Changed Date: 2016-05-15 13:14:22 -0700 (Sun, 15 May 2016) | 
 | zin1 | Linux (Ubuntu 16.04 LTS) / x86_64 | OK | OK | WARNINGS |  |  | 
| moscato1 | Windows Server 2008 R2 Standard (64-bit) / x64 | [ OK ] | OK | WARNINGS | OK |  | 
| morelia | Mac OS X Mavericks (10.9.5) / x86_64 | OK | OK | WARNINGS | OK |  | 
##############################################################################
##############################################################################
###
### Running command:
###
###   rm -rf oligo.buildbin-libdir && mkdir oligo.buildbin-libdir  && C:\cygwin\bin\curl.exe -O http://zin1/BBS/3.4/bioc/src/contrib/oligo_1.37.2.tar.gz && D:\biocbld\bbs-3.4-bioc\R\bin\R.exe CMD INSTALL --build --library=oligo.buildbin-libdir --merge-multiarch oligo_1.37.2.tar.gz && D:\biocbld\bbs-3.4-bioc\R\bin\R.exe CMD INSTALL oligo_1.37.2.zip  && rm oligo_1.37.2.tar.gz oligo_1.37.2.zip
###
##############################################################################
##############################################################################
  % Total    % Received % Xferd  Average Speed   Time    Time     Time  Current
                                 Dload  Upload   Total   Spent    Left  Speed
  0     0    0     0    0     0      0      0 --:--:-- --:--:-- --:--:--     0
100 14.9M  100 14.9M    0     0   102M      0 --:--:-- --:--:-- --:--:--  104M
install for i386
* installing *source* package 'oligo' ...
** libs
C:/Rtools/mingw_32/bin/gcc  -I"D:/biocbld/bbs-3.4-bioc/R/library/zlibbioc/include" -I"D:/biocbld/BBS-3˜1.4-B/R/include" -DNDEBUG    -I"D:/biocbld/bbs-3.4-bioc/R/library/preprocessCore/include" -I"c:/local323/include"     -O3 -Wall  -std=gnu99 -mtune=core2 -c DABG.c -o DABG.o
C:/Rtools/mingw_32/bin/gcc  -I"D:/biocbld/bbs-3.4-bioc/R/library/zlibbioc/include" -I"D:/biocbld/BBS-3˜1.4-B/R/include" -DNDEBUG    -I"D:/biocbld/bbs-3.4-bioc/R/library/preprocessCore/include" -I"c:/local323/include"     -O3 -Wall  -std=gnu99 -mtune=core2 -c ParserGzXYS.c -o ParserGzXYS.o
C:/Rtools/mingw_32/bin/gcc  -I"D:/biocbld/bbs-3.4-bioc/R/library/zlibbioc/include" -I"D:/biocbld/BBS-3˜1.4-B/R/include" -DNDEBUG    -I"D:/biocbld/bbs-3.4-bioc/R/library/preprocessCore/include" -I"c:/local323/include"     -O3 -Wall  -std=gnu99 -mtune=core2 -c ParserXYS.c -o ParserXYS.o
C:/Rtools/mingw_32/bin/gcc  -I"D:/biocbld/bbs-3.4-bioc/R/library/zlibbioc/include" -I"D:/biocbld/BBS-3˜1.4-B/R/include" -DNDEBUG    -I"D:/biocbld/bbs-3.4-bioc/R/library/preprocessCore/include" -I"c:/local323/include"     -O3 -Wall  -std=gnu99 -mtune=core2 -c baseProfile.c -o baseProfile.o
C:/Rtools/mingw_32/bin/gcc  -I"D:/biocbld/bbs-3.4-bioc/R/library/zlibbioc/include" -I"D:/biocbld/BBS-3˜1.4-B/R/include" -DNDEBUG    -I"D:/biocbld/bbs-3.4-bioc/R/library/preprocessCore/include" -I"c:/local323/include"     -O3 -Wall  -std=gnu99 -mtune=core2 -c basecontent.c -o basecontent.o
C:/Rtools/mingw_32/bin/gcc  -I"D:/biocbld/bbs-3.4-bioc/R/library/zlibbioc/include" -I"D:/biocbld/BBS-3˜1.4-B/R/include" -DNDEBUG    -I"D:/biocbld/bbs-3.4-bioc/R/library/preprocessCore/include" -I"c:/local323/include"     -O3 -Wall  -std=gnu99 -mtune=core2 -c chipbackground.c -o chipbackground.o
C:/Rtools/mingw_32/bin/gcc  -I"D:/biocbld/bbs-3.4-bioc/R/library/zlibbioc/include" -I"D:/biocbld/BBS-3˜1.4-B/R/include" -DNDEBUG    -I"D:/biocbld/bbs-3.4-bioc/R/library/preprocessCore/include" -I"c:/local323/include"     -O3 -Wall  -std=gnu99 -mtune=core2 -c mas5calls.c -o mas5calls.o
C:/Rtools/mingw_32/bin/gcc  -I"D:/biocbld/bbs-3.4-bioc/R/library/zlibbioc/include" -I"D:/biocbld/BBS-3˜1.4-B/R/include" -DNDEBUG    -I"D:/biocbld/bbs-3.4-bioc/R/library/preprocessCore/include" -I"c:/local323/include"     -O3 -Wall  -std=gnu99 -mtune=core2 -c rma2.c -o rma2.o
C:/Rtools/mingw_32/bin/gcc  -I"D:/biocbld/bbs-3.4-bioc/R/library/zlibbioc/include" -I"D:/biocbld/BBS-3˜1.4-B/R/include" -DNDEBUG    -I"D:/biocbld/bbs-3.4-bioc/R/library/preprocessCore/include" -I"c:/local323/include"     -O3 -Wall  -std=gnu99 -mtune=core2 -c rma_common.c -o rma_common.o
C:/Rtools/mingw_32/bin/gcc  -I"D:/biocbld/bbs-3.4-bioc/R/library/zlibbioc/include" -I"D:/biocbld/BBS-3˜1.4-B/R/include" -DNDEBUG    -I"D:/biocbld/bbs-3.4-bioc/R/library/preprocessCore/include" -I"c:/local323/include"     -O3 -Wall  -std=gnu99 -mtune=core2 -c trimmed.c -o trimmed.o
C:/Rtools/mingw_32/bin/gcc -shared -s -static-libgcc -o oligo.dll tmp.def DABG.o ParserGzXYS.o ParserXYS.o baseProfile.o basecontent.o chipbackground.o mas5calls.o rma2.o rma_common.o trimmed.o -lgfortran -lm -lquadmath -LD:/biocbld/BBS-3˜1.4-B/R/bin/i386 -lRlapack -LD:/biocbld/BBS-3˜1.4-B/R/bin/i386 -lRblas -LD:/biocbld/bbs-3.4-bioc/R/library/zlibbioc/libs/i386 -lzlib1bioc -Lc:/local323/lib/i386 -Lc:/local323/lib -LD:/biocbld/BBS-3˜1.4-B/R/bin/i386 -lR
installing to D:/biocbld/bbs-3.4-bioc/meat/oligo.buildbin-libdir/oligo/libs/i386
** R
** inst
** preparing package for lazy loading
Note: in method for 'pm<-' with signature
'object="TilingFeatureSet",subset="ANY",target="ANY",value="array"':
expanding the signature to include omitted arguments in definition: =
"missing"
Note: in method for 'mm<-' with signature
'object="TilingFeatureSet",subset="ANY",target="ANY",value="array"':
expanding the signature to include omitted arguments in definition: =
"missing"
** help
*** installing help indices
** building package indices
** installing vignettes
** testing if installed package can be loaded
install for x64
* installing *source* package 'oligo' ...
** libs
C:/Rtools/mingw_64/bin/gcc  -I"D:/biocbld/bbs-3.4-bioc/R/library/zlibbioc/include" -I"D:/biocbld/BBS-3˜1.4-B/R/include" -DNDEBUG    -I"D:/biocbld/bbs-3.4-bioc/R/library/preprocessCore/include" -I"c:/local323/include"     -O2 -Wall  -std=gnu99 -mtune=core2 -c DABG.c -o DABG.o
C:/Rtools/mingw_64/bin/gcc  -I"D:/biocbld/bbs-3.4-bioc/R/library/zlibbioc/include" -I"D:/biocbld/BBS-3˜1.4-B/R/include" -DNDEBUG    -I"D:/biocbld/bbs-3.4-bioc/R/library/preprocessCore/include" -I"c:/local323/include"     -O2 -Wall  -std=gnu99 -mtune=core2 -c ParserGzXYS.c -o ParserGzXYS.o
C:/Rtools/mingw_64/bin/gcc  -I"D:/biocbld/bbs-3.4-bioc/R/library/zlibbioc/include" -I"D:/biocbld/BBS-3˜1.4-B/R/include" -DNDEBUG    -I"D:/biocbld/bbs-3.4-bioc/R/library/preprocessCore/include" -I"c:/local323/include"     -O2 -Wall  -std=gnu99 -mtune=core2 -c ParserXYS.c -o ParserXYS.o
C:/Rtools/mingw_64/bin/gcc  -I"D:/biocbld/bbs-3.4-bioc/R/library/zlibbioc/include" -I"D:/biocbld/BBS-3˜1.4-B/R/include" -DNDEBUG    -I"D:/biocbld/bbs-3.4-bioc/R/library/preprocessCore/include" -I"c:/local323/include"     -O2 -Wall  -std=gnu99 -mtune=core2 -c baseProfile.c -o baseProfile.o
C:/Rtools/mingw_64/bin/gcc  -I"D:/biocbld/bbs-3.4-bioc/R/library/zlibbioc/include" -I"D:/biocbld/BBS-3˜1.4-B/R/include" -DNDEBUG    -I"D:/biocbld/bbs-3.4-bioc/R/library/preprocessCore/include" -I"c:/local323/include"     -O2 -Wall  -std=gnu99 -mtune=core2 -c basecontent.c -o basecontent.o
C:/Rtools/mingw_64/bin/gcc  -I"D:/biocbld/bbs-3.4-bioc/R/library/zlibbioc/include" -I"D:/biocbld/BBS-3˜1.4-B/R/include" -DNDEBUG    -I"D:/biocbld/bbs-3.4-bioc/R/library/preprocessCore/include" -I"c:/local323/include"     -O2 -Wall  -std=gnu99 -mtune=core2 -c chipbackground.c -o chipbackground.o
C:/Rtools/mingw_64/bin/gcc  -I"D:/biocbld/bbs-3.4-bioc/R/library/zlibbioc/include" -I"D:/biocbld/BBS-3˜1.4-B/R/include" -DNDEBUG    -I"D:/biocbld/bbs-3.4-bioc/R/library/preprocessCore/include" -I"c:/local323/include"     -O2 -Wall  -std=gnu99 -mtune=core2 -c mas5calls.c -o mas5calls.o
C:/Rtools/mingw_64/bin/gcc  -I"D:/biocbld/bbs-3.4-bioc/R/library/zlibbioc/include" -I"D:/biocbld/BBS-3˜1.4-B/R/include" -DNDEBUG    -I"D:/biocbld/bbs-3.4-bioc/R/library/preprocessCore/include" -I"c:/local323/include"     -O2 -Wall  -std=gnu99 -mtune=core2 -c rma2.c -o rma2.o
C:/Rtools/mingw_64/bin/gcc  -I"D:/biocbld/bbs-3.4-bioc/R/library/zlibbioc/include" -I"D:/biocbld/BBS-3˜1.4-B/R/include" -DNDEBUG    -I"D:/biocbld/bbs-3.4-bioc/R/library/preprocessCore/include" -I"c:/local323/include"     -O2 -Wall  -std=gnu99 -mtune=core2 -c rma_common.c -o rma_common.o
C:/Rtools/mingw_64/bin/gcc  -I"D:/biocbld/bbs-3.4-bioc/R/library/zlibbioc/include" -I"D:/biocbld/BBS-3˜1.4-B/R/include" -DNDEBUG    -I"D:/biocbld/bbs-3.4-bioc/R/library/preprocessCore/include" -I"c:/local323/include"     -O2 -Wall  -std=gnu99 -mtune=core2 -c trimmed.c -o trimmed.o
C:/Rtools/mingw_64/bin/gcc -shared -s -static-libgcc -o oligo.dll tmp.def DABG.o ParserGzXYS.o ParserXYS.o baseProfile.o basecontent.o chipbackground.o mas5calls.o rma2.o rma_common.o trimmed.o -lgfortran -lm -lquadmath -LD:/biocbld/BBS-3˜1.4-B/R/bin/x64 -lRlapack -LD:/biocbld/BBS-3˜1.4-B/R/bin/x64 -lRblas -LD:/biocbld/bbs-3.4-bioc/R/library/zlibbioc/libs/x64 -lzlib1bioc -Lc:/local323/lib/x64 -Lc:/local323/lib -LD:/biocbld/BBS-3˜1.4-B/R/bin/x64 -lR
installing to D:/biocbld/bbs-3.4-bioc/meat/oligo.buildbin-libdir/oligo/libs/x64
** testing if installed package can be loaded
* MD5 sums
packaged installation of 'oligo' as oligo_1.37.2.zip
* DONE (oligo)
* installing to library 'D:/biocbld/bbs-3.4-bioc/R/library'
package 'oligo' successfully unpacked and MD5 sums checked