| metagenomeSeq 1.15.4 Joseph N. Paulson
 
 | Snapshot Date: 2016-09-19 19:15:14 -0700 (Mon, 19 Sep 2016) |  | URL: https://hedgehog.fhcrc.org/bioconductor/trunk/madman/Rpacks/metagenomeSeq |  | Last Changed Rev: 121112 / Revision: 121152 |  | Last Changed Date: 2016-09-18 20:10:08 -0700 (Sun, 18 Sep 2016) | 
 | zin1 | Linux (Ubuntu 16.04 LTS) / x86_64 | OK | OK | OK |  |  | 
| moscato1 | Windows Server 2008 R2 Standard (64-bit) / x64 | [ OK ] | OK | OK | OK |  | 
| morelia | Mac OS X Mavericks (10.9.5) / x86_64 | OK | OK | OK | OK |  | 
##############################################################################
##############################################################################
###
### Running command:
###
###   rm -rf metagenomeSeq.buildbin-libdir && mkdir metagenomeSeq.buildbin-libdir  && C:\cygwin\bin\curl.exe -O http://zin1/BBS/3.4/bioc/src/contrib/metagenomeSeq_1.15.4.tar.gz && D:\biocbld\bbs-3.4-bioc\R\bin\R.exe CMD INSTALL --build --library=metagenomeSeq.buildbin-libdir --merge-multiarch metagenomeSeq_1.15.4.tar.gz && D:\biocbld\bbs-3.4-bioc\R\bin\R.exe CMD INSTALL metagenomeSeq_1.15.4.zip  && rm metagenomeSeq_1.15.4.tar.gz metagenomeSeq_1.15.4.zip
###
##############################################################################
##############################################################################
  % Total    % Received % Xferd  Average Speed   Time    Time     Time  Current
                                 Dload  Upload   Total   Spent    Left  Speed
  0     0    0     0    0     0      0      0 --:--:-- --:--:-- --:--:--     0
100  959k  100  959k    0     0  72.7M      0 --:--:-- --:--:-- --:--:--  104M
install for i386
* installing *source* package 'metagenomeSeq' ...
** R
** data
** inst
** preparing package for lazy loading
** help
*** installing help indices
** building package indices
** installing vignettes
   'fitTimeSeries.Rnw' 
   'metagenomeSeq.Rnw' 
** testing if installed package can be loaded
install for x64
* installing *source* package 'metagenomeSeq' ...
** testing if installed package can be loaded
* MD5 sums
packaged installation of 'metagenomeSeq' as metagenomeSeq_1.15.4.zip
* DONE (metagenomeSeq)
* installing to library 'D:/biocbld/bbs-3.4-bioc/R/library'
package 'metagenomeSeq' successfully unpacked and MD5 sums checked