| hopach 2.33.0 Katherine S. Pollard
 
 | Snapshot Date: 2016-09-19 19:15:14 -0700 (Mon, 19 Sep 2016) |  | URL: https://hedgehog.fhcrc.org/bioconductor/trunk/madman/Rpacks/hopach |  | Last Changed Rev: 117081 / Revision: 121152 |  | Last Changed Date: 2016-05-03 14:30:44 -0700 (Tue, 03 May 2016) | 
 | zin1 | Linux (Ubuntu 16.04 LTS) / x86_64 | OK | OK | OK |  |  | 
| moscato1 | Windows Server 2008 R2 Standard (64-bit) / x64 | OK | OK | OK | [ OK ] |  | 
| morelia | Mac OS X Mavericks (10.9.5) / x86_64 | OK | OK | OK | OK |  | 
##############################################################################
##############################################################################
###
### Running command:
###
###   cd hopach.buildbin-libdir/hopach && zip -r ../../hopach_2.33.0.zip . & cd ../..
###
##############################################################################
##############################################################################
  adding: CITATION (188 bytes security) (deflated 46%)
  adding: data/ (208 bytes security) (stored 0%)
  adding: data/golub.RData (188 bytes security) (deflated 0%)
  adding: DESCRIPTION (188 bytes security) (deflated 43%)
  adding: doc/ (208 bytes security) (stored 0%)
  adding: doc/hopach.pdf (188 bytes security) (deflated 84%)
  adding: doc/hopach.R (188 bytes security) (deflated 78%)
  adding: doc/hopach.Rnw (188 bytes security) (deflated 65%)
  adding: doc/index.html (188 bytes security) (deflated 58%)
  adding: help/ (208 bytes security) (stored 0%)
  adding: help/aliases.rds (188 bytes security) (stored 0%)
  adding: help/AnIndex (188 bytes security) (deflated 76%)
  adding: help/hopach.rdb (188 bytes security) (deflated 0%)
  adding: help/hopach.rdx (188 bytes security) (stored 0%)
  adding: help/paths.rds (188 bytes security) (stored 0%)
  adding: html/ (208 bytes security) (stored 0%)
  adding: html/00Index.html (188 bytes security) (deflated 81%)
  adding: html/R.css (188 bytes security) (deflated 75%)
  adding: INDEX (188 bytes security) (deflated 69%)
  adding: libs/ (208 bytes security) (stored 0%)
  adding: libs/i386/ (208 bytes security) (stored 0%)
  adding: libs/i386/hopach.dll (188 bytes security) (deflated 59%)
  adding: libs/x64/ (208 bytes security) (stored 0%)
  adding: libs/x64/hopach.dll (188 bytes security) (deflated 58%)
  adding: MD5 (188 bytes security) (deflated 42%)
  adding: Meta/ (208 bytes security) (stored 0%)
  adding: Meta/data.rds (188 bytes security) (stored 0%)
  adding: Meta/hsearch.rds (188 bytes security) (stored 0%)
  adding: Meta/links.rds (188 bytes security) (stored 0%)
  adding: Meta/nsInfo.rds (188 bytes security) (stored 0%)
  adding: Meta/package.rds (188 bytes security) (stored 0%)
  adding: Meta/Rd.rds (188 bytes security) (stored 0%)
  adding: Meta/vignette.rds (188 bytes security) (stored 0%)
  adding: NAMESPACE (188 bytes security) (deflated 55%)
  adding: R/ (208 bytes security) (stored 0%)
  adding: R/hopach (188 bytes security) (deflated 41%)
  adding: R/hopach.rdb (188 bytes security) (deflated 20%)
  adding: R/hopach.rdx (188 bytes security) (stored 0%)