| IHW 1.1.3 Nikos Ignatiadis
 
 | Snapshot Date: 2016-09-19 19:15:14 -0700 (Mon, 19 Sep 2016) |  | URL: https://hedgehog.fhcrc.org/bioconductor/trunk/madman/Rpacks/IHW |  | Last Changed Rev: 118504 / Revision: 121152 |  | Last Changed Date: 2016-06-12 11:06:51 -0700 (Sun, 12 Jun 2016) | 
 | zin1 | Linux (Ubuntu 16.04 LTS) / x86_64 | OK | OK | OK |  |  | 
| moscato1 | Windows Server 2008 R2 Standard (64-bit) / x64 | OK | OK | OK | OK |  | 
| morelia | Mac OS X Mavericks (10.9.5) / x86_64 | [ OK ] | OK | OK | OK |  | 
##############################################################################
##############################################################################
###
### Running command:
###
###   /Library/Frameworks/R.framework/Versions/Current/Resources/bin/R CMD INSTALL IHW
###
##############################################################################
##############################################################################
* installing to library ‘/Library/Frameworks/R.framework/Versions/3.3/Resources/library’
* installing *source* package ‘IHW’ ...
** R
** inst
** preparing package for lazy loading
Creating a generic function for ‘weights’ from package ‘stats’ in package ‘IHW’
Creating a generic function for ‘nrow’ from package ‘base’ in package ‘IHW’
Creating a generic function for ‘plot’ from package ‘graphics’ in package ‘IHW’
** help
*** installing help indices
** building package indices
** installing vignettes
** testing if installed package can be loaded
* DONE (IHW)