| Back to the "Multiple platform build/check report" | A B C D E F [G] H I J K L M N O P Q R S T U V W X Y Z |
This page was generated on 2016-09-21 03:43:53 -0700 (Wed, 21 Sep 2016).
| Package 561/1257 | Hostname | OS / Arch | INSTALL | BUILD | CHECK | BUILD BIN | |||||
| GWASTools 1.19.3 Stephanie M. Gogarten
| zin1 | Linux (Ubuntu 16.04 LTS) / x86_64 | OK | OK | OK | ||||||
| moscato1 | Windows Server 2008 R2 Standard (64-bit) / x64 | OK | OK | [ OK ] | OK | ||||||
| morelia | Mac OS X Mavericks (10.9.5) / x86_64 | OK | OK | OK | OK |
| Package: GWASTools |
| Version: 1.19.3 |
| Command: rm -rf GWASTools.buildbin-libdir GWASTools.Rcheck && mkdir GWASTools.buildbin-libdir GWASTools.Rcheck && D:\biocbld\bbs-3.4-bioc\R\bin\R.exe CMD INSTALL --build --merge-multiarch --library=GWASTools.buildbin-libdir GWASTools_1.19.3.tar.gz >GWASTools.Rcheck\00install.out 2>&1 && cp GWASTools.Rcheck\00install.out GWASTools-install.out && D:\biocbld\bbs-3.4-bioc\R\bin\R.exe CMD check --library=GWASTools.buildbin-libdir --install="check:GWASTools-install.out" --force-multiarch --no-vignettes --timings GWASTools_1.19.3.tar.gz |
| StartedAt: 2016-09-20 10:12:49 -0700 (Tue, 20 Sep 2016) |
| EndedAt: 2016-09-20 10:22:41 -0700 (Tue, 20 Sep 2016) |
| EllapsedTime: 592.9 seconds |
| RetCode: 0 |
| Status: OK |
| CheckDir: GWASTools.Rcheck |
| Warnings: 0 |
##############################################################################
##############################################################################
###
### Running command:
###
### rm -rf GWASTools.buildbin-libdir GWASTools.Rcheck && mkdir GWASTools.buildbin-libdir GWASTools.Rcheck && D:\biocbld\bbs-3.4-bioc\R\bin\R.exe CMD INSTALL --build --merge-multiarch --library=GWASTools.buildbin-libdir GWASTools_1.19.3.tar.gz >GWASTools.Rcheck\00install.out 2>&1 && cp GWASTools.Rcheck\00install.out GWASTools-install.out && D:\biocbld\bbs-3.4-bioc\R\bin\R.exe CMD check --library=GWASTools.buildbin-libdir --install="check:GWASTools-install.out" --force-multiarch --no-vignettes --timings GWASTools_1.19.3.tar.gz
###
##############################################################################
##############################################################################
* using log directory 'D:/biocbld/bbs-3.4-bioc/meat/GWASTools.Rcheck'
* using R version 3.3.1 (2016-06-21)
* using platform: x86_64-w64-mingw32 (64-bit)
* using session charset: ISO8859-1
* using option '--no-vignettes'
* checking for file 'GWASTools/DESCRIPTION' ... OK
* checking extension type ... Package
* this is package 'GWASTools' version '1.19.3'
* checking package namespace information ... OK
* checking package dependencies ... OK
* checking if this is a source package ... OK
* checking if there is a namespace ... OK
* checking for hidden files and directories ... OK
* checking for portable file names ... OK
* checking whether package 'GWASTools' can be installed ... OK
* checking installed package size ... OK
* checking package directory ... OK
* checking 'build' directory ... OK
* checking DESCRIPTION meta-information ... OK
* checking top-level files ... OK
* checking for left-over files ... OK
* checking index information ... OK
* checking package subdirectories ... OK
* checking R files for non-ASCII characters ... OK
* checking R files for syntax errors ... OK
* loading checks for arch 'i386'
** checking whether the package can be loaded ... OK
** checking whether the package can be loaded with stated dependencies ... OK
** checking whether the package can be unloaded cleanly ... OK
** checking whether the namespace can be loaded with stated dependencies ... OK
** checking whether the namespace can be unloaded cleanly ... OK
* loading checks for arch 'x64'
** checking whether the package can be loaded ... OK
** checking whether the package can be loaded with stated dependencies ... OK
** checking whether the package can be unloaded cleanly ... OK
** checking whether the namespace can be loaded with stated dependencies ... OK
** checking whether the namespace can be unloaded cleanly ... OK
* checking dependencies in R code ... OK
* checking S3 generic/method consistency ... OK
* checking replacement functions ... OK
* checking foreign function calls ... OK
* checking R code for possible problems ... OK
* checking Rd files ... OK
* checking Rd metadata ... OK
* checking Rd cross-references ... OK
* checking for missing documentation entries ... OK
* checking for code/documentation mismatches ... OK
* checking Rd \usage sections ... OK
* checking Rd contents ... OK
* checking for unstated dependencies in examples ... OK
* checking contents of 'data' directory ... OK
* checking data for non-ASCII characters ... OK
* checking data for ASCII and uncompressed saves ... OK
* checking installed files from 'inst/doc' ... OK
* checking files in 'vignettes' ... OK
* checking examples ...
** running examples for arch 'i386' ... OK
Examples with CPU or elapsed time > 5s
user system elapsed
vcfWrite 8.52 0.17 8.75
genoClusterPlot 0.77 0.04 5.92
** running examples for arch 'x64' ... OK
Examples with CPU or elapsed time > 5s
user system elapsed
vcfWrite 8.63 0.12 8.75
* checking for unstated dependencies in 'tests' ... OK
* checking tests ...
** running tests for arch 'i386' ...
Running 'test.R'
OK
** running tests for arch 'x64' ...
Running 'test.R'
OK
* checking for unstated dependencies in vignettes ... OK
* checking package vignettes in 'inst/doc' ... OK
* checking running R code from vignettes ... SKIPPED
* checking re-building of vignette outputs ... SKIPPED
* checking PDF version of manual ... OK
* DONE
Status: OK
GWASTools.Rcheck/00install.out:
install for i386 * installing *source* package 'GWASTools' ... ** R ** data *** moving datasets to lazyload DB ** inst ** preparing package for lazy loading Creating a generic function for 'open' from package 'base' in package 'GWASTools' Creating a generic function for 'close' from package 'base' in package 'GWASTools' ** help *** installing help indices ** building package indices ** installing vignettes ** testing if installed package can be loaded install for x64 * installing *source* package 'GWASTools' ... ** testing if installed package can be loaded * MD5 sums packaged installation of 'GWASTools' as GWASTools_1.19.3.zip * DONE (GWASTools)
GWASTools.Rcheck/examples_i386/GWASTools-Ex.timings:
| name | user | system | elapsed | |
| BAFfromClusterMeans | 0.65 | 0.06 | 1.84 | |
| BAFfromGenotypes | 0 | 0 | 0 | |
| GdsGenotypeReader-class | 0.04 | 0.00 | 0.15 | |
| GdsIntensityReader-class | 0.01 | 0.02 | 0.03 | |
| GdsReader-class | 0.08 | 0.00 | 0.48 | |
| GenotypeData-class | 0.30 | 0.00 | 0.38 | |
| HLA | 0.01 | 0.00 | 0.01 | |
| IntensityData-class | 0.03 | 0.00 | 0.04 | |
| MatrixGenotypeReader-class | 0.02 | 0.00 | 0.01 | |
| NcdfGenotypeReader-class | 0.01 | 0.00 | 0.19 | |
| NcdfIntensityReader-class | 0.02 | 0.00 | 0.17 | |
| NcdfReader-class | 0.00 | 0.00 | 0.09 | |
| ScanAnnotationDataFrame-class | 0.06 | 0.00 | 0.19 | |
| ScanAnnotationSQLite-class | 0.05 | 0.00 | 0.05 | |
| SnpAnnotationDataFrame-class | 0.08 | 0.00 | 0.90 | |
| SnpAnnotationSQLite-class | 0.07 | 0.00 | 0.08 | |
| alleleFrequency | 0.16 | 0.00 | 0.16 | |
| allequal | 0 | 0 | 0 | |
| anomDetectBAF | 1.90 | 0.01 | 2.20 | |
| anomDetectLOH | 1.25 | 0.00 | 1.24 | |
| anomIdentifyLowQuality | 1.14 | 0.00 | 1.64 | |
| anomSegStats | 0.26 | 0.05 | 1.10 | |
| apartSnpSelection | 0.08 | 0.00 | 0.13 | |
| assocCoxPH | 0.36 | 0.01 | 0.37 | |
| assocRegression | 0.70 | 0.00 | 0.71 | |
| batchTest | 1.50 | 0.03 | 1.52 | |
| centromeres | 0 | 0 | 0 | |
| chromIntensityPlot | 0.10 | 0.00 | 0.09 | |
| convertNcdfGds | 0.40 | 0.00 | 2.58 | |
| createDataFile | 0.63 | 0.05 | 3.06 | |
| duplicateDiscordance | 0.53 | 0.00 | 0.53 | |
| duplicateDiscordanceAcrossDatasets | 0.14 | 0.00 | 0.14 | |
| duplicateDiscordanceProbability | 0 | 0 | 0 | |
| exactHWE | 0.17 | 0.00 | 0.17 | |
| findBAFvariance | 0.35 | 0.00 | 0.34 | |
| gdsSubset | 0.01 | 0.02 | 0.04 | |
| genoClusterPlot | 0.77 | 0.04 | 5.92 | |
| genotypeToCharacter | 0 | 0 | 0 | |
| getobj | 0 | 0 | 0 | |
| hetByScanChrom | 0.14 | 0.00 | 0.14 | |
| hetBySnpSex | 0.12 | 0.00 | 0.13 | |
| ibdPlot | 0.56 | 0.02 | 0.58 | |
| imputedDosageFile | 1.60 | 0.26 | 3.04 | |
| intensityOutliersPlot | 0.37 | 0.00 | 0.37 | |
| manhattanPlot | 0.03 | 0.00 | 0.03 | |
| meanIntensityByScanChrom | 0.41 | 0.00 | 0.41 | |
| mendelErr | 1.09 | 0.00 | 1.11 | |
| mendelList | 0.01 | 0.00 | 0.01 | |
| missingGenotypeByScanChrom | 0.11 | 0.00 | 0.11 | |
| missingGenotypeBySnpSex | 0.11 | 0.00 | 0.11 | |
| pasteSorted | 0 | 0 | 0 | |
| pcaSnpFilters | 0 | 0 | 0 | |
| pedigreeCheck | 0.05 | 0.00 | 0.05 | |
| pedigreeDeleteDuplicates | 0 | 0 | 0 | |
| pedigreeMaxUnrelated | 0.08 | 0.00 | 0.08 | |
| pedigreePairwiseRelatedness | 0.04 | 0.00 | 0.04 | |
| plinkUtils | 3.55 | 0.02 | 3.56 | |
| pseudoautoIntensityPlot | 0.11 | 0.00 | 0.11 | |
| pseudoautosomal | 0.00 | 0.02 | 0.01 | |
| qqPlot | 0.15 | 0.00 | 0.16 | |
| qualityScoreByScan | 0.22 | 0.00 | 0.78 | |
| qualityScoreBySnp | 0.03 | 0.01 | 0.05 | |
| readWriteFirst | 0 | 0 | 0 | |
| relationsMeanVar | 0.02 | 0.00 | 0.01 | |
| saveas | 0 | 0 | 0 | |
| setMissingGenotypes | 0.04 | 0.00 | 0.05 | |
| simulateGenotypeMatrix | 0.88 | 0.00 | 0.89 | |
| snpCorrelationPlot | 0.01 | 0.00 | 0.01 | |
| snpStats | 0.72 | 0.02 | 0.78 | |
| vcfWrite | 8.52 | 0.17 | 8.75 | |
GWASTools.Rcheck/examples_x64/GWASTools-Ex.timings:
| name | user | system | elapsed | |
| BAFfromClusterMeans | 0.55 | 0.05 | 0.63 | |
| BAFfromGenotypes | 0 | 0 | 0 | |
| GdsGenotypeReader-class | 0.03 | 0.00 | 0.03 | |
| GdsIntensityReader-class | 0.01 | 0.00 | 0.01 | |
| GdsReader-class | 0.05 | 0.00 | 0.05 | |
| GenotypeData-class | 0.28 | 0.00 | 0.28 | |
| HLA | 0.02 | 0.00 | 0.02 | |
| IntensityData-class | 0.04 | 0.00 | 0.04 | |
| MatrixGenotypeReader-class | 0 | 0 | 0 | |
| NcdfGenotypeReader-class | 0.05 | 0.02 | 0.53 | |
| NcdfIntensityReader-class | 0.02 | 0.00 | 0.02 | |
| NcdfReader-class | 0 | 0 | 0 | |
| ScanAnnotationDataFrame-class | 0.08 | 0.00 | 0.08 | |
| ScanAnnotationSQLite-class | 0.04 | 0.03 | 0.08 | |
| SnpAnnotationDataFrame-class | 0.11 | 0.00 | 0.11 | |
| SnpAnnotationSQLite-class | 0.09 | 0.00 | 0.09 | |
| alleleFrequency | 0.16 | 0.00 | 0.16 | |
| allequal | 0 | 0 | 0 | |
| anomDetectBAF | 1.89 | 0.03 | 1.92 | |
| anomDetectLOH | 1.14 | 0.00 | 1.14 | |
| anomIdentifyLowQuality | 1.09 | 0.02 | 1.10 | |
| anomSegStats | 0.31 | 0.00 | 0.32 | |
| apartSnpSelection | 0.07 | 0.00 | 0.08 | |
| assocCoxPH | 0.54 | 0.00 | 0.59 | |
| assocRegression | 0.93 | 0.00 | 0.94 | |
| batchTest | 1.45 | 0.08 | 1.53 | |
| centromeres | 0.00 | 0.01 | 0.02 | |
| chromIntensityPlot | 0.08 | 0.02 | 0.09 | |
| convertNcdfGds | 0.38 | 0.00 | 0.48 | |
| createDataFile | 0.54 | 0.02 | 0.56 | |
| duplicateDiscordance | 0.5 | 0.0 | 0.5 | |
| duplicateDiscordanceAcrossDatasets | 0.14 | 0.00 | 0.14 | |
| duplicateDiscordanceProbability | 0.02 | 0.00 | 0.02 | |
| exactHWE | 0.17 | 0.00 | 0.17 | |
| findBAFvariance | 0.53 | 0.00 | 0.53 | |
| gdsSubset | 0.02 | 0.00 | 0.01 | |
| genoClusterPlot | 0.73 | 0.04 | 0.92 | |
| genotypeToCharacter | 0 | 0 | 0 | |
| getobj | 0 | 0 | 0 | |
| hetByScanChrom | 0.14 | 0.00 | 0.14 | |
| hetBySnpSex | 0.12 | 0.00 | 0.12 | |
| ibdPlot | 0.27 | 0.00 | 0.27 | |
| imputedDosageFile | 1.43 | 0.17 | 1.62 | |
| intensityOutliersPlot | 0.41 | 0.00 | 0.40 | |
| manhattanPlot | 0.01 | 0.00 | 0.01 | |
| meanIntensityByScanChrom | 0.39 | 0.00 | 0.39 | |
| mendelErr | 0.98 | 0.01 | 1.00 | |
| mendelList | 0.02 | 0.00 | 0.02 | |
| missingGenotypeByScanChrom | 0.12 | 0.00 | 0.12 | |
| missingGenotypeBySnpSex | 0.09 | 0.02 | 0.11 | |
| pasteSorted | 0 | 0 | 0 | |
| pcaSnpFilters | 0.02 | 0.00 | 0.01 | |
| pedigreeCheck | 0.05 | 0.00 | 0.05 | |
| pedigreeDeleteDuplicates | 0 | 0 | 0 | |
| pedigreeMaxUnrelated | 0.11 | 0.00 | 0.11 | |
| pedigreePairwiseRelatedness | 0.07 | 0.00 | 0.08 | |
| plinkUtils | 3.53 | 0.00 | 3.76 | |
| pseudoautoIntensityPlot | 0.11 | 0.00 | 0.10 | |
| pseudoautosomal | 0.00 | 0.02 | 0.02 | |
| qqPlot | 0.14 | 0.00 | 0.14 | |
| qualityScoreByScan | 0.22 | 0.01 | 0.23 | |
| qualityScoreBySnp | 0.03 | 0.02 | 0.05 | |
| readWriteFirst | 0 | 0 | 0 | |
| relationsMeanVar | 0.00 | 0.01 | 0.02 | |
| saveas | 0 | 0 | 0 | |
| setMissingGenotypes | 0.06 | 0.00 | 0.06 | |
| simulateGenotypeMatrix | 0.78 | 0.02 | 0.79 | |
| snpCorrelationPlot | 0.02 | 0.00 | 0.02 | |
| snpStats | 0.40 | 0.05 | 0.45 | |
| vcfWrite | 8.63 | 0.12 | 8.75 | |