| DESeq2 1.13.14 Michael Love
 
 | Snapshot Date: 2016-09-19 19:15:14 -0700 (Mon, 19 Sep 2016) |  | URL: https://hedgehog.fhcrc.org/bioconductor/trunk/madman/Rpacks/DESeq2 |  | Last Changed Rev: 120796 / Revision: 121152 |  | Last Changed Date: 2016-09-07 18:07:40 -0700 (Wed, 07 Sep 2016) | 
 | zin1 | Linux (Ubuntu 16.04 LTS) / x86_64 | OK | OK | OK |  |  | 
| moscato1 | Windows Server 2008 R2 Standard (64-bit) / x64 | OK | OK | OK | [ OK ] |  | 
| morelia | Mac OS X Mavericks (10.9.5) / x86_64 | OK | OK | OK | OK |  | 
##############################################################################
##############################################################################
###
### Running command:
###
###   cd DESeq2.buildbin-libdir/DESeq2 && zip -r ../../DESeq2_1.13.14.zip . & cd ../..
###
##############################################################################
##############################################################################
  adding: CITATION (188 bytes security) (deflated 56%)
  adding: DESCRIPTION (188 bytes security) (deflated 41%)
  adding: doc/ (208 bytes security) (stored 0%)
  adding: doc/DESeq2.pdf (188 bytes security) (deflated 23%)
  adding: doc/DESeq2.R (188 bytes security) (deflated 71%)
  adding: doc/DESeq2.Rnw (188 bytes security) (deflated 68%)
  adding: doc/index.html (188 bytes security) (deflated 57%)
  adding: help/ (208 bytes security) (stored 0%)
  adding: help/aliases.rds (188 bytes security) (stored 0%)
  adding: help/AnIndex (188 bytes security) (deflated 78%)
  adding: help/DESeq2.rdb (188 bytes security) (deflated 1%)
  adding: help/DESeq2.rdx (188 bytes security) (stored 0%)
  adding: help/paths.rds (188 bytes security) (stored 0%)
  adding: html/ (208 bytes security) (stored 0%)
  adding: html/00Index.html (188 bytes security) (deflated 84%)
  adding: html/R.css (188 bytes security) (deflated 75%)
  adding: INDEX (188 bytes security) (deflated 70%)
  adding: libs/ (208 bytes security) (stored 0%)
  adding: libs/i386/ (208 bytes security) (stored 0%)
  adding: libs/i386/DESeq2.dll (188 bytes security) (deflated 64%)
  adding: libs/x64/ (208 bytes security) (stored 0%)
  adding: libs/x64/DESeq2.dll (188 bytes security) (deflated 66%)
  adding: MD5 (188 bytes security) (deflated 44%)
  adding: Meta/ (208 bytes security) (stored 0%)
  adding: Meta/hsearch.rds (188 bytes security) (stored 0%)
  adding: Meta/links.rds (188 bytes security) (stored 0%)
  adding: Meta/nsInfo.rds (188 bytes security) (stored 0%)
  adding: Meta/package.rds (188 bytes security) (stored 0%)
  adding: Meta/Rd.rds (188 bytes security) (stored 0%)
  adding: Meta/vignette.rds (188 bytes security) (stored 0%)
  adding: NAMESPACE (188 bytes security) (deflated 73%)
  adding: NEWS (188 bytes security) (deflated 69%)
  adding: R/ (208 bytes security) (stored 0%)
  adding: R/DESeq2 (188 bytes security) (deflated 41%)
  adding: R/DESeq2.rdb (188 bytes security) (deflated 22%)
  adding: R/DESeq2.rdx (188 bytes security) (stored 0%)
  adding: script/ (208 bytes security) (stored 0%)
  adding: script/makeSim.R (188 bytes security) (deflated 40%)
  adding: script/runScripts.R (188 bytes security) (deflated 77%)
  adding: script/simulateCluster.R (188 bytes security) (deflated 60%)
  adding: script/simulateDE.R (188 bytes security) (deflated 59%)
  adding: script/simulateLFCAccuracy.R (188 bytes security) (deflated 63%)
  adding: script/simulateOutliers.R (188 bytes security) (deflated 69%)
  adding: script/simulation.pdf (188 bytes security) (deflated 8%)
  adding: script/simulation.Rmd (188 bytes security) (deflated 69%)
  adding: script/testsuite.Rmd (188 bytes security) (deflated 66%)
  adding: script/vst.nb (188 bytes security) (deflated 60%)
  adding: script/vst.pdf (188 bytes security) (deflated 3%)