| BgeeDB 1.0.3 Andrea Komljenovic  , Frederic Bastian
 
 | Snapshot Date: 2016-09-19 19:15:14 -0700 (Mon, 19 Sep 2016) |  | URL: https://hedgehog.fhcrc.org/bioconductor/trunk/madman/Rpacks/BgeeDB |  | Last Changed Rev: 120620 / Revision: 121152 |  | Last Changed Date: 2016-08-31 04:42:54 -0700 (Wed, 31 Aug 2016) | 
 | zin1 | Linux (Ubuntu 16.04 LTS) / x86_64 | OK | OK | OK |  |  | 
| moscato1 | Windows Server 2008 R2 Standard (64-bit) / x64 | [ OK ] | OK | OK | OK |  | 
| morelia | Mac OS X Mavericks (10.9.5) / x86_64 | OK | OK | OK | OK |  | 
##############################################################################
##############################################################################
###
### Running command:
###
###   rm -rf BgeeDB.buildbin-libdir && mkdir BgeeDB.buildbin-libdir  && C:\cygwin\bin\curl.exe -O http://zin1/BBS/3.4/bioc/src/contrib/BgeeDB_1.0.3.tar.gz && D:\biocbld\bbs-3.4-bioc\R\bin\R.exe CMD INSTALL --build --library=BgeeDB.buildbin-libdir --merge-multiarch BgeeDB_1.0.3.tar.gz && D:\biocbld\bbs-3.4-bioc\R\bin\R.exe CMD INSTALL BgeeDB_1.0.3.zip  && rm BgeeDB_1.0.3.tar.gz BgeeDB_1.0.3.zip
###
##############################################################################
##############################################################################
  % Total    % Received % Xferd  Average Speed   Time    Time     Time  Current
                                 Dload  Upload   Total   Spent    Left  Speed
  0     0    0     0    0     0      0      0 --:--:-- --:--:-- --:--:--     0
100 24723  100 24723    0     0  5319k      0 --:--:-- --:--:-- --:--:-- 23.5M
install for i386
* installing *source* package 'BgeeDB' ...
** R
** inst
** preparing package for lazy loading
groupGOTerms: 	GOBPTerm, GOMFTerm, GOCCTerm environments built.
** help
*** installing help indices
** building package indices
** installing vignettes
** testing if installed package can be loaded
groupGOTerms: 	GOBPTerm, GOMFTerm, GOCCTerm environments built.
install for x64
* installing *source* package 'BgeeDB' ...
** testing if installed package can be loaded
groupGOTerms: 	GOBPTerm, GOMFTerm, GOCCTerm environments built.
* MD5 sums
packaged installation of 'BgeeDB' as BgeeDB_1.0.3.zip
* DONE (BgeeDB)
* installing to library 'D:/biocbld/bbs-3.4-bioc/R/library'
package 'BgeeDB' successfully unpacked and MD5 sums checked