| ArrayExpress 1.33.0 Ugis Sarkans
 
 | Snapshot Date: 2016-09-19 19:15:14 -0700 (Mon, 19 Sep 2016) |  | URL: https://hedgehog.fhcrc.org/bioconductor/trunk/madman/Rpacks/ArrayExpress |  | Last Changed Rev: 117081 / Revision: 121152 |  | Last Changed Date: 2016-05-03 14:30:44 -0700 (Tue, 03 May 2016) | 
 | zin1 | Linux (Ubuntu 16.04 LTS) / x86_64 | OK | OK | OK |  |  | 
| moscato1 | Windows Server 2008 R2 Standard (64-bit) / x64 | OK | OK | OK | [ OK ] |  | 
| morelia | Mac OS X Mavericks (10.9.5) / x86_64 | OK | OK | OK | OK |  | 
##############################################################################
##############################################################################
###
### Running command:
###
###   cd ArrayExpress.buildbin-libdir/ArrayExpress && zip -r ../../ArrayExpress_1.33.0.zip . & cd ../..
###
##############################################################################
##############################################################################
  adding: CITATION (188 bytes security) (deflated 44%)
  adding: DESCRIPTION (188 bytes security) (deflated 42%)
  adding: doc/ (208 bytes security) (stored 0%)
  adding: doc/ArrayExpress.pdf (188 bytes security) (deflated 5%)
  adding: doc/ArrayExpress.R (188 bytes security) (deflated 75%)
  adding: doc/ArrayExpress.Rnw (188 bytes security) (deflated 65%)
  adding: doc/index.html (188 bytes security) (deflated 59%)
  adding: help/ (208 bytes security) (stored 0%)
  adding: help/aliases.rds (188 bytes security) (stored 0%)
  adding: help/AnIndex (188 bytes security) (deflated 42%)
  adding: help/ArrayExpress.rdb (188 bytes security) (deflated 1%)
  adding: help/ArrayExpress.rdx (188 bytes security) (stored 0%)
  adding: help/paths.rds (188 bytes security) (stored 0%)
  adding: html/ (208 bytes security) (stored 0%)
  adding: html/00Index.html (188 bytes security) (deflated 63%)
  adding: html/R.css (188 bytes security) (deflated 75%)
  adding: INDEX (188 bytes security) (deflated 66%)
  adding: MD5 (188 bytes security) (deflated 43%)
  adding: Meta/ (208 bytes security) (stored 0%)
  adding: Meta/hsearch.rds (188 bytes security) (stored 0%)
  adding: Meta/links.rds (188 bytes security) (stored 0%)
  adding: Meta/nsInfo.rds (188 bytes security) (stored 0%)
  adding: Meta/package.rds (188 bytes security) (stored 0%)
  adding: Meta/Rd.rds (188 bytes security) (stored 0%)
  adding: Meta/vignette.rds (188 bytes security) (stored 0%)
  adding: NAMESPACE (188 bytes security) (deflated 62%)
  adding: R/ (208 bytes security) (stored 0%)
  adding: R/ArrayExpress (188 bytes security) (deflated 41%)
  adding: R/ArrayExpress.rdb (188 bytes security) (deflated 1%)
  adding: R/ArrayExpress.rdx (188 bytes security) (stored 0%)