| hmyriB36 1.8.0 Vincent Carey
 
 | Snapshot Date: 2016-10-08 07:15:25 -0700 (Sat, 08 Oct 2016) |  | URL: https://hedgehog.fhcrc.org/bioc-data/branches/RELEASE_3_3/experiment/pkgs/hmyriB36 |  | Last Changed Rev: 3760 / Revision: 3935 |  | Last Changed Date: 2016-05-03 14:35:06 -0700 (Tue, 03 May 2016) | 
 | zin2 | Linux (Ubuntu 14.04.2 LTS) / x86_64 | OK | OK | OK |  |  | 
| moscato2 | Windows Server 2008 R2 Enterprise SP1 (64-bit) / x64 | OK | OK | OK | [ OK ] |  | 
##############################################################################
##############################################################################
###
### Running command:
###
###   cd hmyriB36.buildbin-libdir/hmyriB36 && zip -r ../../hmyriB36_1.8.0.zip . & cd ../..
###
##############################################################################
##############################################################################
  adding: data/ (256 bytes security) (stored 0%)
  adding: data/datalist (188 bytes security) (stored 0%)
  adding: data/eset.rda (188 bytes security) (deflated 0%)
  adding: DESCRIPTION (188 bytes security) (deflated 38%)
  adding: help/ (256 bytes security) (stored 0%)
  adding: help/aliases.rds (188 bytes security) (stored 0%)
  adding: help/AnIndex (188 bytes security) (deflated 54%)
  adding: help/hmyriB36.rdb (188 bytes security) (stored 0%)
  adding: help/hmyriB36.rdx (188 bytes security) (stored 0%)
  adding: help/paths.rds (188 bytes security) (stored 0%)
  adding: html/ (256 bytes security) (stored 0%)
  adding: html/00Index.html (188 bytes security) (deflated 58%)
  adding: html/R.css (188 bytes security) (deflated 75%)
  adding: INDEX (188 bytes security) (deflated 34%)
  adding: MD5 (188 bytes security) (deflated 46%)
  adding: Meta/ (256 bytes security) (stored 0%)
  adding: Meta/data.rds (188 bytes security) (stored 0%)
  adding: Meta/hsearch.rds (188 bytes security) (stored 0%)
  adding: Meta/links.rds (188 bytes security) (stored 0%)
  adding: Meta/nsInfo.rds (188 bytes security) (stored 0%)
  adding: Meta/package.rds (188 bytes security) (stored 0%)
  adding: Meta/Rd.rds (188 bytes security) (stored 0%)
  adding: NAMESPACE (188 bytes security) (deflated 4%)
  adding: parts/ (256 bytes security) (stored 0%)
  adding: parts/1.rda (188 bytes security) (deflated 0%)
  adding: parts/10.rda (188 bytes security) (deflated 0%)
  adding: parts/11.rda (188 bytes security) (deflated 0%)
  adding: parts/12.rda (188 bytes security) (deflated 0%)
  adding: parts/13.rda (188 bytes security) (deflated 0%)
  adding: parts/14.rda (188 bytes security) (deflated 0%)
  adding: parts/15.rda (188 bytes security) (deflated 0%)
  adding: parts/16.rda (188 bytes security) (deflated 0%)
  adding: parts/17.rda (188 bytes security) (deflated 0%)
  adding: parts/18.rda (188 bytes security) (deflated 0%)
  adding: parts/19.rda (188 bytes security) (deflated 0%)
  adding: parts/2.rda (188 bytes security) (deflated 0%)
  adding: parts/20.rda (188 bytes security) (deflated 0%)
  adding: parts/21.rda (188 bytes security) (deflated 0%)
  adding: parts/22.rda (188 bytes security) (deflated 0%)
  adding: parts/3.rda (188 bytes security) (deflated 0%)
  adding: parts/4.rda (188 bytes security) (deflated 0%)
  adding: parts/5.rda (188 bytes security) (deflated 0%)
  adding: parts/6.rda (188 bytes security) (deflated 0%)
  adding: parts/7.rda (188 bytes security) (deflated 0%)
  adding: parts/8.rda (188 bytes security) (deflated 0%)
  adding: parts/9.rda (188 bytes security) (deflated 0%)
  adding: parts/X.rda (188 bytes security) (deflated 0%)
  adding: parts/Y.rda (188 bytes security) (stored 0%)
  adding: R/ (256 bytes security) (stored 0%)
  adding: R/hmyriB36 (188 bytes security) (deflated 41%)
  adding: R/hmyriB36.rdb (188 bytes security) (deflated 8%)
  adding: R/hmyriB36.rdx (188 bytes security) (stored 0%)