| h5vcData 1.106.0 Paul Theodor Pyl
 
 | Snapshot Date: 2016-10-08 07:15:25 -0700 (Sat, 08 Oct 2016) |  | URL: https://hedgehog.fhcrc.org/bioc-data/branches/RELEASE_3_3/experiment/pkgs/h5vcData |  | Last Changed Rev: 3760 / Revision: 3935 |  | Last Changed Date: 2016-05-03 14:35:06 -0700 (Tue, 03 May 2016) | 
 | zin2 | Linux (Ubuntu 14.04.2 LTS) / x86_64 | OK | OK | OK |  |  | 
| moscato2 | Windows Server 2008 R2 Enterprise SP1 (64-bit) / x64 | OK | OK | OK | [ OK ] |  | 
##############################################################################
##############################################################################
###
### Running command:
###
###   cd h5vcData.buildbin-libdir/h5vcData && zip -r ../../h5vcData_1.106.0.zip . & cd ../..
###
##############################################################################
##############################################################################
Scanning files 
  adding: data/ (256 bytes security) (stored 0%)
  adding: data/example.variants.rda (188 bytes security) (stored 0%)
  adding: DESCRIPTION (188 bytes security) (deflated 34%)
  adding: extdata/ (256 bytes security) (stored 0%)
  adding: extdata/dnmt3a.txt (188 bytes security) (deflated 91%)
  adding: extdata/example.tally.hfs5 (188 bytes security) (deflated 3%)
  adding: extdata/NRAS.AML.bam (188 bytes security) (deflated 0%)
  adding: extdata/NRAS.AML.bam.bai (188 bytes security) (deflated 100%)
  adding: extdata/NRAS.Control.bam (188 bytes security) (deflated 0%)
  adding: extdata/NRAS.Control.bam.bai (188 bytes security) (deflated 100%)
  adding: extdata/Pt10Cancer.bam (188 bytes security) (deflated 0%)
  adding: extdata/Pt10Cancer.bam.bai (188 bytes security) (deflated 98%)
  adding: extdata/Pt10Control.bam (188 bytes security) (deflated 0%)
  adding: extdata/Pt10Control.bam.bai (188 bytes security) (deflated 98%)
  adding: extdata/Pt17Cancer.bam (188 bytes security) (deflated 0%)
  adding: extdata/Pt17Cancer.bam.bai (188 bytes security) (deflated 98%)
  adding: extdata/Pt17Control.bam (188 bytes security) (deflated 0%)
  adding: extdata/Pt17Control.bam.bai (188 bytes security) (deflated 98%)
  adding: extdata/Pt18Cancer.bam (188 bytes security) (deflated 0%)
  adding: extdata/Pt18Cancer.bam.bai (188 bytes security) (deflated 98%)
  adding: extdata/Pt18Control.bam (188 bytes security) (deflated 0%)
  adding: extdata/Pt18Control.bam.bai (188 bytes security) (deflated 98%)
  adding: extdata/Pt20Cancer.bam (188 bytes security) (deflated 0%)
  adding: extdata/Pt20Cancer.bam.bai (188 bytes security) (deflated 98%)
  adding: extdata/Pt20Control.bam (188 bytes security) (deflated 0%)
  adding: extdata/Pt20Control.bam.bai (188 bytes security) (deflated 98%)
  adding: extdata/Pt23Cancer.bam (188 bytes security) (deflated 0%)
  adding: extdata/Pt23Cancer.bam.bai (188 bytes security) (deflated 98%)
  adding: extdata/Pt23Control.bam (188 bytes security) (deflated 0%)
  adding: extdata/Pt23Control.bam.bai (188 bytes security) (deflated 98%)
  adding: extdata/Pt25Cancer.bam (188 bytes security) (deflated 0%)
  adding: extdata/Pt25Cancer.bam.bai (188 bytes security) (deflated 98%)
  adding: extdata/Pt25Control.bam (188 bytes security) (deflated 0%)
  adding: extdata/Pt25Control.bam.bai (188 bytes security) (deflated 99%)
  adding: help/ (256 bytes security) (stored 0%)
  adding: help/aliases.rds (188 bytes security) (stored 0%)
  adding: help/AnIndex (188 bytes security) (deflated 55%)
  adding: help/h5vcData.rdb (188 bytes security) (stored 0%)
  adding: help/h5vcData.rdx (188 bytes security) (stored 0%)
  adding: help/paths.rds (188 bytes security) (stored 0%)
  adding: html/ (256 bytes security) (stored 0%)
  adding: html/00Index.html (188 bytes security) (deflated 58%)
  adding: html/R.css (188 bytes security) (deflated 75%)
  adding: INDEX (188 bytes security) (deflated 18%)
  adding: MD5 (188 bytes security) (deflated 52%)
  adding: Meta/ (256 bytes security) (stored 0%)
  adding: Meta/data.rds (188 bytes security) (stored 0%)
  adding: Meta/hsearch.rds (188 bytes security) (stored 0%)
  adding: Meta/links.rds (188 bytes security) (stored 0%)
  adding: Meta/nsInfo.rds (188 bytes security) (stored 0%)
  adding: Meta/package.rds (188 bytes security) (stored 0%)
  adding: Meta/Rd.rds (188 bytes security) (stored 0%)
  adding: NAMESPACE (188 bytes security) (stored 0%)
  adding: R/ (256 bytes security) (stored 0%)
  adding: R/h5vcData (188 bytes security) (deflated 41%)
  adding: R/h5vcData.rdb (188 bytes security) (deflated 30%)
  adding: R/h5vcData.rdx (188 bytes security) (stored 0%)