| geuvPack 1.4.0 VJ Carey
 
 | Snapshot Date: 2016-10-08 07:15:25 -0700 (Sat, 08 Oct 2016) |  | URL: https://hedgehog.fhcrc.org/bioc-data/branches/RELEASE_3_3/experiment/pkgs/geuvPack |  | Last Changed Rev: 3760 / Revision: 3935 |  | Last Changed Date: 2016-05-03 14:35:06 -0700 (Tue, 03 May 2016) | 
 | zin2 | Linux (Ubuntu 14.04.2 LTS) / x86_64 | OK | OK | WARNINGS |  |  | 
| moscato2 | Windows Server 2008 R2 Enterprise SP1 (64-bit) / x64 | OK | OK | WARNINGS | [ OK ] |  | 
##############################################################################
##############################################################################
###
### Running command:
###
###   cd geuvPack.buildbin-libdir/geuvPack && zip -r ../../geuvPack_1.4.0.zip . & cd ../..
###
##############################################################################
##############################################################################
  adding: data/ (256 bytes security) (stored 0%)
  adding: data/datalist (188 bytes security) (deflated 16%)
  adding: data/gencodeV12.rda (188 bytes security) (deflated 5%)
  adding: data/gencodeV12GR.rda (188 bytes security) (deflated 3%)
  adding: data/geuFPKM.rda (188 bytes security) (deflated 0%)
  adding: data/gs2p.rda (188 bytes security) (deflated 0%)
  adding: data/hasout.rda (188 bytes security) (stored 0%)
  adding: data/protco.rda (188 bytes security) (deflated 0%)
  adding: DESCRIPTION (188 bytes security) (deflated 36%)
  adding: help/ (256 bytes security) (stored 0%)
  adding: help/aliases.rds (188 bytes security) (stored 0%)
  adding: help/AnIndex (188 bytes security) (deflated 57%)
  adding: help/geuvPack.rdb (188 bytes security) (stored 0%)
  adding: help/geuvPack.rdx (188 bytes security) (stored 0%)
  adding: help/paths.rds (188 bytes security) (stored 0%)
  adding: html/ (256 bytes security) (stored 0%)
  adding: html/00Index.html (188 bytes security) (deflated 70%)
  adding: html/R.css (188 bytes security) (deflated 75%)
  adding: INDEX (188 bytes security) (deflated 47%)
  adding: MD5 (188 bytes security) (deflated 42%)
  adding: Meta/ (256 bytes security) (stored 0%)
  adding: Meta/data.rds (188 bytes security) (stored 0%)
  adding: Meta/hsearch.rds (188 bytes security) (stored 0%)
  adding: Meta/links.rds (188 bytes security) (stored 0%)
  adding: Meta/nsInfo.rds (188 bytes security) (stored 0%)
  adding: Meta/package.rds (188 bytes security) (stored 0%)
  adding: Meta/Rd.rds (188 bytes security) (stored 0%)
  adding: NAMESPACE (188 bytes security) (stored 0%)
  adding: R/ (256 bytes security) (stored 0%)
  adding: R/geuvPack (188 bytes security) (deflated 41%)
  adding: R/geuvPack.rdb (188 bytes security) (deflated 6%)
  adding: R/geuvPack.rdx (188 bytes security) (stored 0%)