| cheung2010 0.10.0 Vince Carey
 
 | Snapshot Date: 2016-10-08 07:15:25 -0700 (Sat, 08 Oct 2016) |  | URL: https://hedgehog.fhcrc.org/bioc-data/branches/RELEASE_3_3/experiment/pkgs/cheung2010 |  | Last Changed Rev: 3760 / Revision: 3935 |  | Last Changed Date: 2016-05-03 14:35:06 -0700 (Tue, 03 May 2016) | 
 | zin2 | Linux (Ubuntu 14.04.2 LTS) / x86_64 | OK | OK | OK |  |  | 
| moscato2 | Windows Server 2008 R2 Enterprise SP1 (64-bit) / x64 | OK | OK | OK | [ OK ] |  | 
##############################################################################
##############################################################################
###
### Running command:
###
###   cd cheung2010.buildbin-libdir/cheung2010 && zip -r ../../cheung2010_0.10.0.zip . & cd ../..
###
##############################################################################
##############################################################################
  adding: data/ (256 bytes security) (stored 0%)
  adding: data/cheung2010locs.rda (188 bytes security) (deflated 0%)
  adding: data/cheung_eset.rda (188 bytes security) (deflated 0%)
  adding: data/cheung_eset_notrunc.rda (188 bytes security) (deflated 0%)
  adding: data/datalist (188 bytes security) (deflated 25%)
  adding: data/eset.rda (188 bytes security) (deflated 0%)
  adding: DESCRIPTION (188 bytes security) (deflated 37%)
  adding: doc/ (256 bytes security) (stored 0%)
  adding: doc/cheungTrans.pdf (188 bytes security) (deflated 7%)
  adding: doc/cheungTrans.R (188 bytes security) (deflated 68%)
  adding: doc/cheungTrans.Rnw (188 bytes security) (deflated 64%)
  adding: doc/index.html (188 bytes security) (deflated 58%)
  adding: help/ (256 bytes security) (stored 0%)
  adding: help/aliases.rds (188 bytes security) (stored 0%)
  adding: help/AnIndex (188 bytes security) (deflated 68%)
  adding: help/cheung2010.rdb (188 bytes security) (stored 0%)
  adding: help/cheung2010.rdx (188 bytes security) (stored 0%)
  adding: help/paths.rds (188 bytes security) (stored 0%)
  adding: html/ (256 bytes security) (stored 0%)
  adding: html/00Index.html (188 bytes security) (deflated 69%)
  adding: html/R.css (188 bytes security) (deflated 75%)
  adding: INDEX (188 bytes security) (deflated 43%)
  adding: MD5 (188 bytes security) (deflated 48%)
  adding: Meta/ (256 bytes security) (stored 0%)
  adding: Meta/data.rds (188 bytes security) (stored 0%)
  adding: Meta/hsearch.rds (188 bytes security) (stored 0%)
  adding: Meta/links.rds (188 bytes security) (stored 0%)
  adding: Meta/nsInfo.rds (188 bytes security) (stored 0%)
  adding: Meta/package.rds (188 bytes security) (stored 0%)
  adding: Meta/Rd.rds (188 bytes security) (stored 0%)
  adding: Meta/vignette.rds (188 bytes security) (stored 0%)
  adding: NAMESPACE (188 bytes security) (deflated 17%)
  adding: parts/ (256 bytes security) (stored 0%)
  adding: parts/chr1.rda (188 bytes security) (deflated 0%)
  adding: parts/chr10.rda (188 bytes security) (deflated 0%)
  adding: parts/chr11.rda (188 bytes security) (deflated 0%)
  adding: parts/chr12.rda (188 bytes security) (deflated 0%)
  adding: parts/chr13.rda (188 bytes security) (deflated 0%)
  adding: parts/chr14.rda (188 bytes security) (deflated 0%)
  adding: parts/chr15.rda (188 bytes security) (deflated 0%)
  adding: parts/chr16.rda (188 bytes security) (deflated 0%)
  adding: parts/chr17.rda (188 bytes security) (deflated 0%)
  adding: parts/chr18.rda (188 bytes security) (deflated 0%)
  adding: parts/chr19.rda (188 bytes security) (deflated 0%)
  adding: parts/chr2.rda (188 bytes security) (deflated 0%)
  adding: parts/chr20.rda (188 bytes security) (deflated 0%)
  adding: parts/chr21.rda (188 bytes security) (deflated 0%)
  adding: parts/chr22.rda (188 bytes security) (deflated 0%)
  adding: parts/chr3.rda (188 bytes security) (deflated 0%)
  adding: parts/chr4.rda (188 bytes security) (deflated 0%)
  adding: parts/chr5.rda (188 bytes security) (deflated 0%)
  adding: parts/chr6.rda (188 bytes security) (deflated 0%)
  adding: parts/chr7.rda (188 bytes security) (deflated 0%)
  adding: parts/chr8.rda (188 bytes security) (deflated 0%)
  adding: parts/chr9.rda (188 bytes security) (deflated 0%)
  adding: R/ (256 bytes security) (stored 0%)
  adding: R/cheung2010 (188 bytes security) (deflated 41%)
  adding: R/cheung2010.rdb (188 bytes security) (deflated 16%)
  adding: R/cheung2010.rdx (188 bytes security) (stored 0%)
  adding: rmaexprs/ (256 bytes security) (stored 0%)
  adding: rmaexprs/eset.rda (188 bytes security) (deflated 0%)
  adding: scripts/ (256 bytes security) (stored 0%)
  adding: scripts/tr1.R (188 bytes security) (deflated 54%)