SNAGEEdata 1.7.0 David Venet
 | Snapshot Date: 2015-10-24 10:15:05 -0400 (Sat, 24 Oct 2015) |  | URL: https://hedgehog.fhcrc.org/bioc-data/trunk/experiment/pkgs/SNAGEEdata |  | Last Changed Rev: 3462 / Revision: 3473 |  | Last Changed Date: 2015-10-13 16:20:35 -0400 (Tue, 13 Oct 2015) |  
  | linux2.bioconductor.org  | Linux (Ubuntu 14.04.2 LTS) / x86_64  |  OK  |  OK  |  OK  |  |   | 
| windows2.bioconductor.org  | Windows Server 2012 R2 Enterprise SP1 (64-bit) / x64  |  OK  |  OK  |  OK  | [ OK ] |  | 
| morelia  | Mac OS X Mavericks (10.9.5) / x86_64  |  OK  |  OK  |  OK  |  OK  |  | 
##############################################################################
##############################################################################
###
### Running command:
###
###   cd SNAGEEdata.buildbin-libdir/SNAGEEdata && zip -r ../../SNAGEEdata_1.7.0.zip . & cd ../..
###
##############################################################################
##############################################################################
  adding: DESCRIPTION (188 bytes security) (deflated 35%)
  adding: extdata/ (256 bytes security) (stored 0%)
  adding: extdata/ccComplete.RData (188 bytes security) (deflated 0%)
  adding: extdata/ccWoAffy.RData (188 bytes security) (deflated 0%)
  adding: extdata/geneList.RData (188 bytes security) (deflated 0%)
  adding: help/ (256 bytes security) (stored 0%)
  adding: help/aliases.rds (188 bytes security) (stored 0%)
  adding: help/AnIndex (188 bytes security) (deflated 52%)
  adding: help/paths.rds (188 bytes security) (stored 0%)
  adding: help/SNAGEEdata.rdb (188 bytes security) (stored 0%)
  adding: help/SNAGEEdata.rdx (188 bytes security) (stored 0%)
  adding: html/ (256 bytes security) (stored 0%)
  adding: html/00Index.html (188 bytes security) (deflated 55%)
  adding: html/R.css (188 bytes security) (deflated 75%)
  adding: INDEX (188 bytes security) (deflated 29%)
  adding: MD5 (188 bytes security) (deflated 41%)
  adding: Meta/ (256 bytes security) (stored 0%)
  adding: Meta/hsearch.rds (188 bytes security) (stored 0%)
  adding: Meta/links.rds (188 bytes security) (stored 0%)
  adding: Meta/nsInfo.rds (188 bytes security) (stored 0%)
  adding: Meta/package.rds (188 bytes security) (stored 0%)
  adding: Meta/Rd.rds (188 bytes security) (stored 0%)
  adding: NAMESPACE (188 bytes security) (stored 0%)
  adding: R/ (256 bytes security) (stored 0%)
  adding: R/SNAGEEdata (188 bytes security) (deflated 41%)
  adding: R/SNAGEEdata.rdb (188 bytes security) (deflated 20%)
  adding: R/SNAGEEdata.rdx (188 bytes security) (stored 0%)