| SNAGEEdata 1.8.0 David Venet
 
 | Snapshot Date: 2016-10-08 07:15:25 -0700 (Sat, 08 Oct 2016) |  | URL: https://hedgehog.fhcrc.org/bioc-data/branches/RELEASE_3_3/experiment/pkgs/SNAGEEdata |  | Last Changed Rev: 3760 / Revision: 3935 |  | Last Changed Date: 2016-05-03 14:35:06 -0700 (Tue, 03 May 2016) | 
 | zin2 | Linux (Ubuntu 14.04.2 LTS) / x86_64 | OK | OK | OK |  |  | 
| moscato2 | Windows Server 2008 R2 Enterprise SP1 (64-bit) / x64 | OK | OK | OK | [ OK ] |  | 
##############################################################################
##############################################################################
###
### Running command:
###
###   cd SNAGEEdata.buildbin-libdir/SNAGEEdata && zip -r ../../SNAGEEdata_1.8.0.zip . & cd ../..
###
##############################################################################
##############################################################################
Scanning files 
  adding: DESCRIPTION (188 bytes security) (deflated 35%)
  adding: extdata/ (256 bytes security) (stored 0%)
  adding: extdata/ccComplete.RData (188 bytes security) (deflated 0%)
  adding: extdata/ccWoAffy.RData (188 bytes security) (deflated 0%)
  adding: extdata/geneList.RData (188 bytes security) (deflated 0%)
  adding: help/ (256 bytes security) (stored 0%)
  adding: help/aliases.rds (188 bytes security) (stored 0%)
  adding: help/AnIndex (188 bytes security) (deflated 52%)
  adding: help/paths.rds (188 bytes security) (stored 0%)
  adding: help/SNAGEEdata.rdb (188 bytes security) (stored 0%)
  adding: help/SNAGEEdata.rdx (188 bytes security) (stored 0%)
  adding: html/ (256 bytes security) (stored 0%)
  adding: html/00Index.html (188 bytes security) (deflated 55%)
  adding: html/R.css (188 bytes security) (deflated 75%)
  adding: INDEX (188 bytes security) (deflated 29%)
  adding: MD5 (188 bytes security) (deflated 41%)
  adding: Meta/ (256 bytes security) (stored 0%)
  adding: Meta/hsearch.rds (188 bytes security) (stored 0%)
  adding: Meta/links.rds (188 bytes security) (stored 0%)
  adding: Meta/nsInfo.rds (188 bytes security) (stored 0%)
  adding: Meta/package.rds (188 bytes security) (stored 0%)
  adding: Meta/Rd.rds (188 bytes security) (stored 0%)
  adding: NAMESPACE (188 bytes security) (stored 0%)
  adding: R/ (256 bytes security) (stored 0%)
  adding: R/SNAGEEdata (188 bytes security) (deflated 41%)
  adding: R/SNAGEEdata.rdb (188 bytes security) (deflated 20%)
  adding: R/SNAGEEdata.rdx (188 bytes security) (stored 0%)