| Fletcher2013a 1.8.0 Mauro Castro
 
 | Snapshot Date: 2016-10-08 07:15:25 -0700 (Sat, 08 Oct 2016) |  | URL: https://hedgehog.fhcrc.org/bioc-data/branches/RELEASE_3_3/experiment/pkgs/Fletcher2013a |  | Last Changed Rev: 3760 / Revision: 3935 |  | Last Changed Date: 2016-05-03 14:35:06 -0700 (Tue, 03 May 2016) | 
 | zin2 | Linux (Ubuntu 14.04.2 LTS) / x86_64 | OK | OK | OK |  |  | 
| moscato2 | Windows Server 2008 R2 Enterprise SP1 (64-bit) / x64 | OK | OK | OK | [ OK ] |  | 
##############################################################################
##############################################################################
###
### Running command:
###
###   cd Fletcher2013a.buildbin-libdir/Fletcher2013a && zip -r ../../Fletcher2013a_1.8.0.zip . & cd ../..
###
##############################################################################
##############################################################################
  adding: CITATION (188 bytes security) (deflated 48%)
  adding: data/ (256 bytes security) (stored 0%)
  adding: data/datalist (188 bytes security) (deflated 36%)
  adding: data/Exp1.rda (188 bytes security) (deflated 0%)
  adding: data/Exp1limma.rda (188 bytes security) (deflated 0%)
  adding: data/Exp2.rda (188 bytes security) (deflated 0%)
  adding: data/Exp2limma.rda (188 bytes security) (deflated 0%)
  adding: data/Exp3.rda (188 bytes security) (deflated 0%)
  adding: data/Exp3limma.rda (188 bytes security) (deflated 0%)
  adding: data/IL8vld.RData (188 bytes security) (stored 0%)
  adding: data/siESR1.rda (188 bytes security) (deflated 0%)
  adding: data/siESR1limma.rda (188 bytes security) (deflated 1%)
  adding: data/siOTHERS.rda (188 bytes security) (deflated 0%)
  adding: data/siOTHERSlimma.rda (188 bytes security) (deflated 0%)
  adding: DESCRIPTION (188 bytes security) (deflated 41%)
  adding: doc/ (256 bytes security) (stored 0%)
  adding: doc/Fletcher2013a.pdf (188 bytes security) (deflated 7%)
  adding: doc/Fletcher2013a.R (188 bytes security) (deflated 76%)
  adding: doc/Fletcher2013a.Rnw (188 bytes security) (deflated 67%)
  adding: doc/index.html (188 bytes security) (deflated 60%)
  adding: help/ (256 bytes security) (stored 0%)
  adding: help/aliases.rds (188 bytes security) (stored 0%)
  adding: help/AnIndex (188 bytes security) (deflated 69%)
  adding: help/Fletcher2013a.rdb (188 bytes security) (deflated 1%)
  adding: help/Fletcher2013a.rdx (188 bytes security) (stored 0%)
  adding: help/paths.rds (188 bytes security) (stored 0%)
  adding: html/ (256 bytes security) (stored 0%)
  adding: html/00Index.html (188 bytes security) (deflated 74%)
  adding: html/R.css (188 bytes security) (deflated 75%)
  adding: INDEX (188 bytes security) (deflated 58%)
  adding: MD5 (188 bytes security) (deflated 46%)
  adding: Meta/ (256 bytes security) (stored 0%)
  adding: Meta/data.rds (188 bytes security) (stored 0%)
  adding: Meta/hsearch.rds (188 bytes security) (stored 0%)
  adding: Meta/links.rds (188 bytes security) (stored 0%)
  adding: Meta/nsInfo.rds (188 bytes security) (stored 0%)
  adding: Meta/package.rds (188 bytes security) (stored 0%)
  adding: Meta/Rd.rds (188 bytes security) (stored 0%)
  adding: Meta/vignette.rds (188 bytes security) (stored 0%)
  adding: NAMESPACE (188 bytes security) (deflated 48%)
  adding: R/ (256 bytes security) (stored 0%)
  adding: R/Fletcher2013a (188 bytes security) (deflated 41%)
  adding: R/Fletcher2013a.rdb (188 bytes security) (deflated 1%)
  adding: R/Fletcher2013a.rdx (188 bytes security) (stored 0%)